BEGIN:VCALENDAR
VERSION:2.0
PRODID:-//Rink 50 - Skateland Mesa - ECPv6.15.20//NONSGML v1.0//EN
CALSCALE:GREGORIAN
METHOD:PUBLISH
X-ORIGINAL-URL:https://www.unitedskates.com/skateland-mesa
X-WR-CALDESC:Events for Rink 50 - Skateland Mesa
REFRESH-INTERVAL;VALUE=DURATION:PT1H
X-Robots-Tag:noindex
X-PUBLISHED-TTL:PT1H
BEGIN:VTIMEZONE
TZID:America/Phoenix
BEGIN:STANDARD
TZOFFSETFROM:-0700
TZOFFSETTO:-0700
TZNAME:MST
DTSTART:20250101T000000
END:STANDARD
END:VTIMEZONE
BEGIN:VEVENT
DTSTART;TZID=America/Phoenix:20260313T140000
DTEND;TZID=America/Phoenix:20260322T210000
DTSTAMP:20260419T081925
CREATED:20260305T115954Z
LAST-MODIFIED:20260305T115954Z
UID:27657-1773410400-1774213200@www.unitedskates.com
SUMMARY:Spring Break Skate Schedule | March 13 – March 22
DESCRIPTION:Looking for fun Spring Break activities for kids in Mesa? Join us at Skateland Mesa for a full lineup of family-friendly skating sessions\, themed events\, glow skates\, and special activities happening all week long. Roller skating is a great way for kids and families to stay active and have fun while school is out. Check the full Spring Break schedule below and grab your tickets online to plan your visit! 🛼
URL:https://www.unitedskates.com/skateland-mesa/event/spring-break-skate-schedule-march-13-march-22/
LOCATION:Skateland Mesa\, 7 E. Southern Ave.\, Mesa\, AZ\, 85210\, United States
CATEGORIES:Adult Events,Family Events,Public Skates,Special Events
ATTACH;FMTTYPE=image/jpeg:https://unitedskates-assets.sfo3.digitaloceanspaces.com/wp-content/uploads/sites/20/2026/02/50-Spring-Break-2026-front.jpg
END:VEVENT
BEGIN:VEVENT
DTSTART;TZID=America/Phoenix:20260314T213000
DTEND;TZID=America/Phoenix:20260315T003000
DTSTAMP:20260419T081925
CREATED:20260105T014901Z
LAST-MODIFIED:20260105T022358Z
UID:26033-1773523800-1773534600@www.unitedskates.com
SUMMARY:Adult Skate Night
DESCRIPTION:Adult Skate Night at USA’s Skateland Mesa is calling all 18+! \nGrab your ID and join the grown-up party on the 1st & 3rd Fridays + 2nd & 4th Saturdays every month! 🎉 \n3rd Fridays= FlashBack Fridays with Dj Cherise! \nLights low\, neon high—skate from 9:30 PM to 12:30 AM to today’s hottest bangers \nOnly $14 admission (skate rental just $5 extra) 💸 \nRock your favorite squad gear\, munch on yummy food (pizza + Coke combo = chef’s kiss 🍕🥤)\, and own the floor—no kids\, all fun! 🚫👶❤️ \nThe perfect late-night grown-up escape! 🌙🛼 \n**NO Outside Food or Drinks** \nWristguards are NOT Mandatory.
URL:https://www.unitedskates.com/skateland-mesa/event/adult-skate-night-2-2026-03-14/
LOCATION:AZ
CATEGORIES:Adult Events,Public Skates
ATTACH;FMTTYPE=image/png:https://unitedskates-assets.sfo3.digitaloceanspaces.com/wp-content/uploads/sites/20/2026/01/Friday-and-Saturday-Adult-Skate-Night.png
END:VEVENT
BEGIN:VEVENT
DTSTART;TZID=America/Phoenix:20260314T213000
DTEND;TZID=America/Phoenix:20260315T003000
DTSTAMP:20260419T081925
CREATED:20260128T202949Z
LAST-MODIFIED:20260201T022952Z
UID:27202-1773523800-1773534600@www.unitedskates.com
SUMMARY:Spring Adult Skate
DESCRIPTION:👉 Lace up\, bring your crew\, and let’s roll into spring together 🌸🛼✨ \n🛼 Adults Only • 🎶 Best Music • 🌼 Spring Vibes \n🛼 Roll into spring during an adults-only skate night made just for grown skaters. \n🎶 Vibe all night to only the best music\, perfect for cruising\, dancing\, and showing off your moves. \n👯‍♀️ Bring your crew and enjoy a late-night skate session with nonstop energy. \n🌸 Soak up bright spring vibes in a fun\, colorful rink atmosphere. \n A perfect night out with friends\, date night\, or stress-free weekend fun. \n💲 $14 admission | $5 skate rental for an affordable night of fun. \n🔞 Adults only (18+) so you can skate\, relax\, and vibe your way. Must Show ID for Entry! \nBuy Your Tickets Online NOW ! \n**NO Outside Food or Drinks**
URL:https://www.unitedskates.com/skateland-mesa/event/spring-adult-skate-2/
LOCATION:AZ
CATEGORIES:Adult Events,Public Skates,Special Events
ATTACH;FMTTYPE=image/png:https://unitedskates-assets.sfo3.digitaloceanspaces.com/wp-content/uploads/sites/20/2026/01/Spring-Adult-Skate.png
END:VEVENT
END:VCALENDAR