BEGIN:VCALENDAR
VERSION:2.0
PRODID:-//Rink 50 - Skateland Mesa - ECPv6.15.20//NONSGML v1.0//EN
CALSCALE:GREGORIAN
METHOD:PUBLISH
X-ORIGINAL-URL:https://www.unitedskates.com/skateland-mesa
X-WR-CALDESC:Events for Rink 50 - Skateland Mesa
REFRESH-INTERVAL;VALUE=DURATION:PT1H
X-Robots-Tag:noindex
X-PUBLISHED-TTL:PT1H
BEGIN:VTIMEZONE
TZID:America/Phoenix
BEGIN:STANDARD
TZOFFSETFROM:-0700
TZOFFSETTO:-0700
TZNAME:MST
DTSTART:20250101T000000
END:STANDARD
END:VTIMEZONE
BEGIN:VEVENT
DTSTART;TZID=America/Phoenix:20260215T213000
DTEND;TZID=America/Phoenix:20260216T003000
DTSTAMP:20260419T211855
CREATED:20260106T200719Z
LAST-MODIFIED:20260109T161017Z
UID:26846-1771191000-1771201800@www.unitedskates.com
SUMMARY:Red\, White\, & Blue Ladies Night
DESCRIPTION:Red\, White & Blue Ladies Adult Skate Night is calling all queens at USA’s Skateland Mesa! 🇺🇸🛼💃✨ \n 18+ ONLY (Must Show your ID Upon Entry!) \n$14 admission \nSkate rental $5 \nCelebrate the best female artists of today with killer music\, rink games\, music trivia\, great food\, and pure girl-power energy! 🎤🔥 \nSquad deal alert: \nBring yourself + your 3 best girlfriends for an epic group rate — 4 admissions + 4 skate rentals for only $60! 👯‍♀️💖 \nWear your favorite team colors\, jerseys\, or squad gear and own the floor! \nLadies night just got legendary—grab your crew and roll in style! 🇺🇸👑🛼🎉 \nBuy Your Tickets Online NOW ! \n**NO Outside Food or Drinks** \nWristguards are NOT Mandatory.
URL:https://www.unitedskates.com/skateland-mesa/event/red-white-blue-ladies-night/
LOCATION:AZ
CATEGORIES:Adult Events,Public Skates
ATTACH;FMTTYPE=image/png:https://unitedskates-assets.sfo3.digitaloceanspaces.com/wp-content/uploads/sites/20/2026/01/Ladies-adult-skate-2-15-26.png
END:VEVENT
END:VCALENDAR