BEGIN:VCALENDAR
VERSION:2.0
PRODID:-//Rink 50 - Skateland Mesa - ECPv6.15.20//NONSGML v1.0//EN
CALSCALE:GREGORIAN
METHOD:PUBLISH
X-ORIGINAL-URL:https://www.unitedskates.com/skateland-mesa
X-WR-CALDESC:Events for Rink 50 - Skateland Mesa
REFRESH-INTERVAL;VALUE=DURATION:PT1H
X-Robots-Tag:noindex
X-PUBLISHED-TTL:PT1H
BEGIN:VTIMEZONE
TZID:America/Phoenix
BEGIN:STANDARD
TZOFFSETFROM:-0700
TZOFFSETTO:-0700
TZNAME:MST
DTSTART:20250101T000000
END:STANDARD
END:VTIMEZONE
BEGIN:VEVENT
DTSTART;TZID=America/Phoenix:20260206T210000
DTEND;TZID=America/Phoenix:20260206T233000
DTSTAMP:20260419T213136
CREATED:20250926T223553Z
LAST-MODIFIED:20250926T223553Z
UID:24735-1770411600-1770420600@www.unitedskates.com
SUMMARY:Flashback Friday Adult Skate
DESCRIPTION:Every 1st and 3rd Friday of the Month! \n🎉🛼 Flashback Friday Adult Skate 🛼🎉 \nKick off your weekend with a night of nostalgia! Glide and groove to the best throwbacks from the ’90s and 2000s\, spinning around the rink to the hits that defined a generation. 🎶✨ \nBring your friends\, your moves\, and your love for all things retro — it’s a skating night where memories meet music and fun never goes out of style! 🌟💃 \n🎟 $14 Admission | $5 Skate Rental  \n**No Passes**
URL:https://www.unitedskates.com/skateland-mesa/event/flashback-friday-adult-skate-2-2026-02-06/
LOCATION:AZ
CATEGORIES:Adult Events,Public Skates
END:VEVENT
BEGIN:VEVENT
DTSTART;TZID=America/Phoenix:20260206T210000
DTEND;TZID=America/Phoenix:20260206T233000
DTSTAMP:20260419T213136
CREATED:20260121T211407Z
LAST-MODIFIED:20260123T205028Z
UID:27102-1770411600-1770420600@www.unitedskates.com
SUMMARY:Bad Bunny Adult Skate
DESCRIPTION:🔥🐰 BAD BUNNY ADULT SKATE 🛼🔥Tonight we’re turning the rink into a Latin club on wheels.Bad Bunny all night • 18+ vibes • lights low\, energy HIGHGrab your crew\, lace up\, and skate it like Un Verano Sin Ti. \n🎶 Bad Bunny + Reggaeton + Latin vibes🛼 Adults only (18+)✨ Late-night energy \n$14 Admission \n$5 Skate Rental \nBuy Your Tickets Online NOW ! \n**NO Outside Food or Drinks** \n**No Free Passes Allowed** \nWristguards are not required during adult (18+) sessions but are available Free of Charge. \nAll Sales are Final. Tax & Service fees are additional. \n 
URL:https://www.unitedskates.com/skateland-mesa/event/bad-bunny-adult-skate/
LOCATION:Skateland Mesa\, 7 E. Southern Ave.\, Mesa\, AZ\, 85210\, United States
CATEGORIES:Adult Events,Public Skates,Special Events
ATTACH;FMTTYPE=image/png:https://unitedskates-assets.sfo3.digitaloceanspaces.com/wp-content/uploads/sites/20/2026/01/Bad-Bunny-Skate-Party.png
END:VEVENT
BEGIN:VEVENT
DTSTART;TZID=America/Phoenix:20260206T213000
DTEND;TZID=America/Phoenix:20260207T003000
DTSTAMP:20260419T213136
CREATED:20260105T014901Z
LAST-MODIFIED:20260105T022356Z
UID:26028-1770413400-1770424200@www.unitedskates.com
SUMMARY:Adult Skate Night
DESCRIPTION:Adult Skate Night at USA’s Skateland Mesa is calling all 18+! \nGrab your ID and join the grown-up party on the 1st & 3rd Fridays + 2nd & 4th Saturdays every month! 🎉 \n3rd Fridays= FlashBack Fridays with Dj Cherise! \nLights low\, neon high—skate from 9:30 PM to 12:30 AM to today’s hottest bangers \nOnly $14 admission (skate rental just $5 extra) 💸 \nRock your favorite squad gear\, munch on yummy food (pizza + Coke combo = chef’s kiss 🍕🥤)\, and own the floor—no kids\, all fun! 🚫👶❤️ \nThe perfect late-night grown-up escape! 🌙🛼 \n**NO Outside Food or Drinks** \nWristguards are NOT Mandatory.
URL:https://www.unitedskates.com/skateland-mesa/event/adult-skate-night-2-2026-02-06/
LOCATION:AZ
CATEGORIES:Adult Events,Public Skates
ATTACH;FMTTYPE=image/png:https://unitedskates-assets.sfo3.digitaloceanspaces.com/wp-content/uploads/sites/20/2026/01/Friday-and-Saturday-Adult-Skate-Night.png
END:VEVENT
END:VCALENDAR