BEGIN:VCALENDAR
VERSION:2.0
PRODID:-//Rink 50 - Skateland Mesa - ECPv6.15.20//NONSGML v1.0//EN
CALSCALE:GREGORIAN
METHOD:PUBLISH
X-ORIGINAL-URL:https://www.unitedskates.com/skateland-mesa
X-WR-CALDESC:Events for Rink 50 - Skateland Mesa
REFRESH-INTERVAL;VALUE=DURATION:PT1H
X-Robots-Tag:noindex
X-PUBLISHED-TTL:PT1H
BEGIN:VTIMEZONE
TZID:America/Phoenix
BEGIN:STANDARD
TZOFFSETFROM:-0700
TZOFFSETTO:-0700
TZNAME:MST
DTSTART:20250101T000000
END:STANDARD
END:VTIMEZONE
BEGIN:VEVENT
DTSTART;TZID=America/Phoenix:20260116T213000
DTEND;TZID=America/Phoenix:20260117T003000
DTSTAMP:20260420T022237
CREATED:20260108T014647Z
LAST-MODIFIED:20260108T014647Z
UID:26967-1768599000-1768609800@www.unitedskates.com
SUMMARY:Adult Skate Night
DESCRIPTION:$14 admission \n18+ Only. Must Show ID For Entry. \n$5 Skate Rental \nWristguards are Mandatory. Free of Charge. NO Outside Food or Drinks.
URL:https://www.unitedskates.com/skateland-mesa/event/adult-skate-night-2/
LOCATION:AZ
CATEGORIES:Adult Events,Public Skates
ATTACH;FMTTYPE=image/png:https://unitedskates-assets.sfo3.digitaloceanspaces.com/wp-content/uploads/sites/20/2026/01/Friday-and-Saturday-Adult-Skate-Night.png
END:VEVENT
END:VCALENDAR