BEGIN:VCALENDAR
VERSION:2.0
PRODID:-//Rink 50 - Skateland Mesa - ECPv6.15.20//NONSGML v1.0//EN
CALSCALE:GREGORIAN
METHOD:PUBLISH
X-WR-CALNAME:Rink 50 - Skateland Mesa
X-ORIGINAL-URL:https://www.unitedskates.com/skateland-mesa
X-WR-CALDESC:Events for Rink 50 - Skateland Mesa
REFRESH-INTERVAL;VALUE=DURATION:PT1H
X-Robots-Tag:noindex
X-PUBLISHED-TTL:PT1H
BEGIN:VTIMEZONE
TZID:America/Phoenix
BEGIN:STANDARD
TZOFFSETFROM:-0700
TZOFFSETTO:-0700
TZNAME:MST
DTSTART:20250101T000000
END:STANDARD
END:VTIMEZONE
BEGIN:VEVENT
DTSTART;TZID=America/Phoenix:20260101T203000
DTEND;TZID=America/Phoenix:20260101T233000
DTSTAMP:20260419T210827
CREATED:20250110T221749Z
LAST-MODIFIED:20250110T221749Z
UID:26318-1767299400-1767310200@www.unitedskates.com
SUMMARY:Thursday Night Adult Skate
DESCRIPTION:Calling all adults! Come Join us for our every Thursday Adult night! \nDue to No Live Dj Until After Super Bowl Season. First 50 Admissions Get a BOGO Card To Cane’s! \nCome Roll with Us and Visit Cane’s After For a Late Night Snack! \n18+ Only. ID Must Be Shown. \n$14 admission \n$5 Skate Rental \n**No Outside Food or Drinks** \nWristguards are NOT Mandatory.
URL:https://www.unitedskates.com/skateland-mesa/event/thursday-night-adult-skate/2026-01-01/
LOCATION:AZ
CATEGORIES:Adult Events,Public Skates
ATTACH;FMTTYPE=image/png:https://unitedskates-assets.sfo3.digitaloceanspaces.com/wp-content/uploads/sites/20/2025/01/ADult-Skate-Night-1.png
END:VEVENT
BEGIN:VEVENT
DTSTART;TZID=America/Phoenix:20260101T210000
DTEND;TZID=America/Phoenix:20260101T233000
DTSTAMP:20260419T210827
CREATED:20251201T041233Z
LAST-MODIFIED:20251218T231216Z
UID:25450-1767301200-1767310200@www.unitedskates.com
SUMMARY:NEW YEAR’S DAY ADULT SKATE
DESCRIPTION:Recover from NYE\, then come turn UP on the rink! \n2026 starts HERE – pull up & let’s ride!! 🎉🛼✨ SEE YOU AT 9PM!!! \n🎧 Straight fire playlist: R&B\, Hip-Hop\, Throwbacks & the best skate jams \n🌙 Fresh-year energy\, grown & sexy vibes \n🥂 Perfect way to keep the New Year’s celebration rolling (no kids\, no drama\, just pure skating!) \n🎟️ ONLY $14 admission │ $5 skate rental \n🚨 18+ ONLY – valid ID required \nBuy Your Tickets Online NOW ! https://bzone.bookingzone.com/yeWPg3 \n**NO Outside Food or Drinks** \n***Wristguards are Mandatory. Free of Charge** \n 
URL:https://www.unitedskates.com/skateland-mesa/event/new-years-day-adult-skate/
LOCATION:AZ
CATEGORIES:Adult Events,Public Skates,Special Events
ATTACH;FMTTYPE=image/png:https://unitedskates-assets.sfo3.digitaloceanspaces.com/wp-content/uploads/sites/20/2025/11/New-Years-Adult-1-1-26.png
END:VEVENT
END:VCALENDAR