BEGIN:VCALENDAR
VERSION:2.0
PRODID:-//Rink 50 - Skateland Mesa - ECPv6.15.20//NONSGML v1.0//EN
CALSCALE:GREGORIAN
METHOD:PUBLISH
X-ORIGINAL-URL:https://www.unitedskates.com/skateland-mesa
X-WR-CALDESC:Events for Rink 50 - Skateland Mesa
REFRESH-INTERVAL;VALUE=DURATION:PT1H
X-Robots-Tag:noindex
X-PUBLISHED-TTL:PT1H
BEGIN:VTIMEZONE
TZID:America/Phoenix
BEGIN:STANDARD
TZOFFSETFROM:-0700
TZOFFSETTO:-0700
TZNAME:MST
DTSTART:20240101T000000
END:STANDARD
END:VTIMEZONE
BEGIN:VEVENT
DTSTART;TZID=America/Phoenix:20251228T210000
DTEND;TZID=America/Phoenix:20251228T230000
DTSTAMP:20260419T213127
CREATED:20251125T215917Z
LAST-MODIFIED:20251125T220316Z
UID:25401-1766955600-1766962800@www.unitedskates.com
SUMMARY:Holiday Hip Hop Adult Skate
DESCRIPTION:🎵 The HOTTEST hip-hop\, trap\, R&B & remixes – nonstop fire playlist! \n🌟 Full GLOW mode: blacklights + neon vibes \n💿 Perfect late-night hang for  young adults (18+ Must Show ID Upon Entry) \n🎉 End winter break with the ultimate Sunday night turn-up! \n$14 Admission \n$5 Skate Rental \n**NO Outside Food or Drinks \n 
URL:https://www.unitedskates.com/skateland-mesa/event/holiday-hip-hop-adult-skate/
LOCATION:AZ
CATEGORIES:Adult Events,Public Skates
ATTACH;FMTTYPE=image/png:https://unitedskates-assets.sfo3.digitaloceanspaces.com/wp-content/uploads/sites/20/2025/11/Holiday-Hip-Hop-122825.png
END:VEVENT
END:VCALENDAR