BEGIN:VCALENDAR
VERSION:2.0
PRODID:-//Rink 50 - Skateland Mesa - ECPv6.15.20//NONSGML v1.0//EN
CALSCALE:GREGORIAN
METHOD:PUBLISH
X-WR-CALNAME:Rink 50 - Skateland Mesa
X-ORIGINAL-URL:https://www.unitedskates.com/skateland-mesa
X-WR-CALDESC:Events for Rink 50 - Skateland Mesa
REFRESH-INTERVAL;VALUE=DURATION:PT1H
X-Robots-Tag:noindex
X-PUBLISHED-TTL:PT1H
BEGIN:VTIMEZONE
TZID:America/Phoenix
BEGIN:STANDARD
TZOFFSETFROM:-0700
TZOFFSETTO:-0700
TZNAME:MST
DTSTART:20240101T000000
END:STANDARD
END:VTIMEZONE
BEGIN:VEVENT
DTSTART;TZID=America/Phoenix:20251103T203000
DTEND;TZID=America/Phoenix:20251103T233000
DTSTAMP:20260420T035109
CREATED:20250407T213636Z
LAST-MODIFIED:20250407T213636Z
UID:23225-1762201800-1762212600@www.unitedskates.com
SUMMARY:1st Monday Adult Skate
DESCRIPTION:1st Monday Adult Skate with DJ Cherise! \n8:30-11:30\n$14 Admission\n$5 Skate Rental \n18+ only
URL:https://www.unitedskates.com/skateland-mesa/event/1st-monday-adult-skate/2025-11-03/
LOCATION:AZ
CATEGORIES:Adult Events
ATTACH;FMTTYPE=image/png:https://unitedskates-assets.sfo3.digitaloceanspaces.com/wp-content/uploads/sites/20/2025/01/ADult-Skate-Night-1.png
END:VEVENT
END:VCALENDAR