BEGIN:VCALENDAR
VERSION:2.0
PRODID:-//Rink 50 - Skateland Mesa - ECPv6.15.20//NONSGML v1.0//EN
CALSCALE:GREGORIAN
METHOD:PUBLISH
X-ORIGINAL-URL:https://www.unitedskates.com/skateland-mesa
X-WR-CALDESC:Events for Rink 50 - Skateland Mesa
REFRESH-INTERVAL;VALUE=DURATION:PT1H
X-Robots-Tag:noindex
X-PUBLISHED-TTL:PT1H
BEGIN:VTIMEZONE
TZID:America/Phoenix
BEGIN:STANDARD
TZOFFSETFROM:-0700
TZOFFSETTO:-0700
TZNAME:MST
DTSTART:20240101T000000
END:STANDARD
END:VTIMEZONE
BEGIN:VEVENT
DTSTART;TZID=America/Phoenix:20251024T213000
DTEND;TZID=America/Phoenix:20251025T000000
DTSTAMP:20260420T063324
CREATED:20241227T011138Z
LAST-MODIFIED:20250117T023246Z
UID:22270-1761341400-1761350400@www.unitedskates.com
SUMMARY:JB Adult Skate
DESCRIPTION:Join us every 4th Friday of the month for our JB Adult Skate feat DJ T-Rell! \n18+ only\nAdmission: $14.00\nSkate rental: $5.00
URL:https://www.unitedskates.com/skateland-mesa/event/jb-adult-skate-2025-10-24/
LOCATION:AZ
CATEGORIES:Adult Events
ATTACH;FMTTYPE=image/png:https://unitedskates-assets.sfo3.digitaloceanspaces.com/wp-content/uploads/sites/20/2024/12/JB-SKATE-1.png
END:VEVENT
END:VCALENDAR