BEGIN:VCALENDAR
VERSION:2.0
PRODID:-//Rink 50 - Skateland Mesa - ECPv6.15.20//NONSGML v1.0//EN
CALSCALE:GREGORIAN
METHOD:PUBLISH
X-WR-CALNAME:Rink 50 - Skateland Mesa
X-ORIGINAL-URL:https://www.unitedskates.com/skateland-mesa
X-WR-CALDESC:Events for Rink 50 - Skateland Mesa
REFRESH-INTERVAL;VALUE=DURATION:PT1H
X-Robots-Tag:noindex
X-PUBLISHED-TTL:PT1H
BEGIN:VTIMEZONE
TZID:America/Phoenix
BEGIN:STANDARD
TZOFFSETFROM:-0700
TZOFFSETTO:-0700
TZNAME:MST
DTSTART:20240101T000000
END:STANDARD
END:VTIMEZONE
BEGIN:VEVENT
DTSTART;TZID=America/Phoenix:20250524T220000
DTEND;TZID=America/Phoenix:20250525T000000
DTSTAMP:20260422T220950
CREATED:20250405T223104Z
LAST-MODIFIED:20250405T223104Z
UID:23207-1748124000-1748131200@www.unitedskates.com
SUMMARY:College Skate Night
DESCRIPTION:Calling all College Students! \nJoin Us For Our College Skate Night and Show Off Your School Colors! \n$2 off admission when you show Your  College ID ! \n$14 admission \n$5 Skate Rental \n$4 Non-skating Adult \n18+ Only. Must Show ID to enter. \nWristguards are Mandatory. Free of Charge. \n**NO Outside Food or Drinks allowed. \n 
URL:https://www.unitedskates.com/skateland-mesa/event/college-skate-night/
LOCATION:AZ
CATEGORIES:Adult Events,Public Skates,Special Events
ATTACH;FMTTYPE=image/png:https://unitedskates-assets.sfo3.digitaloceanspaces.com/wp-content/uploads/sites/20/2025/04/May-24th-.png
END:VEVENT
END:VCALENDAR