BEGIN:VCALENDAR
VERSION:2.0
PRODID:-//Rink 50 - Skateland Mesa - ECPv6.15.20//NONSGML v1.0//EN
CALSCALE:GREGORIAN
METHOD:PUBLISH
X-ORIGINAL-URL:https://www.unitedskates.com/skateland-mesa
X-WR-CALDESC:Events for Rink 50 - Skateland Mesa
REFRESH-INTERVAL;VALUE=DURATION:PT1H
X-Robots-Tag:noindex
X-PUBLISHED-TTL:PT1H
BEGIN:VTIMEZONE
TZID:America/Phoenix
BEGIN:STANDARD
TZOFFSETFROM:-0700
TZOFFSETTO:-0700
TZNAME:MST
DTSTART:20240101T000000
END:STANDARD
END:VTIMEZONE
BEGIN:VEVENT
DTSTART;TZID=America/Phoenix:20250503T220000
DTEND;TZID=America/Phoenix:20250504T000000
DTSTAMP:20260421T142705
CREATED:20250405T202431Z
LAST-MODIFIED:20250405T202431Z
UID:23163-1746309600-1746316800@www.unitedskates.com
SUMMARY:Ladies Night Adult Skate!
DESCRIPTION:Calling all of our LADIES! \nCome join us for a FUN NIGHT ! \nSkate to your Favorite Female Artist Music ALL NIGHT LONG! \nPlay Music Trivia! \nShow Off Your Squad Outfits! \n$14 Admission \n$5 Skate Rental \n4 admissions for $40! (Skate Rental XTRA!) \n18+ ONLY. MUST SHOW ID TO ENTER! \nWristguards are Mandatory. Free of Charge. \n**NO Outside Food or Drinks. \n 
URL:https://www.unitedskates.com/skateland-mesa/event/ladies-night-adult-skate/
LOCATION:AZ
CATEGORIES:Adult Events,Public Skates,Special Events
ATTACH;FMTTYPE=image/png:https://unitedskates-assets.sfo3.digitaloceanspaces.com/wp-content/uploads/sites/20/2025/04/May-3rd-.png
END:VEVENT
END:VCALENDAR