BEGIN:VCALENDAR
VERSION:2.0
PRODID:-//Rink 50 - Skateland Mesa - ECPv6.15.20//NONSGML v1.0//EN
CALSCALE:GREGORIAN
METHOD:PUBLISH
X-ORIGINAL-URL:https://www.unitedskates.com/skateland-mesa
X-WR-CALDESC:Events for Rink 50 - Skateland Mesa
REFRESH-INTERVAL;VALUE=DURATION:PT1H
X-Robots-Tag:noindex
X-PUBLISHED-TTL:PT1H
BEGIN:VTIMEZONE
TZID:America/Phoenix
BEGIN:STANDARD
TZOFFSETFROM:-0700
TZOFFSETTO:-0700
TZNAME:MST
DTSTART:20240101T000000
END:STANDARD
END:VTIMEZONE
BEGIN:VEVENT
DTSTART;TZID=America/Phoenix:20250308T220000
DTEND;TZID=America/Phoenix:20250309T000000
DTSTAMP:20260423T035759
CREATED:20250203T184127Z
LAST-MODIFIED:20250203T184127Z
UID:22478-1741471200-1741478400@www.unitedskates.com
SUMMARY:Spring Adult Skate
DESCRIPTION:Calling All Adults to Welcome Spring With Us! \n$14 admission \n$5  Skate rental \n18+ ONLY! Must Show ID to enter \n**NO outside food or drinks
URL:https://www.unitedskates.com/skateland-mesa/event/spring-adult-skate/
LOCATION:AZ
CATEGORIES:Adult Events,Public Skates,Special Events
ATTACH;FMTTYPE=image/png:https://unitedskates-assets.sfo3.digitaloceanspaces.com/wp-content/uploads/sites/20/2025/02/Spring-Adult-Skate-1.png
END:VEVENT
END:VCALENDAR