BEGIN:VCALENDAR
VERSION:2.0
PRODID:-//Rink 50 - Skateland Mesa - ECPv6.15.20//NONSGML v1.0//EN
CALSCALE:GREGORIAN
METHOD:PUBLISH
X-ORIGINAL-URL:https://www.unitedskates.com/skateland-mesa
X-WR-CALDESC:Events for Rink 50 - Skateland Mesa
REFRESH-INTERVAL;VALUE=DURATION:PT1H
X-Robots-Tag:noindex
X-PUBLISHED-TTL:PT1H
BEGIN:VTIMEZONE
TZID:America/Phoenix
BEGIN:STANDARD
TZOFFSETFROM:-0700
TZOFFSETTO:-0700
TZNAME:MST
DTSTART:20230101T000000
END:STANDARD
END:VTIMEZONE
BEGIN:VEVENT
DTSTART;TZID=America/Phoenix:20241128T203000
DTEND;TZID=America/Phoenix:20241128T230000
DTSTAMP:20260423T155210
CREATED:20241023T213623Z
LAST-MODIFIED:20241023T213916Z
UID:20513-1732825800-1732834800@www.unitedskates.com
SUMMARY:Skate your R and B Turkey Off!
DESCRIPTION:🦃 Come Skate that Thanksgiving Turkey Off🦃 \n🎶 Listen to your favorite R and B music🎶 \nFirst 50 people get a FREE Glow Necklace ! \n**18+ ONLY** MUST BE ABLE TO SHOW ID \n$13 Admission \n$4.50 Skate Rental \n$4 non-skating adults
URL:https://www.unitedskates.com/skateland-mesa/event/skate-your-r-and-b-turkey-off/
LOCATION:AZ
CATEGORIES:Adult Events,Special Events
ATTACH;FMTTYPE=image/png:https://unitedskates-assets.sfo3.digitaloceanspaces.com/wp-content/uploads/sites/20/2024/10/SKate-your-R-and-B-turkey-off.png
END:VEVENT
END:VCALENDAR