BEGIN:VCALENDAR
VERSION:2.0
PRODID:-//Rink 50 - Skateland Mesa - ECPv6.15.20//NONSGML v1.0//EN
CALSCALE:GREGORIAN
METHOD:PUBLISH
X-ORIGINAL-URL:https://www.unitedskates.com/skateland-mesa
X-WR-CALDESC:Events for Rink 50 - Skateland Mesa
REFRESH-INTERVAL;VALUE=DURATION:PT1H
X-Robots-Tag:noindex
X-PUBLISHED-TTL:PT1H
BEGIN:VTIMEZONE
TZID:America/Phoenix
BEGIN:STANDARD
TZOFFSETFROM:-0700
TZOFFSETTO:-0700
TZNAME:MST
DTSTART:20230101T000000
END:STANDARD
END:VTIMEZONE
BEGIN:VEVENT
DTSTART;TZID=America/Phoenix:20241119T173000
DTEND;TZID=America/Phoenix:20241119T200000
DTSTAMP:20260423T155209
CREATED:20241014T210439Z
LAST-MODIFIED:20241014T210439Z
UID:20380-1732037400-1732046400@www.unitedskates.com
SUMMARY:Wicked Roller Skate
DESCRIPTION:🧙🏽‍♀️Join us for our Wicked Roller Skate🧙🏽‍♂️ \nCome skate to the Wicked Soundtrack all night long! \nCheck out our Wicked Cafe specials and Merch cart! \nDon’t forget to stop by between 6:30pm-7:30pm to meet Glinda and Elphaba! \n$11 Admission includes a chance to win our raffle\, to see Wicked in theaters! \n$4 non-skating adults \n$4.50 skate rental \n**No Free passes
URL:https://www.unitedskates.com/skateland-mesa/event/wicked-roller-skate/
LOCATION:AZ
CATEGORIES:Adult Events,Family Events,Public Skates,Special Events
ATTACH;FMTTYPE=image/png:https://unitedskates-assets.sfo3.digitaloceanspaces.com/wp-content/uploads/sites/20/2024/10/Skate-Rental-4.50.png
END:VEVENT
END:VCALENDAR