BEGIN:VCALENDAR
VERSION:2.0
PRODID:-//Rink 50 - Skateland Mesa - ECPv6.15.20//NONSGML v1.0//EN
CALSCALE:GREGORIAN
METHOD:PUBLISH
X-ORIGINAL-URL:https://www.unitedskates.com/skateland-mesa
X-WR-CALDESC:Events for Rink 50 - Skateland Mesa
REFRESH-INTERVAL;VALUE=DURATION:PT1H
X-Robots-Tag:noindex
X-PUBLISHED-TTL:PT1H
BEGIN:VTIMEZONE
TZID:America/Phoenix
BEGIN:STANDARD
TZOFFSETFROM:-0700
TZOFFSETTO:-0700
TZNAME:MST
DTSTART:20230101T000000
END:STANDARD
END:VTIMEZONE
BEGIN:VEVENT
DTSTART;TZID=America/Phoenix:20241108T180000
DTEND;TZID=America/Phoenix:20241108T210000
DTSTAMP:20260423T202218
CREATED:20241003T230104Z
LAST-MODIFIED:20241003T230104Z
UID:20146-1731088800-1731099600@www.unitedskates.com
SUMMARY:Post Malone Skate
DESCRIPTION:Come skate and listen to Post Malone music! \nPlay Post Malone trivia to win cool PRIZES! \nVisit our Tattoo Station to look like Postie! \nEnjoy our cool Post Malone Cafe specials! \nAdmission: $13 \nSkate Rental: $4.50 \nNon skating adults: $4 \n  \n 
URL:https://www.unitedskates.com/skateland-mesa/event/post-malone-skate/
LOCATION:AZ
CATEGORIES:Adult Events,Family Events,Special Events
ATTACH;FMTTYPE=image/png:https://unitedskates-assets.sfo3.digitaloceanspaces.com/wp-content/uploads/sites/20/2024/10/Untitled-design.png
END:VEVENT
END:VCALENDAR