BEGIN:VCALENDAR
VERSION:2.0
PRODID:-//Rink 50 - Skateland Mesa - ECPv6.15.20//NONSGML v1.0//EN
CALSCALE:GREGORIAN
METHOD:PUBLISH
X-ORIGINAL-URL:https://www.unitedskates.com/skateland-mesa
X-WR-CALDESC:Events for Rink 50 - Skateland Mesa
REFRESH-INTERVAL;VALUE=DURATION:PT1H
X-Robots-Tag:noindex
X-PUBLISHED-TTL:PT1H
BEGIN:VTIMEZONE
TZID:America/Phoenix
BEGIN:STANDARD
TZOFFSETFROM:-0700
TZOFFSETTO:-0700
TZNAME:MST
DTSTART:20230101T000000
END:STANDARD
END:VTIMEZONE
BEGIN:VEVENT
DTSTART;TZID=America/Phoenix:20241105T170000
DTEND;TZID=America/Phoenix:20241105T203000
DTSTAMP:20260423T155210
CREATED:20241021T183633Z
LAST-MODIFIED:20241021T183633Z
UID:20433-1730826000-1730838600@www.unitedskates.com
SUMMARY:Election Day Skate!
DESCRIPTION:Come skate to your favorite top 40 hits! \nNeed to Vote? Sign your kid up for kids camp! \n$15 includes supervision\, skates\, admission\, a slice of pizza and a small drink. Don’t forget to Vote! \n$8 Admission \n$4.50 for skate rental \n$4 for non-skating adults \n***No Free Passes
URL:https://www.unitedskates.com/skateland-mesa/event/election-day-skate/
LOCATION:AZ
CATEGORIES:Adult Events,Family Events,Public Skates,Skate Camp,Special Events
ATTACH;FMTTYPE=image/png:https://unitedskates-assets.sfo3.digitaloceanspaces.com/wp-content/uploads/sites/20/2024/10/Your-paragraph-text.png
END:VEVENT
END:VCALENDAR