BEGIN:VCALENDAR
VERSION:2.0
PRODID:-//Rink 50 - Skateland Mesa - ECPv6.15.20//NONSGML v1.0//EN
CALSCALE:GREGORIAN
METHOD:PUBLISH
X-WR-CALNAME:Rink 50 - Skateland Mesa
X-ORIGINAL-URL:https://www.unitedskates.com/skateland-mesa
X-WR-CALDESC:Events for Rink 50 - Skateland Mesa
REFRESH-INTERVAL;VALUE=DURATION:PT1H
X-Robots-Tag:noindex
X-PUBLISHED-TTL:PT1H
BEGIN:VTIMEZONE
TZID:America/Phoenix
BEGIN:STANDARD
TZOFFSETFROM:-0700
TZOFFSETTO:-0700
TZNAME:MST
DTSTART:20250101T000000
END:STANDARD
END:VTIMEZONE
BEGIN:VEVENT
DTSTART;TZID=America/Phoenix:20260101T203000
DTEND;TZID=America/Phoenix:20260101T233000
DTSTAMP:20260419T192727
CREATED:20250110T221749Z
LAST-MODIFIED:20250110T221749Z
UID:26318-1767299400-1767310200@www.unitedskates.com
SUMMARY:Thursday Night Adult Skate
DESCRIPTION:Calling all adults! Come Join us for our every Thursday Adult night! \nDue to No Live Dj Until After Super Bowl Season. First 50 Admissions Get a BOGO Card To Cane’s! \nCome Roll with Us and Visit Cane’s After For a Late Night Snack! \n18+ Only. ID Must Be Shown. \n$14 admission \n$5 Skate Rental \n**No Outside Food or Drinks** \nWristguards are NOT Mandatory.
URL:https://www.unitedskates.com/skateland-mesa/event/thursday-night-adult-skate/2026-01-01/
LOCATION:AZ
CATEGORIES:Adult Events,Public Skates
ATTACH;FMTTYPE=image/png:https://unitedskates-assets.sfo3.digitaloceanspaces.com/wp-content/uploads/sites/20/2025/01/ADult-Skate-Night-1.png
END:VEVENT
BEGIN:VEVENT
DTSTART;TZID=America/Phoenix:20260101T210000
DTEND;TZID=America/Phoenix:20260101T233000
DTSTAMP:20260419T192727
CREATED:20251201T041233Z
LAST-MODIFIED:20251218T231216Z
UID:25450-1767301200-1767310200@www.unitedskates.com
SUMMARY:NEW YEAR’S DAY ADULT SKATE
DESCRIPTION:Recover from NYE\, then come turn UP on the rink! \n2026 starts HERE – pull up & let’s ride!! 🎉🛼✨ SEE YOU AT 9PM!!! \n🎧 Straight fire playlist: R&B\, Hip-Hop\, Throwbacks & the best skate jams \n🌙 Fresh-year energy\, grown & sexy vibes \n🥂 Perfect way to keep the New Year’s celebration rolling (no kids\, no drama\, just pure skating!) \n🎟️ ONLY $14 admission │ $5 skate rental \n🚨 18+ ONLY – valid ID required \nBuy Your Tickets Online NOW ! https://bzone.bookingzone.com/yeWPg3 \n**NO Outside Food or Drinks** \n***Wristguards are Mandatory. Free of Charge** \n 
URL:https://www.unitedskates.com/skateland-mesa/event/new-years-day-adult-skate/
LOCATION:AZ
CATEGORIES:Adult Events,Public Skates,Special Events
ATTACH;FMTTYPE=image/png:https://unitedskates-assets.sfo3.digitaloceanspaces.com/wp-content/uploads/sites/20/2025/11/New-Years-Adult-1-1-26.png
END:VEVENT
BEGIN:VEVENT
DTSTART;TZID=America/Phoenix:20260102T210000
DTEND;TZID=America/Phoenix:20260102T233000
DTSTAMP:20260419T192727
CREATED:20250926T223553Z
LAST-MODIFIED:20250926T223553Z
UID:24734-1767387600-1767396600@www.unitedskates.com
SUMMARY:Flashback Friday Adult Skate
DESCRIPTION:Every 1st and 3rd Friday of the Month! \n🎉🛼 Flashback Friday Adult Skate 🛼🎉 \nKick off your weekend with a night of nostalgia! Glide and groove to the best throwbacks from the ’90s and 2000s\, spinning around the rink to the hits that defined a generation. 🎶✨ \nBring your friends\, your moves\, and your love for all things retro — it’s a skating night where memories meet music and fun never goes out of style! 🌟💃 \n🎟 $14 Admission | $5 Skate Rental  \n**No Passes**
URL:https://www.unitedskates.com/skateland-mesa/event/flashback-friday-adult-skate-2-2026-01-02/
LOCATION:AZ
CATEGORIES:Adult Events,Public Skates
END:VEVENT
BEGIN:VEVENT
DTSTART;TZID=America/Phoenix:20260105T203000
DTEND;TZID=America/Phoenix:20260105T233000
DTSTAMP:20260419T192727
CREATED:20260105T004746Z
LAST-MODIFIED:20260105T020842Z
UID:25835-1767645000-1767655800@www.unitedskates.com
SUMMARY:1ST Monday Adult Skate
DESCRIPTION:Come Join Us For A Roller Skate Of Your Life! \nRoll Out as Dj Cherise Spins Out The Greatest Music To Skate To! \nA Night For All Adults (18+)\, ID Must Be Shown Upon Entry. \n$14 admission \n$5 Skate Rental \nWristguards are NOT Mandatory. \nNo Outside Food or Drinks. \n  \n 
URL:https://www.unitedskates.com/skateland-mesa/event/1st-monday-adult-skate-2/2026-01-05/
LOCATION:AZ
CATEGORIES:Adult Events,Public Skates,Special Events
ATTACH;FMTTYPE=image/png:https://unitedskates-assets.sfo3.digitaloceanspaces.com/wp-content/uploads/sites/20/2026/01/Adult-Skate-Party.docx.pdf.png
END:VEVENT
BEGIN:VEVENT
DTSTART;TZID=America/Phoenix:20260108T203000
DTEND;TZID=America/Phoenix:20260108T233000
DTSTAMP:20260419T192727
CREATED:20250110T221749Z
LAST-MODIFIED:20260105T024028Z
UID:24558-1767904200-1767915000@www.unitedskates.com
SUMMARY:Thursday Night Adult Skate
DESCRIPTION:Calling all adults! Come Join us for our every Thursday Adult night! \nDue to No Live Dj Until After Super Bowl Season. First 50 Admissions Get a BOGO Card To Cane’s! \nCome Roll with Us and Visit Cane’s After For a Late Night Snack! \n18+ Only. ID Must Be Shown. \n$14 admission \n$5 Skate Rental \n**No Outside Food or Drinks** \nWristguards are NOT Mandatory.
URL:https://www.unitedskates.com/skateland-mesa/event/thursday-night-adult-skate/2026-01-08/
LOCATION:AZ
CATEGORIES:Adult Events,Public Skates
ATTACH;FMTTYPE=image/png:https://unitedskates-assets.sfo3.digitaloceanspaces.com/wp-content/uploads/sites/20/2025/01/ADult-Skate-Night-1.png
END:VEVENT
BEGIN:VEVENT
DTSTART;TZID=America/Phoenix:20260115T203000
DTEND;TZID=America/Phoenix:20260115T233000
DTSTAMP:20260419T192727
CREATED:20250110T221749Z
LAST-MODIFIED:20260105T024029Z
UID:24559-1768509000-1768519800@www.unitedskates.com
SUMMARY:Thursday Night Adult Skate
DESCRIPTION:Calling all adults! Come Join us for our every Thursday Adult night! \nDue to No Live Dj Until After Super Bowl Season. First 50 Admissions Get a BOGO Card To Cane’s! \nCome Roll with Us and Visit Cane’s After For a Late Night Snack! \n18+ Only. ID Must Be Shown. \n$14 admission \n$5 Skate Rental \n**No Outside Food or Drinks** \nWristguards are NOT Mandatory.
URL:https://www.unitedskates.com/skateland-mesa/event/thursday-night-adult-skate/2026-01-15/
LOCATION:AZ
CATEGORIES:Adult Events,Public Skates
ATTACH;FMTTYPE=image/png:https://unitedskates-assets.sfo3.digitaloceanspaces.com/wp-content/uploads/sites/20/2025/01/ADult-Skate-Night-1.png
END:VEVENT
BEGIN:VEVENT
DTSTART;TZID=America/Phoenix:20260116T213000
DTEND;TZID=America/Phoenix:20260117T003000
DTSTAMP:20260419T192727
CREATED:20260108T014647Z
LAST-MODIFIED:20260108T014647Z
UID:26967-1768599000-1768609800@www.unitedskates.com
SUMMARY:Adult Skate Night
DESCRIPTION:$14 admission \n18+ Only. Must Show ID For Entry. \n$5 Skate Rental \nWristguards are Mandatory. Free of Charge. NO Outside Food or Drinks.
URL:https://www.unitedskates.com/skateland-mesa/event/adult-skate-night-2/
LOCATION:AZ
CATEGORIES:Adult Events,Public Skates
ATTACH;FMTTYPE=image/png:https://unitedskates-assets.sfo3.digitaloceanspaces.com/wp-content/uploads/sites/20/2026/01/Friday-and-Saturday-Adult-Skate-Night.png
END:VEVENT
BEGIN:VEVENT
DTSTART;TZID=America/Phoenix:20260118T210000
DTEND;TZID=America/Phoenix:20260118T233000
DTSTAMP:20260419T192727
CREATED:20251202T042756Z
LAST-MODIFIED:20251219T204400Z
UID:25536-1768770000-1768779000@www.unitedskates.com
SUMMARY:MLK Adult Skate
DESCRIPTION:Come dressed sharp\, bring your partner or your crew\, and let’s roll with purpose. \nThis one’s for the culture. Let’s keep the dream alive… on eight wheels!! \nLOVE. UNITY. R&B. LET’S ROLL!! ✊❤️🛼 \n🎶 The BEST R&B classics\, slow jams & grown folks Top 40 hits ALL NIGHT LONG \n💜 A mature celebration of Dr. Martin Luther King Jr.’s life & legacy \n🌹 Smooth vibes\, dim lights & pure soul on the rink – 18+ crowd (Must Show ID Upon Entry) \n🎟️ ONLY $14 admission │ $5 skate rental \nBuy Your Tickets Online NOW ! https://bzone.bookingzone.com/qeWVJz \n**NO Outside Food or Drinks** \n***Wristguards are Mandatory. Free of Charge.***
URL:https://www.unitedskates.com/skateland-mesa/event/mlk-adult-skate/
LOCATION:AZ
CATEGORIES:Adult Events,Public Skates,Special Events
ATTACH;FMTTYPE=image/png:https://unitedskates-assets.sfo3.digitaloceanspaces.com/wp-content/uploads/sites/20/2025/12/MLK-ADULT-SKATE-11826-1.png
END:VEVENT
BEGIN:VEVENT
DTSTART;TZID=America/Phoenix:20260122T203000
DTEND;TZID=America/Phoenix:20260122T233000
DTSTAMP:20260419T192727
CREATED:20260105T024907Z
LAST-MODIFIED:20260107T000228Z
UID:26387-1769113800-1769124600@www.unitedskates.com
SUMMARY:Noche Latina Adult Skate
DESCRIPTION:Vibe all night to the best Latin\, Reggaeton\, and pure fuego beats by DJ DISS FOO 🎶💃🕺 \n18+ ONLY (Show your ID upon entry!) 😎 \n$14 admission \n $5 skate rental (No free passes this night) \nEnjoy café specials\, dance-floor energy\, and a shot at winning big: \nEvery paid admission gets a raffle ticket for a chance to score 2 FREE Arizona Diamondbacks vs. Mexico tickets! ⚾🎟️ \nBring your crew\, dress to impress\, and get ready to roll under the lights! 🌵🌴 \nBuy Your Tickets Online NOW ! \n**NO Outside Food or Drinks** \nWristguards are NOT Mandatory.
URL:https://www.unitedskates.com/skateland-mesa/event/noche-latina-adult-skate/
LOCATION:AZ
CATEGORIES:Adult Events,Public Skates,Special Events
ATTACH;FMTTYPE=image/png:https://unitedskates-assets.sfo3.digitaloceanspaces.com/wp-content/uploads/sites/20/2026/01/Noche-Latina-12226.png
END:VEVENT
BEGIN:VEVENT
DTSTART;TZID=America/Phoenix:20260124T213000
DTEND;TZID=America/Phoenix:20260125T003000
DTSTAMP:20260419T192727
CREATED:20260105T014901Z
LAST-MODIFIED:20260105T022356Z
UID:26027-1769290200-1769301000@www.unitedskates.com
SUMMARY:Adult Skate Night
DESCRIPTION:Adult Skate Night at USA’s Skateland Mesa is calling all 18+! \nGrab your ID and join the grown-up party on the 1st & 3rd Fridays + 2nd & 4th Saturdays every month! 🎉 \n3rd Fridays= FlashBack Fridays with Dj Cherise! \nLights low\, neon high—skate from 9:30 PM to 12:30 AM to today’s hottest bangers \nOnly $14 admission (skate rental just $5 extra) 💸 \nRock your favorite squad gear\, munch on yummy food (pizza + Coke combo = chef’s kiss 🍕🥤)\, and own the floor—no kids\, all fun! 🚫👶❤️ \nThe perfect late-night grown-up escape! 🌙🛼 \n**NO Outside Food or Drinks** \nWristguards are NOT Mandatory.
URL:https://www.unitedskates.com/skateland-mesa/event/adult-skate-night-2-2026-01-24/
LOCATION:AZ
CATEGORIES:Adult Events,Public Skates
ATTACH;FMTTYPE=image/png:https://unitedskates-assets.sfo3.digitaloceanspaces.com/wp-content/uploads/sites/20/2026/01/Friday-and-Saturday-Adult-Skate-Night.png
END:VEVENT
BEGIN:VEVENT
DTSTART;TZID=America/Phoenix:20260129T203000
DTEND;TZID=America/Phoenix:20260129T233000
DTSTAMP:20260419T192727
CREATED:20250110T221749Z
LAST-MODIFIED:20260105T024029Z
UID:24561-1769718600-1769729400@www.unitedskates.com
SUMMARY:Thursday Night Adult Skate
DESCRIPTION:Calling all adults! Come Join us for our every Thursday Adult night! \nDue to No Live Dj Until After Super Bowl Season. First 50 Admissions Get a BOGO Card To Cane’s! \nCome Roll with Us and Visit Cane’s After For a Late Night Snack! \n18+ Only. ID Must Be Shown. \n$14 admission \n$5 Skate Rental \n**No Outside Food or Drinks** \nWristguards are NOT Mandatory.
URL:https://www.unitedskates.com/skateland-mesa/event/thursday-night-adult-skate/2026-01-29/
LOCATION:AZ
CATEGORIES:Adult Events,Public Skates
ATTACH;FMTTYPE=image/png:https://unitedskates-assets.sfo3.digitaloceanspaces.com/wp-content/uploads/sites/20/2025/01/ADult-Skate-Night-1.png
END:VEVENT
END:VCALENDAR