BEGIN:VCALENDAR
VERSION:2.0
PRODID:-//Rink 50 - Skateland Mesa - ECPv6.15.20//NONSGML v1.0//EN
CALSCALE:GREGORIAN
METHOD:PUBLISH
X-ORIGINAL-URL:https://www.unitedskates.com/skateland-mesa
X-WR-CALDESC:Events for Rink 50 - Skateland Mesa
REFRESH-INTERVAL;VALUE=DURATION:PT1H
X-Robots-Tag:noindex
X-PUBLISHED-TTL:PT1H
BEGIN:VTIMEZONE
TZID:America/Phoenix
BEGIN:STANDARD
TZOFFSETFROM:-0700
TZOFFSETTO:-0700
TZNAME:MST
DTSTART:20240101T000000
END:STANDARD
END:VTIMEZONE
BEGIN:VEVENT
DTSTART;TZID=America/Phoenix:20250405T220000
DTEND;TZID=America/Phoenix:20250406T000000
DTSTAMP:20260421T104237
CREATED:20250303T205713Z
LAST-MODIFIED:20250303T205916Z
UID:22885-1743890400-1743897600@www.unitedskates.com
SUMMARY:Corridos Tumbados Adult skate
DESCRIPTION:Come skate the Night away and listen to your favorite Corridos song! \nMusic from Peso Pluma\, Natanael Cano\, Fuerza Regida\, Junior H. \n18+ only. ID Must be shown to enter. \n$14 admission \n$5 Skate rental \n**NO Outside Food or Drinks
URL:https://www.unitedskates.com/skateland-mesa/event/corridos-tumbados/
LOCATION:AZ
CATEGORIES:Adult Events,Public Skates,Special Events
ATTACH;FMTTYPE=image/png:https://unitedskates-assets.sfo3.digitaloceanspaces.com/wp-content/uploads/sites/20/2025/03/Corridos-Tumbados.png
END:VEVENT
BEGIN:VEVENT
DTSTART;TZID=America/Phoenix:20250407T203000
DTEND;TZID=America/Phoenix:20250407T233000
DTSTAMP:20260421T104237
CREATED:20250407T213636Z
LAST-MODIFIED:20250407T213636Z
UID:23218-1744057800-1744068600@www.unitedskates.com
SUMMARY:1st Monday Adult Skate
DESCRIPTION:1st Monday Adult Skate with DJ Cherise! \n8:30-11:30\n$14 Admission\n$5 Skate Rental \n18+ only
URL:https://www.unitedskates.com/skateland-mesa/event/1st-monday-adult-skate/
LOCATION:AZ
CATEGORIES:Adult Events
ATTACH;FMTTYPE=image/png:https://unitedskates-assets.sfo3.digitaloceanspaces.com/wp-content/uploads/sites/20/2025/01/ADult-Skate-Night-1.png
END:VEVENT
BEGIN:VEVENT
DTSTART;TZID=America/Phoenix:20250412T220000
DTEND;TZID=America/Phoenix:20250413T000000
DTSTAMP:20260421T104237
CREATED:20250303T183319Z
LAST-MODIFIED:20250303T195552Z
UID:22877-1744495200-1744502400@www.unitedskates.com
SUMMARY:Glow Bunny Adult Skate
DESCRIPTION:Come Join Us for A Glow Adult Skate! \n18+ to enter our facility. Must Show ID at the Door. \n$14 admission \n$5 Skate rental \n**NO Outside Food or Drinks allowed. \n  \n 
URL:https://www.unitedskates.com/skateland-mesa/event/glow-bunny-adult-skate/
LOCATION:AZ
CATEGORIES:Adult Events,Public Skates,Special Events
ATTACH;FMTTYPE=image/png:https://unitedskates-assets.sfo3.digitaloceanspaces.com/wp-content/uploads/sites/20/2025/03/Glow-Bunny.png
END:VEVENT
END:VCALENDAR