BEGIN:VCALENDAR
VERSION:2.0
PRODID:-//Rink 50 - Skateland Mesa - ECPv6.15.20//NONSGML v1.0//EN
CALSCALE:GREGORIAN
METHOD:PUBLISH
X-WR-CALNAME:Rink 50 - Skateland Mesa
X-ORIGINAL-URL:https://www.unitedskates.com/skateland-mesa
X-WR-CALDESC:Events for Rink 50 - Skateland Mesa
REFRESH-INTERVAL;VALUE=DURATION:PT1H
X-Robots-Tag:noindex
X-PUBLISHED-TTL:PT1H
BEGIN:VTIMEZONE
TZID:America/Phoenix
BEGIN:STANDARD
TZOFFSETFROM:-0700
TZOFFSETTO:-0700
TZNAME:MST
DTSTART:20240101T000000
END:STANDARD
END:VTIMEZONE
BEGIN:VEVENT
DTSTART;TZID=America/Phoenix:20250203T203000
DTEND;TZID=America/Phoenix:20250203T233000
DTSTAMP:20260422T234907
CREATED:20220915T220903Z
LAST-MODIFIED:20250203T201258Z
UID:16156-1738614600-1738625400@www.unitedskates.com
SUMMARY:Canceled Adult Skate Night
DESCRIPTION:We will be closed tonight for maintenance and repairs. Join us on Friday\, Feb 7th from 6-9pm. \n1st Monday of Every Month \nAdmission: $12.00 \nSkate Rental: $4.50 \nAges 18 + with ID!
URL:https://www.unitedskates.com/skateland-mesa/event/adult-skate-night-2025-02-03/
LOCATION:AZ
CATEGORIES:Adult Events
ATTACH;FMTTYPE=image/jpeg:https://unitedskates-assets.sfo3.digitaloceanspaces.com/wp-content/uploads/sites/20/2025/01/Closed-Rink-Tile-1200x1200-1.jpg
END:VEVENT
BEGIN:VEVENT
DTSTART;TZID=America/Phoenix:20250206T203000
DTEND;TZID=America/Phoenix:20250206T233000
DTSTAMP:20260422T234907
CREATED:20250110T221749Z
LAST-MODIFIED:20250203T204707Z
UID:22288-1738873800-1738884600@www.unitedskates.com
SUMMARY:Canceled Thursday Night Adult Skate
DESCRIPTION:We will be closed for Rink Maintenance. We will reopen for a family skating session \nCalling all adults! Come Join us for our every Thursday Adult night! \n18+ Only. ID Must Be Shown. \n$14 admission \n$5 Skate Rental \n 
URL:https://www.unitedskates.com/skateland-mesa/event/thursday-night-adult-skate-2025-02-06/
LOCATION:AZ
CATEGORIES:Adult Events,Public Skates
ATTACH;FMTTYPE=image/jpeg:https://unitedskates-assets.sfo3.digitaloceanspaces.com/wp-content/uploads/sites/20/2025/01/Closed-Rink-Tile-1200x1200-1.jpg
END:VEVENT
BEGIN:VEVENT
DTSTART;TZID=America/Phoenix:20250216T210000
DTEND;TZID=America/Phoenix:20250216T233000
DTSTAMP:20260422T234907
CREATED:20250109T044719Z
LAST-MODIFIED:20250109T044851Z
UID:21781-1739739600-1739748600@www.unitedskates.com
SUMMARY:Stop Light Adult Skate
DESCRIPTION:Come Meet That Lucky One! \nJoin our stoplight skate by wearing your stoplight color! Get a $1 off admission! \nRed- Taken \nYellow- Dating \nGreen- Single \n18+ Only. ID Must Be Shown. \n$14 Admission \n$5 Skate Rental \n$4 Non-skating adult \n** Wristguards are mandatory. Free of charge. \nNo Outside Food or Drinks \n 
URL:https://www.unitedskates.com/skateland-mesa/event/stop-light-adult-skate/
LOCATION:AZ
CATEGORIES:Adult Events,Public Skates,Special Events
ATTACH;FMTTYPE=image/png:https://unitedskates-assets.sfo3.digitaloceanspaces.com/wp-content/uploads/sites/20/2025/01/Stop-Light-Skate-Party-1.png
END:VEVENT
BEGIN:VEVENT
DTSTART;TZID=America/Phoenix:20250221T213000
DTEND;TZID=America/Phoenix:20250222T000000
DTSTAMP:20260422T234907
CREATED:20250109T163142Z
LAST-MODIFIED:20250109T203827Z
UID:21863-1740173400-1740182400@www.unitedskates.com
SUMMARY:Bridgerton Adult Skate
DESCRIPTION:My dearest\, gentle readers Come skate the night away and listen to all your favorite Bridgerton songs! \nVisit our Bridgerton Merch Cart and see our Brisdgerton Cafe specials. \n$14 admission \n$4 Non-Skating adult \n$5 Skate Rental \n18+ Only. ID MUST Be Shown to enter. \nNo outside food or drinks.
URL:https://www.unitedskates.com/skateland-mesa/event/bridgerton-adult-skate/
LOCATION:AZ
CATEGORIES:Adult Events,Public Skates,Special Events
ATTACH;FMTTYPE=image/png:https://unitedskates-assets.sfo3.digitaloceanspaces.com/wp-content/uploads/sites/20/2025/01/Bridgerton.png
END:VEVENT
BEGIN:VEVENT
DTSTART;TZID=America/Phoenix:20250222T220000
DTEND;TZID=America/Phoenix:20250223T000000
DTSTAMP:20260422T234907
CREATED:20250109T163846Z
LAST-MODIFIED:20250109T163846Z
UID:21868-1740261600-1740268800@www.unitedskates.com
SUMMARY:Black History Month Adult Skate
DESCRIPTION:Come Join Us and Skate to some of the Biggest Hip Hop Legends! \n$14 admission \n$5 Skate Rental \n18+ Only. ID Must be shown to enter. \nNo outside food or drinks \n 
URL:https://www.unitedskates.com/skateland-mesa/event/black-history-month-adult-skate/
LOCATION:AZ
CATEGORIES:Adult Events,Public Skates,Special Events
ATTACH;FMTTYPE=image/png:https://unitedskates-assets.sfo3.digitaloceanspaces.com/wp-content/uploads/sites/20/2025/01/Black-History-MOnth.png
END:VEVENT
BEGIN:VEVENT
DTSTART;TZID=America/Phoenix:20250226T173000
DTEND;TZID=America/Phoenix:20250226T200000
DTSTAMP:20260422T234908
CREATED:20250123T230921Z
LAST-MODIFIED:20250123T230921Z
UID:22420-1740591000-1740600000@www.unitedskates.com
SUMMARY:Jam Skate
DESCRIPTION:That’s right it is a Jam Skate Night!\n\nPlaying all the best Jam Skate Music all session long!\n\n$10 admission\nEverybody Must Pay Admission to enter.\n\nMust be 16+ ONLY\, ID Must be shown to enter.\n\nMust have your own skates.\n\n***No Outside Food or Drinks
URL:https://www.unitedskates.com/skateland-mesa/event/jam-skate-2/
LOCATION:AZ
CATEGORIES:Adult Events,Public Skates,Special Events
ATTACH;FMTTYPE=image/png:https://unitedskates-assets.sfo3.digitaloceanspaces.com/wp-content/uploads/sites/20/2025/01/Jam-Skate-2.png
END:VEVENT
END:VCALENDAR