BEGIN:VCALENDAR
VERSION:2.0
PRODID:-//Rink 50 - Skateland Mesa - ECPv6.15.20//NONSGML v1.0//EN
CALSCALE:GREGORIAN
METHOD:PUBLISH
X-WR-CALNAME:Rink 50 - Skateland Mesa
X-ORIGINAL-URL:https://www.unitedskates.com/skateland-mesa
X-WR-CALDESC:Events for Rink 50 - Skateland Mesa
REFRESH-INTERVAL;VALUE=DURATION:PT1H
X-Robots-Tag:noindex
X-PUBLISHED-TTL:PT1H
BEGIN:VTIMEZONE
TZID:America/Phoenix
BEGIN:STANDARD
TZOFFSETFROM:-0700
TZOFFSETTO:-0700
TZNAME:MST
DTSTART:20230101T000000
END:STANDARD
END:VTIMEZONE
BEGIN:VEVENT
DTSTART;TZID=America/Phoenix:20241219T080000
DTEND;TZID=America/Phoenix:20250105T210000
DTSTAMP:20260423T082736
CREATED:20241111T151035Z
LAST-MODIFIED:20241126T191424Z
UID:20627-1734595200-1736110800@www.unitedskates.com
SUMMARY:🎄🛼 Celebrate Winter Break at Skateland Mesa! 🛼🎄
DESCRIPTION:Looking for non-stop fun this holiday season? Skateland Mesa has you covered with an exciting lineup of Winter Break events perfect for all ages! 🌟 \n🗓️ Event Highlights:\n🎅 Dec 20: Skate with Gingy & Friday Night Glow Skate – festive vibes guaranteed!\n❄️ Dec 24: Polar Express Skate – all aboard for holiday magic on wheels!\n🎄 Dec 25: Merry Stitchmas Skate – holiday fun with your favorite character!\n🌟 Dec 30: Enchanted Breakfast & Minion Glow Skate!\n🎉 Dec 31: Ring in 2024 with our Mickey & Minions New Year’s Eve Parties! \n🎟️ Affordable Family Fun: \n\nAdmission starts at just $11\n$4.50 Skate Rentals\nWristguards are provided free for all skaters\n\n📍 Location: 7 E. Southern Ave\, Mesa\, AZ 85210\n📞 Contact: 480-833-7775\n🌐 Visit www.skatelandmesa.com for the full Winter Break schedule! \nFrom glow skate nights to character meet-and-greets and New Year’s Eve celebrations\, there’s something for everyone. Bring your family and friends\, and let’s roll into the holidays together! 🛼✨ \n 
URL:https://www.unitedskates.com/skateland-mesa/event/%f0%9f%8e%84%f0%9f%8e%85%f0%9f%8f%bd%f0%9f%8e%84winter-break-roller-skating%f0%9f%8e%84%f0%9f%8e%85%f0%9f%8f%bd%f0%9f%8e%84/
LOCATION:AZ
CATEGORIES:Adult Events,Family Events,Public Skates,Special Events
ATTACH;FMTTYPE=image/jpeg:https://unitedskates-assets.sfo3.digitaloceanspaces.com/wp-content/uploads/sites/20/2024/11/Winter-Break-Calendar-front-2024-50.jpg
END:VEVENT
BEGIN:VEVENT
DTSTART;TZID=America/Phoenix:20250116T203000
DTEND;TZID=America/Phoenix:20250116T233000
DTSTAMP:20260423T082736
CREATED:20250110T221749Z
LAST-MODIFIED:20260105T024007Z
UID:22000-1737059400-1737070200@www.unitedskates.com
SUMMARY:Thursday Night Adult Skate
DESCRIPTION:Calling all adults! Come Join us for our every Thursday Adult night! \nDue to No Live Dj Until After Super Bowl Season. First 50 Admissions Get a BOGO Card To Cane’s! \nCome Roll with Us and Visit Cane’s After For a Late Night Snack! \n18+ Only. ID Must Be Shown. \n$14 admission \n$5 Skate Rental \n**No Outside Food or Drinks** \nWristguards are NOT Mandatory.
URL:https://www.unitedskates.com/skateland-mesa/event/thursday-night-adult-skate/2025-01-16/
LOCATION:AZ
CATEGORIES:Adult Events,Public Skates
ATTACH;FMTTYPE=image/png:https://unitedskates-assets.sfo3.digitaloceanspaces.com/wp-content/uploads/sites/20/2025/01/ADult-Skate-Night-1.png
END:VEVENT
BEGIN:VEVENT
DTSTART;TZID=America/Phoenix:20250118T213000
DTEND;TZID=America/Phoenix:20250118T233000
DTSTAMP:20260423T082736
CREATED:20250114T204913Z
LAST-MODIFIED:20250114T204913Z
UID:22236-1737235800-1737243000@www.unitedskates.com
SUMMARY:Saturday Night Adult Night
DESCRIPTION:Come Join us for our Adult Night with all of your favorite hits! \nThat’s right 18+ Only ID Must be shown at the door. \n$8 Admission \n$5 Skate Rental \n 
URL:https://www.unitedskates.com/skateland-mesa/event/saturday-night-adult-night/
LOCATION:AZ
CATEGORIES:Adult Events,Public Skates,Special Events
ATTACH;FMTTYPE=image/png:https://unitedskates-assets.sfo3.digitaloceanspaces.com/wp-content/uploads/sites/20/2025/01/Saturday-Adult-Night-1.png
END:VEVENT
BEGIN:VEVENT
DTSTART;TZID=America/Phoenix:20250119T210000
DTEND;TZID=America/Phoenix:20250119T233000
DTSTAMP:20260423T082736
CREATED:20241130T055922Z
LAST-MODIFIED:20241130T055922Z
UID:20710-1737320400-1737329400@www.unitedskates.com
SUMMARY:Martin Luther King Adult Skate
DESCRIPTION:Calling all Adults! Come celebrate MLK day with us! \nSkate the night away to your best Hip Hop and Soul Music! \n$13 Admission \n$5 Skate Rental \n$4 Non skating adults \n18+ only ( ID Required for entry) \n 
URL:https://www.unitedskates.com/skateland-mesa/event/martin-luther-king-adult-skate/
LOCATION:AZ
CATEGORIES:Adult Events,Public Skates
ATTACH;FMTTYPE=image/png:https://unitedskates-assets.sfo3.digitaloceanspaces.com/wp-content/uploads/sites/20/2024/11/Sunday-January-19th.png
END:VEVENT
END:VCALENDAR