BEGIN:VCALENDAR
VERSION:2.0
PRODID:-//Rink 50 - Skateland Mesa - ECPv6.15.20//NONSGML v1.0//EN
CALSCALE:GREGORIAN
METHOD:PUBLISH
X-WR-CALNAME:Rink 50 - Skateland Mesa
X-ORIGINAL-URL:https://www.unitedskates.com/skateland-mesa
X-WR-CALDESC:Events for Rink 50 - Skateland Mesa
REFRESH-INTERVAL;VALUE=DURATION:PT1H
X-Robots-Tag:noindex
X-PUBLISHED-TTL:PT1H
BEGIN:VTIMEZONE
TZID:America/Phoenix
BEGIN:STANDARD
TZOFFSETFROM:-0700
TZOFFSETTO:-0700
TZNAME:MST
DTSTART:20230101T000000
END:STANDARD
END:VTIMEZONE
BEGIN:VEVENT
DTSTART;TZID=America/Phoenix:20241020T150000
DTEND;TZID=America/Phoenix:20241020T173000
DTSTAMP:20260423T154548
CREATED:20241015T225528Z
LAST-MODIFIED:20241015T225625Z
UID:20395-1729436400-1729445400@www.unitedskates.com
SUMMARY:Glow in the dark Stitch Skate
DESCRIPTION:🌺Join Us For our Glow In The Dark Stitch Skate🌺 \n🎶 Listen to your favorite Disney Songs🎶 \n📷 Don’t forget to take pictures with your favorite friend Stitch!📷 \n$11 Admission \n$4 for non-skating adults \n$4.50 for skate rental
URL:https://www.unitedskates.com/skateland-mesa/event/glow-in-the-dark-stitch-skate/
LOCATION:AZ
CATEGORIES:Adult Events,Family Events,Public Skates,Special Events
ATTACH;FMTTYPE=image/png:https://unitedskates-assets.sfo3.digitaloceanspaces.com/wp-content/uploads/sites/20/2024/10/Sunday-October-20th.png
END:VEVENT
END:VCALENDAR