BEGIN:VCALENDAR
VERSION:2.0
PRODID:-//Rink 50 - Skateland Mesa - ECPv6.15.20//NONSGML v1.0//EN
CALSCALE:GREGORIAN
METHOD:PUBLISH
X-ORIGINAL-URL:https://www.unitedskates.com/skateland-mesa
X-WR-CALDESC:Events for Rink 50 - Skateland Mesa
REFRESH-INTERVAL;VALUE=DURATION:PT1H
X-Robots-Tag:noindex
X-PUBLISHED-TTL:PT1H
BEGIN:VTIMEZONE
TZID:America/Phoenix
BEGIN:STANDARD
TZOFFSETFROM:-0700
TZOFFSETTO:-0700
TZNAME:MST
DTSTART:20250101T000000
END:STANDARD
END:VTIMEZONE
BEGIN:VEVENT
DTSTART;TZID=America/Phoenix:20260418T190000
DTEND;TZID=America/Phoenix:20260418T213000
DTSTAMP:20260425T121520
CREATED:20260305T065830Z
LAST-MODIFIED:20260322T213817Z
UID:27587-1776538800-1776547800@www.unitedskates.com
SUMMARY:Jam Skate Saturday
DESCRIPTION:Get ready to roll\, groove\, and vibe at Jam Skate every Saturday night at Skateland! 🎶✨ \n✨ Incredible jam skating and shuffle moves \n🎶 The best throwback freestyle tracks \n🛼 A high-energy skate floor \n🙌 A welcoming vibe for skaters who love the culture \n💲 Admission: $14 \n🛼 Skate Rental: $5 \n👨‍👩‍👧 Non-Skating Adult: $4 \nSkaters 17 & under must have an adult (23+) present with them. \n***NO Outside Food or Drinks. \n***Wristguards are Mandatory. Free of Charge.***
URL:https://www.unitedskates.com/skateland-mesa/event/jam-skate-saturday/2026-04-18/
CATEGORIES:Family Events,Public Skates
ATTACH;FMTTYPE=image/png:https://unitedskates-assets.sfo3.digitaloceanspaces.com/wp-content/uploads/sites/20/2026/03/Jam-Skate-1.png
END:VEVENT
BEGIN:VEVENT
DTSTART;TZID=America/Phoenix:20260411T190000
DTEND;TZID=America/Phoenix:20260411T213000
DTSTAMP:20260425T121520
CREATED:20260305T065830Z
LAST-MODIFIED:20260322T213817Z
UID:27586-1775934000-1775943000@www.unitedskates.com
SUMMARY:Jam Skate Saturday
DESCRIPTION:Get ready to roll\, groove\, and vibe at Jam Skate every Saturday night at Skateland! 🎶✨ \n✨ Incredible jam skating and shuffle moves \n🎶 The best throwback freestyle tracks \n🛼 A high-energy skate floor \n🙌 A welcoming vibe for skaters who love the culture \n💲 Admission: $14 \n🛼 Skate Rental: $5 \n👨‍👩‍👧 Non-Skating Adult: $4 \nSkaters 17 & under must have an adult (23+) present with them. \n***NO Outside Food or Drinks. \n***Wristguards are Mandatory. Free of Charge.***
URL:https://www.unitedskates.com/skateland-mesa/event/jam-skate-saturday/2026-04-11/
CATEGORIES:Family Events,Public Skates
ATTACH;FMTTYPE=image/png:https://unitedskates-assets.sfo3.digitaloceanspaces.com/wp-content/uploads/sites/20/2026/03/Jam-Skate-1.png
END:VEVENT
BEGIN:VEVENT
DTSTART;TZID=America/Phoenix:20260328T190000
DTEND;TZID=America/Phoenix:20260328T213000
DTSTAMP:20260425T121520
CREATED:20260305T065830Z
LAST-MODIFIED:20260322T213817Z
UID:27584-1774724400-1774733400@www.unitedskates.com
SUMMARY:Jam Skate Saturday
DESCRIPTION:Get ready to roll\, groove\, and vibe at Jam Skate every Saturday night at Skateland! 🎶✨ \n✨ Incredible jam skating and shuffle moves \n🎶 The best throwback freestyle tracks \n🛼 A high-energy skate floor \n🙌 A welcoming vibe for skaters who love the culture \n💲 Admission: $14 \n🛼 Skate Rental: $5 \n👨‍👩‍👧 Non-Skating Adult: $4 \nSkaters 17 & under must have an adult (23+) present with them. \n***NO Outside Food or Drinks. \n***Wristguards are Mandatory. Free of Charge.***
URL:https://www.unitedskates.com/skateland-mesa/event/jam-skate-saturday/2026-03-28/
CATEGORIES:Family Events,Public Skates
ATTACH;FMTTYPE=image/png:https://unitedskates-assets.sfo3.digitaloceanspaces.com/wp-content/uploads/sites/20/2026/03/Jam-Skate-1.png
END:VEVENT
BEGIN:VEVENT
DTSTART;TZID=America/Phoenix:20260321T190000
DTEND;TZID=America/Phoenix:20260321T213000
DTSTAMP:20260425T121520
CREATED:20260305T065830Z
LAST-MODIFIED:20260322T213817Z
UID:27583-1774119600-1774128600@www.unitedskates.com
SUMMARY:Jam Skate Saturday
DESCRIPTION:Get ready to roll\, groove\, and vibe at Jam Skate every Saturday night at Skateland! 🎶✨ \n✨ Incredible jam skating and shuffle moves \n🎶 The best throwback freestyle tracks \n🛼 A high-energy skate floor \n🙌 A welcoming vibe for skaters who love the culture \n💲 Admission: $14 \n🛼 Skate Rental: $5 \n👨‍👩‍👧 Non-Skating Adult: $4 \nSkaters 17 & under must have an adult (23+) present with them. \n***NO Outside Food or Drinks. \n***Wristguards are Mandatory. Free of Charge.***
URL:https://www.unitedskates.com/skateland-mesa/event/jam-skate-saturday/2026-03-21/
CATEGORIES:Family Events,Public Skates
ATTACH;FMTTYPE=image/png:https://unitedskates-assets.sfo3.digitaloceanspaces.com/wp-content/uploads/sites/20/2026/03/Jam-Skate-1.png
END:VEVENT
BEGIN:VEVENT
DTSTART;TZID=America/Phoenix:20260314T190000
DTEND;TZID=America/Phoenix:20260314T213000
DTSTAMP:20260425T121520
CREATED:20260305T065830Z
LAST-MODIFIED:20260322T213816Z
UID:27582-1773514800-1773523800@www.unitedskates.com
SUMMARY:Jam Skate Saturday
DESCRIPTION:Get ready to roll\, groove\, and vibe at Jam Skate every Saturday night at Skateland! 🎶✨ \n✨ Incredible jam skating and shuffle moves \n🎶 The best throwback freestyle tracks \n🛼 A high-energy skate floor \n🙌 A welcoming vibe for skaters who love the culture \n💲 Admission: $14 \n🛼 Skate Rental: $5 \n👨‍👩‍👧 Non-Skating Adult: $4 \nSkaters 17 & under must have an adult (23+) present with them. \n***NO Outside Food or Drinks. \n***Wristguards are Mandatory. Free of Charge.***
URL:https://www.unitedskates.com/skateland-mesa/event/jam-skate-saturday/2026-03-14/
CATEGORIES:Family Events,Public Skates
ATTACH;FMTTYPE=image/png:https://unitedskates-assets.sfo3.digitaloceanspaces.com/wp-content/uploads/sites/20/2026/03/Jam-Skate-1.png
END:VEVENT
BEGIN:VEVENT
DTSTART;TZID=America/Phoenix:20260307T190000
DTEND;TZID=America/Phoenix:20260307T213000
DTSTAMP:20260425T121520
CREATED:20260305T065830Z
LAST-MODIFIED:20260322T213816Z
UID:27580-1772910000-1772919000@www.unitedskates.com
SUMMARY:Jam Skate Saturday
DESCRIPTION:Get ready to roll\, groove\, and vibe at Jam Skate every Saturday night at Skateland! 🎶✨ \n✨ Incredible jam skating and shuffle moves \n🎶 The best throwback freestyle tracks \n🛼 A high-energy skate floor \n🙌 A welcoming vibe for skaters who love the culture \n💲 Admission: $14 \n🛼 Skate Rental: $5 \n👨‍👩‍👧 Non-Skating Adult: $4 \nSkaters 17 & under must have an adult (23+) present with them. \n***NO Outside Food or Drinks. \n***Wristguards are Mandatory. Free of Charge.***
URL:https://www.unitedskates.com/skateland-mesa/event/jam-skate-saturday/2026-03-07/
CATEGORIES:Family Events,Public Skates
ATTACH;FMTTYPE=image/png:https://unitedskates-assets.sfo3.digitaloceanspaces.com/wp-content/uploads/sites/20/2026/03/Jam-Skate-1.png
END:VEVENT
END:VCALENDAR