BEGIN:VCALENDAR
VERSION:2.0
PRODID:-//Rink 52 - Skateland Chandler - ECPv6.15.20//NONSGML v1.0//EN
CALSCALE:GREGORIAN
METHOD:PUBLISH
X-ORIGINAL-URL:https://www.unitedskates.com/skateland-chandler
X-WR-CALDESC:Events for Rink 52 - Skateland Chandler
REFRESH-INTERVAL;VALUE=DURATION:PT1H
X-Robots-Tag:noindex
X-PUBLISHED-TTL:PT1H
BEGIN:VTIMEZONE
TZID:America/Phoenix
BEGIN:STANDARD
TZOFFSETFROM:-0700
TZOFFSETTO:-0700
TZNAME:MST
DTSTART:20250101T000000
END:STANDARD
END:VTIMEZONE
BEGIN:VEVENT
DTSTART;TZID=America/Phoenix:20260531T123000
DTEND;TZID=America/Phoenix:20260531T150000
DTSTAMP:20260421T043838
CREATED:20260106T005522Z
LAST-MODIFIED:20260330T211826Z
UID:17326-1780230600-1780239600@www.unitedskates.com
SUMMARY:🕺 Minions Disco Vibe Skate Party! 🍌
DESCRIPTION:🕺 Get Ready to Boogie at the Minions Disco Vibe Skate Party! 🍌\nDust off your bell-bottoms and get your goggles ready! We are bringing a 70s flair to the rink with a special guest who’s one-in-a-minion. Join us for a high-energy afternoon of skating\, disco hits\, and yellow mischief! 🛼🛼 \nEvent Details:\n\n\nWhen: Sunday\, May 31st \n\n\nTime: 12:30pm – 3:00pm \n\n\nLocation: Skateland Chandler \n\n\nPricing:\n\n\nAdmission: $12 \n\n\nSkate Rental: $5 \n\n\nSpectators: $4 \n\n\n\nWhat’s Happening:\n\n\n📸 Meet & Greet: Grab a photo with our visiting Minion! \n\n\n🕺 Costume Contest: Dress in your best Minion-yellow or grooviest Disco outfit. \n\n\n🍕 Fuel Up: Full cafe service available featuring fresh pizza and cold drinks! \n\n\nDon’t miss out on the grooviest party in Chandler. Tag your friends and start planning your costumes now! 🛼✨ \nLearn more at www.SkatelandChandler.com or call us at 480-917-9444. \n 
URL:https://www.unitedskates.com/skateland-chandler/event/%e2%9c%a8%f0%9f%9b%bc%f0%9f%8e%89-character-glow-skate-party-%f0%9f%8e%89%f0%9f%9b%bc%e2%9c%a8-2026-03-29-2026-05-31/
LOCATION:Skateland Chandler\, 1101 W. Ray Rd.\, Chandler\, AZ\, 85224\, United States
CATEGORIES:Family Events,Public Skates,Special Events
ATTACH;FMTTYPE=image/png:https://unitedskates-assets.sfo3.digitaloceanspaces.com/wp-content/uploads/sites/19/2026/01/Minions-Disco-VIBE-Pizza-Party.png
END:VEVENT
BEGIN:VEVENT
DTSTART;TZID=America/Phoenix:20260531T153000
DTEND;TZID=America/Phoenix:20260531T180000
DTSTAMP:20260421T043838
CREATED:20241211T223756Z
LAST-MODIFIED:20241211T223756Z
UID:16165-1780241400-1780250400@www.unitedskates.com
SUMMARY:✨  Sunday Public Skate ! ✨
DESCRIPTION:✨  Skate Party at Skateland Chandler! ✨ \nJoin us for a fun-filled Sunday afternoon at Skateland Chandler from 3:30 PM – 6:00 PM! Get your skates on and groove to the best Top 40 hits. Perfect for friends\, family\, and anyone looking to enjoy a great time on wheels! \n📍 Location: 1101 West Ray Blvd\, Chandler\, AZ 85224\n📞 Contact: 480-917-9444\n🎉 Admission: $11 Online/ $12.00 in Person\n🛼 Skate Rental: $5\nBring your own skates or rent ours! \n✨ Birthday Parties Available! ✨\nCelebrate your special day with us — let us make it unforgettable! \nImportant Info: \n\nChildren (ages 3-17) must pay admission and skate rental (or bring their own skates).\nNon-skating adults (spectators) are $4.\nAll guests are required to sign a waiver\, available at skatelandchandler.com.\n\nAll prices exclude tax. \nCome have fun\, skate\, and make memories at Skateland Chandler!
URL:https://www.unitedskates.com/skateland-chandler/event/%e2%9c%a8-sunday-fun-day-skate-party-at-skateland-chandler-%e2%9c%a8-2025-05-25/2026-05-31/
LOCATION:Skateland Chandler\, 1101 W. Ray Rd.\, Chandler\, AZ\, 85224\, United States
CATEGORIES:Family Events,Public Skates
ATTACH;FMTTYPE=image/jpeg:https://unitedskates-assets.sfo3.digitaloceanspaces.com/wp-content/uploads/sites/19/2022/11/Public-Skate-1200x900-v2.jpg
END:VEVENT
END:VCALENDAR