BEGIN:VCALENDAR
VERSION:2.0
PRODID:-//Rink 52 - Skateland Chandler - ECPv6.15.20//NONSGML v1.0//EN
CALSCALE:GREGORIAN
METHOD:PUBLISH
X-WR-CALNAME:Rink 52 - Skateland Chandler
X-ORIGINAL-URL:https://www.unitedskates.com/skateland-chandler
X-WR-CALDESC:Events for Rink 52 - Skateland Chandler
REFRESH-INTERVAL;VALUE=DURATION:PT1H
X-Robots-Tag:noindex
X-PUBLISHED-TTL:PT1H
BEGIN:VTIMEZONE
TZID:America/Phoenix
BEGIN:STANDARD
TZOFFSETFROM:-0700
TZOFFSETTO:-0700
TZNAME:MST
DTSTART:20250101T000000
END:STANDARD
END:VTIMEZONE
BEGIN:VEVENT
DTSTART;TZID=America/Phoenix:20260320T113000
DTEND;TZID=America/Phoenix:20260320T140000
DTSTAMP:20260421T071908
CREATED:20260202T224151Z
LAST-MODIFIED:20260210T182429Z
UID:16930-1774006200-1774015200@www.unitedskates.com
SUMMARY:🛸👽✨ Alien Invasion Roller Skate ✨👽🛸
DESCRIPTION:🛸👽✨ Alien Invasion Roller Skate ✨👽🛸\n📅 Friday\, March 20 | ⏰ 11:30 AM – 2:00 PM \nPrepare for an out-of-this-world experience! 🌌🚀 Come invade our rink for this extraterrestrial event featuring alien visits\, alien trivia\, and fun music all day long. It’s going to be “outta this world” fun with our extraterrestrial friends! 🪐✨ \n\n\n🎟️ Midday Session (11:30 AM – 2:00 PM) – $12 Admission \n\n\n🛼 Skate Rental – $5 \n\n\n👀 Spectators – $4 \n\n\n📍 Location: 1101 W Ray Rd. Chandler\, AZ 85224 📞 Contact: 480-917-9444
URL:https://www.unitedskates.com/skateland-chandler/event/%f0%9f%9b%b8%f0%9f%91%bd%e2%9c%a8-alien-invasion-roller-skate-%e2%9c%a8%f0%9f%91%bd%f0%9f%9b%b8/
LOCATION:Skateland Chandler\, 1101 W. Ray Rd.\, Chandler\, AZ\, 85224\, United States
CATEGORIES:Family Events,Public Skates,Special Events
ATTACH;FMTTYPE=image/png:https://unitedskates-assets.sfo3.digitaloceanspaces.com/wp-content/uploads/sites/19/2026/02/Alien-Invasion-Skate-1.png
END:VEVENT
BEGIN:VEVENT
DTSTART;TZID=America/Phoenix:20260320T143000
DTEND;TZID=America/Phoenix:20260320T170000
DTSTAMP:20260421T071908
CREATED:20260202T224221Z
LAST-MODIFIED:20260210T182450Z
UID:16932-1774017000-1774026000@www.unitedskates.com
SUMMARY:🛸👽✨ Alien Invasion Roller Skate ✨👽🛸
DESCRIPTION:🛸👽✨ Alien Invasion Roller Skate ✨👽🛸\n📅 Friday\, March 20 | ⏰ 2:30 PM – 5:00 PM \nPrepare for an out-of-this-world experience! 🌌🚀 Come invade our rink for this extraterrestrial event featuring alien visits\, alien trivia\, and fun music all day long. It’s going to be “outta this world” fun with our extraterrestrial friends! 🪐✨ \n\n\n🎟️ Afternoon Session (2:30 PM – 5:00 PM) – $12 Admission \n\n\n🛼 Skate Rental – $5 \n\n\n👀 Spectators – $4 \n\n\n📍 Location: 1101 W Ray Rd. Chandler\, AZ 85224 📞 Contact: 480-917-9444
URL:https://www.unitedskates.com/skateland-chandler/event/%f0%9f%9b%b8%f0%9f%91%bd%e2%9c%a8-alien-invasion-roller-skate-%e2%9c%a8%f0%9f%91%bd%f0%9f%9b%b8-2/
LOCATION:Skateland Chandler\, 1101 W. Ray Rd.\, Chandler\, AZ\, 85224\, United States
CATEGORIES:Family Events,Public Skates,Special Events
ATTACH;FMTTYPE=image/png:https://unitedskates-assets.sfo3.digitaloceanspaces.com/wp-content/uploads/sites/19/2026/02/Alien-Invasion-Skate-1.png
END:VEVENT
BEGIN:VEVENT
DTSTART;TZID=America/Phoenix:20260320T170000
DTEND;TZID=America/Phoenix:20260320T210000
DTSTAMP:20260421T071908
CREATED:20241130T201056Z
LAST-MODIFIED:20260202T224400Z
UID:15745-1774026000-1774040400@www.unitedskates.com
SUMMARY:👽💙🌌 Stitch’s Alien Invasion 🌌💙👽
DESCRIPTION:👽💙🌌 Stitch’s Alien Invasion 🌌💙👽\n📅 Friday\, March 20th | ⏰ 5:00–9:00 PM \nPrepare for a galactic takeover! 🚀✨ Come out and meet everyone’s favorite extraterrestrial experiment—Stitch! Join us for an out-of-this-world evening featuring alien trivia\, games\, and Disney Hits music playing all session long. Plus\, don’t forget to check out our Cafe Specials while you invade the rink with all our alien friends! \n\n\n🎟️ Admission – $14 (Includes a FREE Glow Stick!) \n\n\n🛼 Skate Rental – $5 \n\n\n👀 Spectators – $4 \n\n\n📍 Location: 1101 W Ray Rd. Chandler\, AZ 85224 📞 Contact: 480-917-9444 \n🎂 Birthday Parties Available!\nCelebrate your special day at Skateland and create memories to last a lifetime! 🎈 \nGroup rates available for 10 or more\, reservations required \n⚠️ Important Reminder: \nAll Guests Entering the Facility must have a signed\, liability waiver with the current date. \nAll Guests are required to wear wrist guards. \nBring the whole family\, lace up your skates\, and roll into a fantastic time this Friday Night! 🛼💥 \n#SkatelandChandler #PublicSkate #FridayNightFun #RollerSkating #FamilyFun #Top40Hits #ChandlerAZ #SkateRental #BirthdayParties #WeekendFun #ChandlerEvents #SkatingInChandler #RollIntoFun #SkateTime #FamilyEntertainment #RollerSkatingFun
URL:https://www.unitedskates.com/skateland-chandler/event/%f0%9f%9a%a8-public-skate-every-friday-night-6-9pm-at-skateland-chandler-%f0%9f%9a%a8-2025-05-23-2026-03-20/
LOCATION:Skateland Chandler\, 1101 W. Ray Rd.\, Chandler\, AZ\, 85224\, United States
CATEGORIES:Family Events,Public Skates,Special Events
ATTACH;FMTTYPE=image/png:https://unitedskates-assets.sfo3.digitaloceanspaces.com/wp-content/uploads/sites/19/2024/11/Copy-of-Stitch-Alien-Invasion.png
END:VEVENT
END:VCALENDAR