BEGIN:VCALENDAR
VERSION:2.0
PRODID:-//Rink 52 - Skateland Chandler - ECPv6.15.20//NONSGML v1.0//EN
CALSCALE:GREGORIAN
METHOD:PUBLISH
X-ORIGINAL-URL:https://www.unitedskates.com/skateland-chandler
X-WR-CALDESC:Events for Rink 52 - Skateland Chandler
REFRESH-INTERVAL;VALUE=DURATION:PT1H
X-Robots-Tag:noindex
X-PUBLISHED-TTL:PT1H
BEGIN:VTIMEZONE
TZID:America/Phoenix
BEGIN:STANDARD
TZOFFSETFROM:-0700
TZOFFSETTO:-0700
TZNAME:MST
DTSTART:20250101T000000
END:STANDARD
END:VTIMEZONE
BEGIN:VEVENT
DTSTART;TZID=America/Phoenix:20260221T090000
DTEND;TZID=America/Phoenix:20260221T100000
DTSTAMP:20260419T081636
CREATED:20241108T165354Z
LAST-MODIFIED:20241108T165354Z
UID:16044-1771664400-1771668000@www.unitedskates.com
SUMMARY:Learn to Skate Every Saturday Morning!
DESCRIPTION:Skateland Chandler Presents… Learn to Skate Every Saturday Morning!\n\n\n\n\n\n\n\n\n\n\n⏰ When: Every Saturday\n🕘 Time: 9:00am-10:00am (Doors open at 8:45am\, and will close at 9:00am sharp!)\n📍 Where: Skateland Chandler | 1101 W Ray Rd\, Chandler\, AZ 85224 \nReady to roll? 🛼 Whether you’re a beginner or just looking to brush up on your skills\, our Saturday morning skate classes are perfect for all ages! Kids (4 & up) and adults of all ages are welcome to join us for a fun and interactive lesson. Our family of skaters is here to support you every step of the way! \nOnly $20 per person!\nIncludes: \n\nSkate Lesson 🏆\nAdmission 🎟️\nSkate Rental 🛹\nFisher Price Skates Available for the little ones!\nFREE Wrist Guards for extra safety 💪\n\nStop by our lobby for more details or to gear up for your class! \nCome skate with us this Saturday — we can’t wait to meet you! \n📞 Call 480-917-9444 or visit SkatelandChandler.com for more info.
URL:https://www.unitedskates.com/skateland-chandler/event/learn-to-skate-every-saturday-morning-2025-05-24/2026-02-21/
LOCATION:Skateland Chandler\, 1101 W. Ray Rd.\, Chandler\, AZ\, 85224\, United States
CATEGORIES:Adult Events,Family Events,Lessons,Public Skates
ATTACH;FMTTYPE=image/png:https://unitedskates-assets.sfo3.digitaloceanspaces.com/wp-content/uploads/sites/19/2024/11/Screenshot-2024-11-08-094601.png
END:VEVENT
BEGIN:VEVENT
DTSTART;TZID=America/Phoenix:20260221T100000
DTEND;TZID=America/Phoenix:20260221T120000
DTSTAMP:20260419T081636
CREATED:20231229T202354Z
LAST-MODIFIED:20260106T193444Z
UID:15877-1771668000-1771675200@www.unitedskates.com
SUMMARY:🌺🛼🏝️ Little Rollers Bikini Bottom Luau Skate! 🏝️🛼🌺
DESCRIPTION:🌺🛼🏝️ Bikini Bottom Luau Skate! 🏝️🛼🌺 \n📅 Saturday\, February 21 | ⏰ 10:00 AM – 12:00 PM \nAloha! 🥥 Grab your grass skirts and Hawaiian shirts for the ultimate tropical mashup! We’re bringing the island vibes to the rink for our Bikini Bottom Luau Skate. Get ready for some “sun-sational” fun with two of your favorite island-loving friends! 🌊✨ \n\n🎟️ Admission Details:\n\n\nGeneral Admission: $12 \n\n\nSkate Rental: $5 \n\n\nSpectators: $4 \n\n\n\n⭐ Upgrade to the SUPER PASS – $22!\nMake a big splash with the best value on the island! This package includes: \n\n\n✅ Admission & Skate Rental \n\n\n✅ 20 Game Credits for the Arcade \n\n\n✅ 1 Bright Glow Stick \n\n\n\nMorning Highlights:\n\n\n📸 Meet & Greet: Hang ten and take photos with SpongeBob SquarePants AND Stitch! \n\n\n🎶 Luau Jams: Rolling to tropical hits and your favorite upbeat tunes. \n\n\n🏝️ Island Spirit: Wear your favorite luau gear or floral prints! \n\n\nLace up and get ready to hula on wheels! It’s going to be the best day ever in our tropical paradise. Don’t miss out on this “Ohana” family adventure! 🛼🍍🤙 \n#BikiniBottomLuau #SpongeBobAndStitch #FamilySkate #LuauParty #SkateLife #OhanaMeansFamily \n👶 Perfect for beginners! Skatemates are available for $6.00 to help little ones get rolling with confidence. \n🎵 Dance & Skate! Enjoy a playlist packed with Disney hits\, Kidz Bop\, and the best pop music all session long! \n✨ Bonus Fun! A special character guest makes an appearance each week to add to the excitement! \nDon’t miss out on this fun-filled Saturday tradition—bring your little skaters and make unforgettable memories! 🚀💖
URL:https://www.unitedskates.com/skateland-chandler/event/disney-hits-little-roller-skate-2025-05-24-2026-02-21/
LOCATION:Skateland Chandler\, 1101 W. Ray Rd.\, Chandler\, AZ\, 85224\, United States
CATEGORIES:Family Events,Public Skates,Special Events
ATTACH;FMTTYPE=image/png:https://unitedskates-assets.sfo3.digitaloceanspaces.com/wp-content/uploads/sites/19/2023/12/Bikini-Bottom-Luau.png
END:VEVENT
BEGIN:VEVENT
DTSTART;TZID=America/Phoenix:20260221T123000
DTEND;TZID=America/Phoenix:20260221T150000
DTSTAMP:20260419T081636
CREATED:20241102T005555Z
LAST-MODIFIED:20260106T193606Z
UID:15939-1771677000-1771686000@www.unitedskates.com
SUMMARY:🌺🛼🏝️ Bikini Bottom Luau Skate! 🏝️🛼🌺
DESCRIPTION:🌺🛼🏝️ Bikini Bottom Luau Skate! 🏝️🛼🌺 \n📅 Saturday\, February 21 | ⏰ 12:30 – 3:00 PM \nAloha! 🥥 Grab your grass skirts and Hawaiian shirts for the ultimate tropical mashup! We’re bringing the island vibes to the rink for our Bikini Bottom Luau Skate. Get ready for some “sun-sational” fun with two of your favorite island-loving friends! 🌊✨ \n\n🎟️ Admission Details:\n\n\nGeneral Admission: $12 \n\n\nSkate Rental: $5 \n\n\nSpectators: $4 \n\n\n\n⭐ Upgrade to the SUPER PASS – $22!\nMake a big splash with the best value on the island! This package includes: \n\n\n✅ Admission & Skate Rental \n\n\n✅ 20 Game Credits for the Arcade \n\n\n✅ 1 Bright Glow Stick \n\n\n\nSession Highlights:\n\n\n📸 Meet & Greet: Hang ten and take photos with SpongeBob SquarePants AND Stitch! \n\n\n🎶 Luau Jams: Rolling to tropical hits and your favorite upbeat tunes. \n\n\n🏝️ Island Spirit: Wear your favorite luau gear or floral prints! \n\n\nLace up and get ready to hula on wheels! It’s going to be the best day ever in our tropical paradise. Don’t miss out on this “Ohana” family adventure! 🛼🍍🤙 \n#BikiniBottomLuau #SpongeBobAndStitch #FamilySkate #LuauParty #SkateLife #OhanaMeansFamily \n✨ Important Info: \n\nAll children ages 3-17 must pay admission and for skate rental (or bring their own skates).\nAll guests must sign a liability waiver.\n\n🎈 Birthday Parties Available! Make the day extra special by booking a party with us! 🎂🌟\n🌟 Group Rates Available! Contact Diane for more details. \n📍 Location: 1101 W Ray Rd\, Chandler\, AZ 85224\n📞 Call us: 480.917.9444\n🌐 Visit: www.skatelandchandler.com \n✨ We can’t wait to celebrate with you! (*Tax not included) 🎉
URL:https://www.unitedskates.com/skateland-chandler/event/%f0%9f%8e%89-public-skate-at-skateland-chandler-%f0%9f%9b%bc-2025-05-24-2026-02-21/
LOCATION:Skateland Chandler\, 1101 W. Ray Rd.\, Chandler\, AZ\, 85224\, United States
CATEGORIES:Family Events,Public Skates,Special Events
ATTACH;FMTTYPE=image/png:https://unitedskates-assets.sfo3.digitaloceanspaces.com/wp-content/uploads/sites/19/2023/12/Bikini-Bottom-Luau.png
END:VEVENT
BEGIN:VEVENT
DTSTART;TZID=America/Phoenix:20260221T153000
DTEND;TZID=America/Phoenix:20260221T180000
DTSTAMP:20260419T081636
CREATED:20241125T172303Z
LAST-MODIFIED:20260106T193757Z
UID:15986-1771687800-1771696800@www.unitedskates.com
SUMMARY:🌺🛼🏝️ Bikini Bottom Luau Skate! 🏝️🛼🌺
DESCRIPTION:🌺🛼🏝️ Bikini Bottom Luau Skate! 🏝️🛼🌺 \n📅 Saturday\, February 21 | ⏰ 12:30 – 3:00 PM \nAloha! 🥥 Grab your grass skirts and Hawaiian shirts for the ultimate tropical mashup! We’re bringing the island vibes to the rink for our Bikini Bottom Luau Skate. Get ready for some “sun-sational” fun with two of your favorite island-loving friends! 🌊✨ \n\n🎟️ Admission Details:\n\n\nGeneral Admission: $12 \n\n\nSkate Rental: $5 \n\n\nSpectators: $4 \n\n\n\n⭐ Upgrade to the SUPER PASS – $22!\nMake a big splash with the best value on the island! This package includes: \n\n\n✅ Admission & Skate Rental \n\n\n✅ 20 Game Credits for the Arcade \n\n\n✅ 1 Bright Glow Stick \n\n\n\nSession Highlights:\n\n\n📸 Meet & Greet: Hang ten and take photos with SpongeBob SquarePants AND Stitch! \n\n\n🎶 Luau Jams: Rolling to tropical hits and your favorite upbeat tunes. \n\n\n🏝️ Island Spirit: Wear your favorite luau gear or floral prints! \n\n\nLace up and get ready to hula on wheels! It’s going to be the best day ever in our tropical paradise. Don’t miss out on this “Ohana” family adventure! 🛼🍍🤙 \n#BikiniBottomLuau #SpongeBobAndStitch #FamilySkate #LuauParty #SkateLife #OhanaMeansFamily \n\n\n\n\n\n\n\n\n\n\n\n🎂 Birthday Parties Available!\n📞 Contact Us: (480) 917-9444 for reservations and group rates. \nImportant Info: \n\nAll children (ages 3-17) must pay admission & skate rental (or bring their own skates).\nNon-skating adults: $4.00\nAll Guests are required to sign a liability waiver the day of skating.\nAll Guests are required to wear wrist guards.\n\n✨ Private parties available by reservation only! \n👉 Visit us online: www.skatelandchandler.com \nSee you on the rink! 🛼
URL:https://www.unitedskates.com/skateland-chandler/event/%f0%9f%8e%89-public-skate-every-saturday-at-skateland-chandler-%f0%9f%8e%89-2025-05-24-2026-02-21/
LOCATION:Skateland Chandler\, 1101 W. Ray Rd.\, Chandler\, AZ\, 85224\, United States
CATEGORIES:Family Events,Public Skates
ATTACH;FMTTYPE=image/png:https://unitedskates-assets.sfo3.digitaloceanspaces.com/wp-content/uploads/sites/19/2023/12/Bikini-Bottom-Luau.png
END:VEVENT
BEGIN:VEVENT
DTSTART;TZID=America/Phoenix:20260221T183000
DTEND;TZID=America/Phoenix:20260221T210000
DTSTAMP:20260419T081636
CREATED:20250521T001424Z
LAST-MODIFIED:20260106T193748Z
UID:15618-1771698600-1771707600@www.unitedskates.com
SUMMARY:🌺🛼✨ Bikini Bottom Luau Glow Skate! ✨🛼🌺
DESCRIPTION:🌺🛼✨ Bikini Bottom Luau Glow Skate! ✨🛼🌺 \n📅 Saturday\, February 21 | ⏰ 6:30–9:00 PM \nAloha! 🥥 Grab your grass skirts and your neon gear for a tropical glow party like no other! We’re turning down the lights and bringing the island vibes to the rink for our Bikini Bottom Luau Glow Skate. Get ready for a “sun-sational” night under the blacklights! 🌊🌈 \n\n🎟️ Admission Details:\n\n\nGeneral Admission: $14 \n\n\nSkate Rental: $5 \n\n\nSpectators: $4 \n\n\n\n⭐ Upgrade to the SUPER PASS – $22!\nMake a big splash with the best value on the island! This package includes: \n\n\n✅ Admission & Skate Rental \n\n\n✅ 20 Game Credits for the Arcade \n\n\n✅ 1 Bright Glow Stick to light up the night! \n\n\n\nEvening Highlights:\n\n\n📸 Meet & Greet: Hang ten and take photos with SpongeBob SquarePants AND Stitch! \n\n\n🎶 Glow Jams: Rolling to tropical hits and high-energy beats under the neon lights. \n\n\n🏝️ Neon Luau: Wear your favorite floral prints or brightest neon colors to glow on the floor! \n\n\nLace up and get ready to hula on wheels! It’s going to be a glowing “Ohana” adventure the whole family will love. 🛼🍍🤙 \n#BikiniBottomLuau #GlowSkate #SpongeBobAndStitch #FamilyFun #LuauParty #SkateLife #Ohana \n✨ Birthday Parties Available! ✨\nCelebrate your special day with us — let us make it unforgettable! \nImportant Info: \n\nChildren (ages 3-17): Must pay for admission and skate rental (or bring their own skates).\nNon-Skating Adults (spectators): $4\nAll guests are required to sign a liability waiver the day of skating (available at skatelandchandler.com)\nAll prices exclude tax.\nAll guests must wear wrist guards.\n\nCome have fun\, skate\, and make memories at Skateland Chandler — it’s the place to be for Girls Night Out\, 80’s Glow\, and family fun! 🌟 \n📍 Location: 1101 West Ray Road\, Chandler\, AZ 85224\n📞 Phone: 480-917-9444\n🌐 Website: Skateland Chandler \nThe FUN Starts Here — Don’t miss out! 😎🕺💃\n#GlowSkate #SkatelandChandler #SaturdayFun
URL:https://www.unitedskates.com/skateland-chandler/event/%f0%9f%8e%89-family-neon-glow-skate-%f0%9f%8e%89-2026-02-21/
LOCATION:Skateland Chandler\, 1101 W. Ray Rd.\, Chandler\, AZ\, 85224\, United States
CATEGORIES:Family Events,Public Skates,Special Events
ATTACH;FMTTYPE=image/png:https://unitedskates-assets.sfo3.digitaloceanspaces.com/wp-content/uploads/sites/19/2023/12/Bikini-Bottom-Luau.png
END:VEVENT
END:VCALENDAR