BEGIN:VCALENDAR
VERSION:2.0
PRODID:-//Rink 52 - Skateland Chandler - ECPv6.15.20//NONSGML v1.0//EN
CALSCALE:GREGORIAN
METHOD:PUBLISH
X-ORIGINAL-URL:https://www.unitedskates.com/skateland-chandler
X-WR-CALDESC:Events for Rink 52 - Skateland Chandler
REFRESH-INTERVAL;VALUE=DURATION:PT1H
X-Robots-Tag:noindex
X-PUBLISHED-TTL:PT1H
BEGIN:VTIMEZONE
TZID:America/Phoenix
BEGIN:STANDARD
TZOFFSETFROM:-0700
TZOFFSETTO:-0700
TZNAME:MST
DTSTART:20250101T000000
END:STANDARD
END:VTIMEZONE
BEGIN:VEVENT
DTSTART;TZID=America/Phoenix:20260218T100000
DTEND;TZID=America/Phoenix:20260218T123000
DTSTAMP:20260421T171221
CREATED:20260106T195445Z
LAST-MODIFIED:20260106T195445Z
UID:16668-1771408800-1771417800@www.unitedskates.com
SUMMARY:🎓🛼📚 Homeschool Skate! 📚🛼🎓
DESCRIPTION:🎓🛼📚 Homeschool Skate! 📚🛼🎓 \n📅 Wednesday\, February 18 | ⏰ 10:00 AM – 12:30 PM \nTake the learning to the rink! 🧠✨ Join us for a fun-filled morning of physical education and socialization at our Homeschool Skate. It’s the perfect mid-week break for students to burn off some energy\, connect with friends\, and master their skills on wheels! \n\n🎟️ Admission Details:\n\n\nGeneral Admission: $12 (Includes FREE Skate Rental!) \n\n\nSpectators: $4 \n\n\n\nPerfect For:\n\n\n🏠 Homeschool Groups \n\n\n🤝 Co-ops \n\n\n🏫 Microschools \n\n\n👨‍👩‍👧‍👦 Independent Learners \n\n\n\nGroup Bookings:\nBringing a crew? We love hosting groups! 📞 Call 480-917-9444 to reserve your spot for groups of 10 or more! \nLace up for some active fun and community building. See you on the floor! 🛼📖⭐ \n#HomeschoolSkate #PEOnWheels #HomeschoolCommunity #CoOpFun #SkateLife #ActiveLearning
URL:https://www.unitedskates.com/skateland-chandler/event/%f0%9f%8e%93%f0%9f%9b%bc%f0%9f%93%9a-homeschool-skate-%f0%9f%93%9a%f0%9f%9b%bc%f0%9f%8e%93/
LOCATION:Skateland Chandler\, 1101 W. Ray Rd.\, Chandler\, AZ\, 85224\, United States
CATEGORIES:Family Events,Public Skates,Special Events
ATTACH;FMTTYPE=image/png:https://unitedskates-assets.sfo3.digitaloceanspaces.com/wp-content/uploads/sites/19/2026/01/Home-School-Skate.png
END:VEVENT
BEGIN:VEVENT
DTSTART;TZID=America/Phoenix:20260218T173000
DTEND;TZID=America/Phoenix:20260218T200000
DTSTAMP:20260421T171221
CREATED:20260106T002528Z
LAST-MODIFIED:20260106T190926Z
UID:16444-1771435800-1771444800@www.unitedskates.com
SUMMARY:🍌🛼💛 Free Dinner Night with The Minion! 💛🛼🍌
DESCRIPTION:🍌🛼💛 Free Dinner Night with The Minion! 💛🛼🍌 \n📅 Wednesday\, February 18 | ⏰ 5:30–8:00 PM \nBello! Get ready for some major mischief and family fun! 🤪 Join us for a despicably awesome Free Dinner Night featuring a special appearance by everyone’s favorite yellow troublemaker—The Minion! It’s going to be a “Ba-na-na” good time on the rink! 🍌✨ \n\nThe Mega Deal – Only $15! 🍕🥤\nYour all-in-one ticket to the fun includes: \n\n\n🎟️ Admission & Skate Rental \n\n\n🍕 A Slice of Cheese Pizza (Free Dinner!) \n\n\n🥤 A Small Refreshing Drink \n\n\n📸 Meet & Greet with The Minion! \n\n\n\nEvening Highlights:\n\n\n🎶 Groovy tunes and high-energy beats to keep you rolling. \n\n\n📸 Snap some silly selfies with our guest Minion. \n\n\n💛 Wear your favorite yellow or blue to join the Minion squad! \n\n\nLace up\, grab a slice\, and roll into a night of laughter and family memories. Don’t miss out on this “one-in-a-minion” event! ⛸️🍌🌀 \n#MinionSkate #FreeDinnerNight #FamilyFun #MinionMayhem #SkateParty #WednesdayVibes \nBirthday Parties Available – Make the day extra special by booking a party with us! 🎂🎈 \nImportant Info: \nAll children ages 3-17 must pay admission and for skate rental (or bring their own skates).\nAll guests must sign a liability waiver. \n✨ We can’t wait to celebrate with you! ✨
URL:https://www.unitedskates.com/skateland-chandler/event/%f0%9f%8d%95free-dinner-skate%f0%9f%9b%bc-2026-02-18/
LOCATION:Skateland Chandler\, 1101 W. Ray Rd.\, Chandler\, AZ\, 85224\, United States
CATEGORIES:Family Events,Public Skates,Special Events
ATTACH;FMTTYPE=image/png:https://unitedskates-assets.sfo3.digitaloceanspaces.com/wp-content/uploads/sites/19/2026/01/FDN-Character-Skate.png
END:VEVENT
END:VCALENDAR