BEGIN:VCALENDAR
VERSION:2.0
PRODID:-//Rink 52 - Skateland Chandler - ECPv6.15.20//NONSGML v1.0//EN
CALSCALE:GREGORIAN
METHOD:PUBLISH
X-WR-CALNAME:Rink 52 - Skateland Chandler
X-ORIGINAL-URL:https://www.unitedskates.com/skateland-chandler
X-WR-CALDESC:Events for Rink 52 - Skateland Chandler
REFRESH-INTERVAL;VALUE=DURATION:PT1H
X-Robots-Tag:noindex
X-PUBLISHED-TTL:PT1H
BEGIN:VTIMEZONE
TZID:America/Phoenix
BEGIN:STANDARD
TZOFFSETFROM:-0700
TZOFFSETTO:-0700
TZNAME:MST
DTSTART:20250101T000000
END:STANDARD
END:VTIMEZONE
BEGIN:VEVENT
DTSTART;TZID=America/Phoenix:20260217T170000
DTEND;TZID=America/Phoenix:20260217T193000
DTSTAMP:20260421T071615
CREATED:20260106T191718Z
LAST-MODIFIED:20260106T191718Z
UID:16636-1771347600-1771356600@www.unitedskates.com
SUMMARY:⚡🛼💛 Pikachu Game Night! 💛🛼⚡
DESCRIPTION:⚡🛼💛 Pikachu Game Night! 💛🛼⚡ \n📅 Tuesday\, February 17 | ⏰ 5:00–7:30 PM \nPika-Pika! ⚡ Get ready to shock the system with an evening of high-voltage fun! We’re turning the rink into a Pokémon gym for Pikachu Game Night. Whether you’re a Pokémon Master or just starting your journey\, grab your trainers (and your skates) for an action-packed session! 🎒💎 \n\nThe Power-Up Package:\n\n\n🎟️ Admission – $12 (Includes 20 FREE Game Credits for the Arcade!) \n\n\n🛼 Skate Rental – $5 \n\n\n👀 Spectators – $4 \n\n\n\nEvening Highlights:\n\n\n⚡ Meet & Greet: Snap a photo with Pikachu and show off your best battle pose! \n\n\n🕹️ Arcade Takeover: Use your 20 free credits to level up and win big. \n\n\n🎶 Trainer Tunes: High-energy music and Pokémon vibes to keep you rolling. \n\n\nLace up and get ready to “catch ’em all” on the skate floor! It’s going to be an electrifying night for the whole family. Don’t miss out—we choose YOU! ⛸️⚡⭐ \n#PikachuGameNight #PokemonSkate #FamilyFun #GamerLife #SkateParty #PikaPika
URL:https://www.unitedskates.com/skateland-chandler/event/%e2%9a%a1%f0%9f%9b%bc%f0%9f%92%9b-pikachu-game-night-%f0%9f%92%9b%f0%9f%9b%bc%e2%9a%a1/
LOCATION:Skateland Chandler\, 1101 W. Ray Rd.\, Chandler\, AZ\, 85224\, United States
CATEGORIES:Family Events,Public Skates,Special Events
ATTACH;FMTTYPE=image/png:https://unitedskates-assets.sfo3.digitaloceanspaces.com/wp-content/uploads/sites/19/2026/01/Pikachu-Game-Night.png
END:VEVENT
BEGIN:VEVENT
DTSTART;TZID=America/Phoenix:20260217T200000
DTEND;TZID=America/Phoenix:20260217T230000
DTSTAMP:20260421T071615
CREATED:20260106T192518Z
LAST-MODIFIED:20260106T192518Z
UID:16643-1771358400-1771369200@www.unitedskates.com
SUMMARY:✨🛼✊🏾 Black History Month Soul Skate✊🏾🛼✨
DESCRIPTION:✨🛼✊🏾 Black History Month Soul Skate (18+) ✊🏾🛼✨ Featuring the incredible DJ J-ME LEE! 🎧🔥 \n📅 Tuesday\, February 17 | ⏰ 8:00–11:00 PM \nCelebrate the rhythm\, the culture\, and the soul! 🕊️ Join us for a special Black History Month Soul Skate as we honor the legacy and influence of Black music on the rink. This is an adult-only night (18+) dedicated to smooth glides\, deep grooves\, and community vibes. \n\nThe Soundtrack:\nWe’re bringing the heat to the booth with DJ J-ME LEE! 🎤 Expect a soul-stirring journey through: \n\n\n💿 Classic Soul & Motown \n\n\n💿 90s R&B & Neo-Soul \n\n\n💿 Funk\, Disco\, and Modern Grooves \n\n\n\nPricing:\n\n\n🎟️ Admission – $14 \n\n\n🛼 Skate Rental – $5 \n\n\n🔞 Age Limit – 18+ Only (ID required) \n\n\n\nThe Vibe:\n\n\n🕊️ A celebration of Black excellence and musical heritage. \n\n\n✨ Smooth floor vibes perfect for shuffle skaters and rhythm rollers. \n\n\n🍹 Cafe specials available to keep you fueled all night. \n\n\nLace up and join us for a night of “Soul on Wheels.” Let’s honor the past and celebrate the present with every stride! ⛸️✊🏾💎 \n#SoulSkate #BlackHistoryMonth #DJJMeLee #AdultSkate #RhythmSkating #CelebrateCulture #18Plus
URL:https://www.unitedskates.com/skateland-chandler/event/%e2%9c%a8%f0%9f%9b%bc%e2%9c%8a%f0%9f%8f%be-black-history-month-soul-skate%e2%9c%8a%f0%9f%8f%be%f0%9f%9b%bc%e2%9c%a8/
LOCATION:Skateland Chandler\, 1101 W. Ray Rd.\, Chandler\, AZ\, 85224\, United States
CATEGORIES:Adult Events,Public Skates,Special Events
ATTACH;FMTTYPE=image/png:https://unitedskates-assets.sfo3.digitaloceanspaces.com/wp-content/uploads/sites/19/2026/01/Soul-Skate-1.png
END:VEVENT
END:VCALENDAR