BEGIN:VCALENDAR
VERSION:2.0
PRODID:-//Rink 52 - Skateland Chandler - ECPv6.15.20//NONSGML v1.0//EN
CALSCALE:GREGORIAN
METHOD:PUBLISH
X-WR-CALNAME:Rink 52 - Skateland Chandler
X-ORIGINAL-URL:https://www.unitedskates.com/skateland-chandler
X-WR-CALDESC:Events for Rink 52 - Skateland Chandler
REFRESH-INTERVAL;VALUE=DURATION:PT1H
X-Robots-Tag:noindex
X-PUBLISHED-TTL:PT1H
BEGIN:VTIMEZONE
TZID:America/Phoenix
BEGIN:STANDARD
TZOFFSETFROM:-0700
TZOFFSETTO:-0700
TZNAME:MST
DTSTART:20250101T000000
END:STANDARD
END:VTIMEZONE
BEGIN:VEVENT
DTSTART;TZID=America/Phoenix:20260211T173000
DTEND;TZID=America/Phoenix:20260211T200000
DTSTAMP:20260421T172807
CREATED:20260106T002528Z
LAST-MODIFIED:20260106T190815Z
UID:16443-1770831000-1770840000@www.unitedskates.com
SUMMARY:🍄🛼⭐ Free Dinner Night with Mario & Luigi! ⭐🛼🍄
DESCRIPTION:🍄🛼⭐ Free Dinner Night with Mario & Luigi! ⭐🛼🍄 \n📅 Wednesday\, February 11 | ⏰ 5:30–8:00 PM \nWahoo! It’s time to level up your family night! 🏎️💨 Join us for a super-powered evening at our Free Dinner Night\, featuring a special visit from the world’s favorite plumbers—Mario and Luigi! Grab your coins and your skates for an adventure-filled session on the floor. \n\nThe Super Deal – Only $15! 🍕🥤\nYour all-access pass to the Mushroom Kingdom includes: \n\n\n🎟️ Admission & Skate Rental \n\n\n🍕 A Slice of Cheese Pizza (Free Dinner!) \n\n\n🥤 A Small Refreshing Drink \n\n\n📸 Meet & Greet with Mario and Luigi! \n\n\n\nEvening Highlights:\n\n\n🎶 High-energy music and “Super” vibes all night long. \n\n\n📸 Perfect photo opportunities with the Mario Bros. \n\n\n🏎️ Speed around the rink like you’re on Rainbow Road! \n\n\nLace up\, fuel up\, and get ready for a night of “Super” fun that won’t break the bank. It’s-a-me\, Mario… and it’s time to skate! ⛸️⭐🍄 \n#MarioAndLuigi #FreeDinnerNight #FamilySkate #SuperMario #SkateParty #FamilyFunNight \nBirthday Parties Available – Make the day extra special by booking a party with us! 🎂🎈 \nImportant Info: \nAll children ages 3-17 must pay admission and for skate rental (or bring their own skates).\nAll guests must sign a liability waiver. \n✨ We can’t wait to celebrate with you! ✨
URL:https://www.unitedskates.com/skateland-chandler/event/%f0%9f%8d%95free-dinner-skate%f0%9f%9b%bc-2026-02-11/
LOCATION:Skateland Chandler\, 1101 W. Ray Rd.\, Chandler\, AZ\, 85224\, United States
CATEGORIES:Family Events,Public Skates,Special Events
ATTACH;FMTTYPE=image/png:https://unitedskates-assets.sfo3.digitaloceanspaces.com/wp-content/uploads/sites/19/2026/01/FDN-Character-Skate.png
END:VEVENT
END:VCALENDAR