BEGIN:VCALENDAR
VERSION:2.0
PRODID:-//Rink 52 - Skateland Chandler - ECPv6.15.20//NONSGML v1.0//EN
CALSCALE:GREGORIAN
METHOD:PUBLISH
X-ORIGINAL-URL:https://www.unitedskates.com/skateland-chandler
X-WR-CALDESC:Events for Rink 52 - Skateland Chandler
REFRESH-INTERVAL;VALUE=DURATION:PT1H
X-Robots-Tag:noindex
X-PUBLISHED-TTL:PT1H
BEGIN:VTIMEZONE
TZID:America/Phoenix
BEGIN:STANDARD
TZOFFSETFROM:-0700
TZOFFSETTO:-0700
TZNAME:MST
DTSTART:20250101T000000
END:STANDARD
END:VTIMEZONE
BEGIN:VEVENT
DTSTART;TZID=America/Phoenix:20260208T123000
DTEND;TZID=America/Phoenix:20260208T150000
DTSTAMP:20260421T043744
CREATED:20250126T150331Z
LAST-MODIFIED:20260106T004953Z
UID:16102-1770553800-1770562800@www.unitedskates.com
SUMMARY:✨🛼🎉 Glow Skate Party with Mario!🎉🛼✨
DESCRIPTION:✨🛼🎉 Character Glow Skate Party 🎉🛼✨📅 Every Sunday | ⏰ 12:30–3:00 PM \nSundays just got brighter! 🌈 Join us every week for our Character Glow Skate Party\, featuring a different character meet & greet each Sunday—you never know who might roll in next! 📸⭐ \n🎟️ Admission – $12 includes a Glow Stick!🛼 Skate Rental – $5👀 Spectators – $4 \n⭐ Upgrade to the SUPER PASS – $22!Includes admission\, skates\, 20 game credits\, and a glow stick for nonstop glowing fun! \nWear your neon\, grab your glow\, and skate the afternoon away with your favorite characters under the lights! ✨🛼#CharacterGlowSkate #SundayFun #FamilyGlow #MeetAndGreet #SkateParty \n✨ Birthday Parties Available! ✨\nCelebrate your special day with us — let us make it unforgettable! \nImportant Info: \n\nChildren (ages 3-17) must pay admission and skate rental (or bring their own skates).\nNon-skating adults (spectators) are $4.\nAll Guests are required to sign a waiver\, available at skatelandchandler.com.\n\nAll prices exclude tax. \nCome have fun\, skate\, and make memories at Skateland Chandler!
URL:https://www.unitedskates.com/skateland-chandler/event/sunday-skate-party-at-skateland-chandler-%e2%9c%a8-2025-05-25-2026-02-01-2026-02-08/
LOCATION:Skateland Chandler\, 1101 W. Ray Rd.\, Chandler\, AZ\, 85224\, United States
CATEGORIES:Family Events,Public Skates,Special Events
ATTACH;FMTTYPE=image/png:https://unitedskates-assets.sfo3.digitaloceanspaces.com/wp-content/uploads/sites/19/2025/01/Character-Glow-Skate.png
END:VEVENT
BEGIN:VEVENT
DTSTART;TZID=America/Phoenix:20260208T153000
DTEND;TZID=America/Phoenix:20260208T180000
DTSTAMP:20260421T043744
CREATED:20241211T223756Z
LAST-MODIFIED:20260106T185258Z
UID:16149-1770564600-1770573600@www.unitedskates.com
SUMMARY:🏈🛼🎉 Kid’s Super Bowl Skate Party 🎉🛼🏈
DESCRIPTION:🏈🛼🎉 Kid’s Super Bowl Skate Party 🎉🛼🏈📅 Sunday\, February 8 | ⏰ 3:30–6:00 PM \nGet ready for a big win on wheels! 🏆 Bring the kids out for our Kid’s Super Bowl Skate Party\, where skating meets game-day fun. Rock your favorite team colors or jerseys and roll into an afternoon packed with excitement! 🎽✨ \n🎯 Carnival Games🍔 Tailgating Café Specials🎶 Music\, skating\, and Super Bowl vibes all afternoon! \n🎟️ Admission – $12🛼 Skate Rental – $5👀 Spectators – $4 \nLace up\, show your team pride\, and skate into Super Bowl Sunday with family-friendly fun before the big game! 🛼🏈🎉#KidsSuperBowlSkate #GameDayOnWheels #FamilyFun #SkateParty #TeamSpirit \n\n\n\n\n\n\n\n\n\n✨ Birthday Parties Available! ✨\nCelebrate your special day with us — let us make it unforgettable! \nImportant Info: \n\nChildren (ages 3-17) must pay admission and skate rental (or bring their own skates).\nNon-skating adults (spectators) are $4.\nAll guests are required to sign a waiver\, available at skatelandchandler.com.\n\nAll prices exclude tax. \nCome have fun\, skate\, and make memories at Skateland Chandler!
URL:https://www.unitedskates.com/skateland-chandler/event/%e2%9c%a8-sunday-fun-day-skate-party-at-skateland-chandler-%e2%9c%a8-2025-05-25-2026-02-08/
LOCATION:Skateland Chandler\, 1101 W. Ray Rd.\, Chandler\, AZ\, 85224\, United States
CATEGORIES:Family Events,Public Skates,Special Events
ATTACH;FMTTYPE=image/png:https://unitedskates-assets.sfo3.digitaloceanspaces.com/wp-content/uploads/sites/19/2024/12/Super-Bowl-Kids-Skate.png
END:VEVENT
END:VCALENDAR