BEGIN:VCALENDAR
VERSION:2.0
PRODID:-//Rink 52 - Skateland Chandler - ECPv6.15.20//NONSGML v1.0//EN
CALSCALE:GREGORIAN
METHOD:PUBLISH
X-WR-CALNAME:Rink 52 - Skateland Chandler
X-ORIGINAL-URL:https://www.unitedskates.com/skateland-chandler
X-WR-CALDESC:Events for Rink 52 - Skateland Chandler
REFRESH-INTERVAL;VALUE=DURATION:PT1H
X-Robots-Tag:noindex
X-PUBLISHED-TTL:PT1H
BEGIN:VTIMEZONE
TZID:America/Phoenix
BEGIN:STANDARD
TZOFFSETFROM:-0700
TZOFFSETTO:-0700
TZNAME:MST
DTSTART:20250101T000000
END:STANDARD
END:VTIMEZONE
BEGIN:VEVENT
DTSTART;TZID=America/Phoenix:20260201T123000
DTEND;TZID=America/Phoenix:20260201T150000
DTSTAMP:20260421T152414
CREATED:20250126T150331Z
LAST-MODIFIED:20260106T005307Z
UID:16101-1769949000-1769958000@www.unitedskates.com
SUMMARY:✨🛼🎉 Glow Skate Party with the Minion!🎉🛼✨
DESCRIPTION:✨🛼🎉 Character Glow Skate Party 🎉🛼✨📅 Every Sunday | ⏰ 12:30–3:00 PM \nSundays just got brighter! 🌈 Join us every week for our Character Glow Skate Party\, featuring a different character meet & greet each Sunday—you never know who might roll in next! 📸⭐ \n🎟️ Admission – $12 includes a Glow Stick!🛼 Skate Rental – $5👀 Spectators – $4 \n⭐ Upgrade to the SUPER PASS – $22!Includes admission\, skates\, 20 game credits\, and a glow stick for nonstop glowing fun! \nWear your neon\, grab your glow\, and skate the afternoon away with your favorite characters under the lights! ✨🛼#CharacterGlowSkate #SundayFun #FamilyGlow #MeetAndGreet #SkateParty \n✨ Birthday Parties Available! ✨\nCelebrate your special day with us — let us make it unforgettable! \nImportant Info: \n\nChildren (ages 3-17) must pay admission and skate rental (or bring their own skates).\nNon-skating adults (spectators) are $4.\nAll Guests are required to sign a waiver\, available at skatelandchandler.com.\n\nAll prices exclude tax. \nCome have fun\, skate\, and make memories at Skateland Chandler!
URL:https://www.unitedskates.com/skateland-chandler/event/sunday-skate-party-at-skateland-chandler-%e2%9c%a8-2025-05-25-2026-02-01/
LOCATION:Skateland Chandler\, 1101 W. Ray Rd.\, Chandler\, AZ\, 85224\, United States
CATEGORIES:Family Events,Public Skates,Special Events
ATTACH;FMTTYPE=image/png:https://unitedskates-assets.sfo3.digitaloceanspaces.com/wp-content/uploads/sites/19/2025/01/Character-Glow-Skate.png
END:VEVENT
BEGIN:VEVENT
DTSTART;TZID=America/Phoenix:20260201T153000
DTEND;TZID=America/Phoenix:20260201T180000
DTSTAMP:20260421T152414
CREATED:20241211T223756Z
LAST-MODIFIED:20260106T184953Z
UID:16148-1769959800-1769968800@www.unitedskates.com
SUMMARY:❤️💚💛Black History Month Skate! ❤️💚💛✨
DESCRIPTION:Celebrate culture\, community\, and rhythm at our Black History Month Skate! 🖤✨📅 Feb 1⏰ 3:30–6:00 PM \nRoll with us to the best family-friendly Hip Hop & R&B while honoring Black history on the floor!🎟 Admission: $12🛼 Skate Rental: $5👀 Spectators: $4 \nBring the whole family\, lace up\, and skate to the vibes! 🎶🛼 \n✨ Birthday Parties Available! ✨\nCelebrate your special day with us — let us make it unforgettable! \nImportant Info: \n\nChildren (ages 3-17) must pay admission and skate rental (or bring their own skates).\nNon-skating adults (spectators) are $4.\nAll guests are required to sign a waiver\, available at skatelandchandler.com.\n\nAll prices exclude tax. \nCome have fun\, skate\, and make memories at Skateland Chandler!
URL:https://www.unitedskates.com/skateland-chandler/event/%e2%9c%a8-sunday-fun-day-skate-party-at-skateland-chandler-%e2%9c%a8-2025-05-25-2026-02-01/
LOCATION:Skateland Chandler\, 1101 W. Ray Rd.\, Chandler\, AZ\, 85224\, United States
CATEGORIES:Family Events,Public Skates,Special Events
ATTACH;FMTTYPE=image/png:https://unitedskates-assets.sfo3.digitaloceanspaces.com/wp-content/uploads/sites/19/2024/12/Black-History-Month-Skate.png
END:VEVENT
END:VCALENDAR