BEGIN:VCALENDAR
VERSION:2.0
PRODID:-//Rink 52 - Skateland Chandler - ECPv6.15.20//NONSGML v1.0//EN
CALSCALE:GREGORIAN
METHOD:PUBLISH
X-ORIGINAL-URL:https://www.unitedskates.com/skateland-chandler
X-WR-CALDESC:Events for Rink 52 - Skateland Chandler
REFRESH-INTERVAL;VALUE=DURATION:PT1H
X-Robots-Tag:noindex
X-PUBLISHED-TTL:PT1H
BEGIN:VTIMEZONE
TZID:America/Phoenix
BEGIN:STANDARD
TZOFFSETFROM:-0700
TZOFFSETTO:-0700
TZNAME:MST
DTSTART:20250101T000000
END:STANDARD
END:VTIMEZONE
BEGIN:VEVENT
DTSTART;TZID=America/Phoenix:20260130T170000
DTEND;TZID=America/Phoenix:20260130T210000
DTSTAMP:20260421T105545
CREATED:20241130T201056Z
LAST-MODIFIED:20260106T003654Z
UID:15738-1769792400-1769806800@www.unitedskates.com
SUMMARY:💛❄️ Minion Indoor Snowball Fight ❄️💛
DESCRIPTION:💛❄️ Minion Indoor Snowball Fight ❄️💛📅 January 30th | ⏰ 5:00–9:00 PM \nGet ready for a despicably fun night packed with Minion madness! 🟡💥 Join us for an indoor snowball fight\, glowing fun\, and tons of laughs for the whole crew. \n🎟️ Admission – $15Includes entry + a glow stick🛼 Skate Rental – $5👀 Spectators – $4 \n❄️ Snowball Fight Times:🕢 7:30 PM🕣 8:45 PM \n⭐ Upgrade to the SUPER MINION PASS – $22!Includes admission\, skates\, 20 game credits\, and a glow necklace for maximum Minion-style fun! \nGrab your yellow gear and get ready to dodge\, throw\, and glow! 💛❄️#MinionMadness #IndoorSnowballFight #FamilyFun #GlowNight #DespicableFun \n🎂 Birthday Parties Available!\nCelebrate your special day at Skateland and create memories to last a lifetime! 🎈 \nGroup rates available for 10 or more\, reservations required \n⚠️ Important Reminder: \nAll Guests Entering the Facility must have a signed\, liability waiver with the current date. \nAll Guests are required to wear wrist guards. \nBring the whole family\, lace up your skates\, and roll into a fantastic time this Friday Night! 🛼💥 \n#SkatelandChandler #PublicSkate #FridayNightFun #RollerSkating #FamilyFun #Top40Hits #ChandlerAZ #SkateRental #BirthdayParties #WeekendFun #ChandlerEvents #SkatingInChandler #RollIntoFun #SkateTime #FamilyEntertainment #RollerSkatingFun
URL:https://www.unitedskates.com/skateland-chandler/event/%f0%9f%9a%a8-public-skate-every-friday-night-6-9pm-at-skateland-chandler-%f0%9f%9a%a8-2025-05-23-2026-01-30/
LOCATION:Skateland Chandler\, 1101 W. Ray Rd.\, Chandler\, AZ\, 85224\, United States
CATEGORIES:Family Events,Public Skates,Special Events
ATTACH;FMTTYPE=image/png:https://unitedskates-assets.sfo3.digitaloceanspaces.com/wp-content/uploads/sites/19/2024/11/Minion-snowball.png
END:VEVENT
END:VCALENDAR