BEGIN:VCALENDAR
VERSION:2.0
PRODID:-//Rink 52 - Skateland Chandler - ECPv6.15.20//NONSGML v1.0//EN
CALSCALE:GREGORIAN
METHOD:PUBLISH
X-WR-CALNAME:Rink 52 - Skateland Chandler
X-ORIGINAL-URL:https://www.unitedskates.com/skateland-chandler
X-WR-CALDESC:Events for Rink 52 - Skateland Chandler
REFRESH-INTERVAL;VALUE=DURATION:PT1H
X-Robots-Tag:noindex
X-PUBLISHED-TTL:PT1H
BEGIN:VTIMEZONE
TZID:America/Phoenix
BEGIN:STANDARD
TZOFFSETFROM:-0700
TZOFFSETTO:-0700
TZNAME:MST
DTSTART:20250101T000000
END:STANDARD
END:VTIMEZONE
BEGIN:VEVENT
DTSTART;TZID=America/Phoenix:20260118T100000
DTEND;TZID=America/Phoenix:20260118T120000
DTSTAMP:20260421T071751
CREATED:20251227T231650Z
LAST-MODIFIED:20251227T231741Z
UID:16358-1768730400-1768737600@www.unitedskates.com
SUMMARY:🧇🛼Breakfast with Mario and Friends❤️💚
DESCRIPTION:🍽️🍄 Breakfast with Mario and Friends 🍄🍽️📅 January 18\, 2026 | 10 AM – 12 PM \n🎉 Start your day with a super-powered breakfast bash featuring Mario\, Luigi\, and all your favorite friends!🧇🥤 Enjoy a tasty trip to the waffle bar plus a refreshing juice pouch included with your $15 admission🤝📸 Meet & greet Mario and Luigi for hugs\, photos\, and unforgettable smiles👨‍👩‍👧‍👦 Perfect for families\, fans\, and everyone who loves a little Mushroom Kingdom magic✨🎈 Fun\, food\, and friends come together for a morning full of joy and excitement \nDon’t miss this fun-filled event—come hungry and ready to play! 🍄🎉
URL:https://www.unitedskates.com/skateland-chandler/event/%f0%9f%a7%87%f0%9f%9b%bcbreakfast-with-mario-and-friends%e2%9d%a4%ef%b8%8f%f0%9f%92%9a/
LOCATION:Skateland Chandler\, 1101 W. Ray Rd.\, Chandler\, AZ\, 85224\, United States
CATEGORIES:Family Events,Public Skates,Special Events
ATTACH;FMTTYPE=image/png:https://unitedskates-assets.sfo3.digitaloceanspaces.com/wp-content/uploads/sites/19/2025/12/Breakfast-w-Mario.png
END:VEVENT
BEGIN:VEVENT
DTSTART;TZID=America/Phoenix:20260118T123000
DTEND;TZID=America/Phoenix:20260118T150000
DTSTAMP:20260421T071751
CREATED:20250126T150331Z
LAST-MODIFIED:20251227T232155Z
UID:16098-1768739400-1768748400@www.unitedskates.com
SUMMARY:🛼🍄 Mario Glow Skate 🍄🛼
DESCRIPTION:🛼🍄 Mario Glow Skate 🍄🛼📅 January 18\, 2026 | 12:30 PM – 3:00 PM \n🎉 Light up the rink with Mario\, Luigi\, and friends at the ultimate Glow Skate party!🌟✨ Skate under dazzling lights with glowing accessories and feel the Mushroom Kingdom magic🤩📸 Meet & greet your favorite heroes for photos\, fun\, and lots of smiles👨‍👩‍👧‍👦 Perfect for families\, friends\, and fans ready for an unforgettable glowing adventure🎶🎵 Pump up the jams and skate to energetic beats all afternoon long \nGet ready to shine bright and skate into a world of glowing fun! Don’t miss out! ✨🛼 \n🎉 Admission: $11 Online/ $12.00 in Person\n🛼 Skate Rental: $5\nBring your own skates or rent ours! \n✨ Birthday Parties Available! ✨\nCelebrate your special day with us — let us make it unforgettable! \nImportant Info: \n\nChildren (ages 3-17) must pay admission and skate rental (or bring their own skates).\nNon-skating adults (spectators) are $4.\nAll Guests are required to sign a waiver\, available at skatelandchandler.com.\n\nAll prices exclude tax. \nCome have fun\, skate\, and make memories at Skateland Chandler!
URL:https://www.unitedskates.com/skateland-chandler/event/sunday-skate-party-at-skateland-chandler-%e2%9c%a8-2025-05-25-2026-01-11/
LOCATION:Skateland Chandler\, 1101 W. Ray Rd.\, Chandler\, AZ\, 85224\, United States
CATEGORIES:Family Events,Public Skates,Special Events
ATTACH;FMTTYPE=image/png:https://unitedskates-assets.sfo3.digitaloceanspaces.com/wp-content/uploads/sites/19/2025/01/Mario-glow.png
END:VEVENT
BEGIN:VEVENT
DTSTART;TZID=America/Phoenix:20260118T153000
DTEND;TZID=America/Phoenix:20260118T180000
DTSTAMP:20260421T071751
CREATED:20241211T223756Z
LAST-MODIFIED:20251227T232531Z
UID:16145-1768750200-1768759200@www.unitedskates.com
SUMMARY:🛼🍄 Mario Glow Skate 🍄🛼
DESCRIPTION:🛼🍄 Mario Glow Skate 🍄🛼📅 January 18\, 2026 | 3:30 PM – 6:00 PM \n🎉 Light up the rink with Mario\, Luigi\, and friends at the ultimate Glow Skate party!🌟✨ Skate under dazzling lights with glowing accessories and feel the Mushroom Kingdom magic🤩📸 Meet & greet your favorite heroes for photos\, fun\, and lots of smiles👨‍👩‍👧‍👦 Perfect for families\, friends\, and fans ready for an unforgettable glowing adventure🎶🎵 Pump up the jams and skate to energetic beats all afternoon long \nGet ready to shine bright and skate into a world of glowing fun! Don’t miss out! ✨🛼 \n🎉 Admission: $11 Online/ $12.00 in Person\n🛼 Skate Rental: $5\nBring your own skates or rent ours! \n✨ Birthday Parties Available! ✨\nCelebrate your special day with us — let us make it unforgettable! \nImportant Info: \n\nChildren (ages 3-17) must pay admission and skate rental (or bring their own skates).\nNon-skating adults (spectators) are $4.\nAll guests are required to sign a waiver\, available at skatelandchandler.com.\n\nAll prices exclude tax. \nCome have fun\, skate\, and make memories at Skateland Chandler!
URL:https://www.unitedskates.com/skateland-chandler/event/%e2%9c%a8-sunday-fun-day-skate-party-at-skateland-chandler-%e2%9c%a8-2025-05-25-2026-01-11/
LOCATION:Skateland Chandler\, 1101 W. Ray Rd.\, Chandler\, AZ\, 85224\, United States
CATEGORIES:Family Events,Public Skates,Special Events
ATTACH;FMTTYPE=image/png:https://unitedskates-assets.sfo3.digitaloceanspaces.com/wp-content/uploads/sites/19/2025/01/Mario-glow.png
END:VEVENT
BEGIN:VEVENT
DTSTART;TZID=America/Phoenix:20260118T183000
DTEND;TZID=America/Phoenix:20260118T210000
DTSTAMP:20260421T071751
CREATED:20251227T232433Z
LAST-MODIFIED:20251227T232433Z
UID:16368-1768761000-1768770000@www.unitedskates.com
SUMMARY:🛼🍄 Mario Glow Skate 🍄🛼
DESCRIPTION:🛼🍄 Mario Glow Skate 🍄🛼📅 January 18\, 2026 | 6:30 PM – 9:00 PM \n🎉 Light up the rink with Mario\, Luigi\, and friends at the ultimate Glow Skate party!🌟✨ Skate under dazzling lights with glowing accessories and feel the Mushroom Kingdom magic🤩📸 Meet & greet your favorite heroes for photos\, fun\, and lots of smiles👨‍👩‍👧‍👦 Perfect for families\, friends\, and fans ready for an unforgettable glowing adventure🎶🎵 Pump up the jams and skate to energetic beats all afternoon long \nGet ready to shine bright and skate into a world of glowing fun! Don’t miss out! ✨🛼 \n🎉 Admission: $11 Online/ $12.00 in Person\n🛼 Skate Rental: $5\nBring your own skates or rent ours! \n✨ Birthday Parties Available! ✨\nCelebrate your special day with us — let us make it unforgettable! \nImportant Info: \n\nChildren (ages 3-17) must pay admission and skate rental (or bring their own skates).\nNon-skating adults (spectators) are $4.\nAll Guests are required to sign a waiver\, available at skatelandchandler.com.\n\nAll prices exclude tax. \nCome have fun\, skate\, and make memories at Skateland Chandler!
URL:https://www.unitedskates.com/skateland-chandler/event/%f0%9f%9b%bc%f0%9f%8d%84-mario-glow-skate-%f0%9f%8d%84%f0%9f%9b%bc/
LOCATION:Skateland Chandler\, 1101 W. Ray Rd.\, Chandler\, AZ\, 85224\, United States
CATEGORIES:Family Events,Public Skates,Special Events
ATTACH;FMTTYPE=image/png:https://unitedskates-assets.sfo3.digitaloceanspaces.com/wp-content/uploads/sites/19/2025/01/Mario-glow.png
END:VEVENT
END:VCALENDAR