BEGIN:VCALENDAR
VERSION:2.0
PRODID:-//Rink 52 - Skateland Chandler - ECPv6.15.20//NONSGML v1.0//EN
CALSCALE:GREGORIAN
METHOD:PUBLISH
X-ORIGINAL-URL:https://www.unitedskates.com/skateland-chandler
X-WR-CALDESC:Events for Rink 52 - Skateland Chandler
REFRESH-INTERVAL;VALUE=DURATION:PT1H
X-Robots-Tag:noindex
X-PUBLISHED-TTL:PT1H
BEGIN:VTIMEZONE
TZID:America/Phoenix
BEGIN:STANDARD
TZOFFSETFROM:-0700
TZOFFSETTO:-0700
TZNAME:MST
DTSTART:20250101T000000
END:STANDARD
END:VTIMEZONE
BEGIN:VEVENT
DTSTART;TZID=America/Phoenix:20260117T090000
DTEND;TZID=America/Phoenix:20260117T100000
DTSTAMP:20260421T091032
CREATED:20241108T165354Z
LAST-MODIFIED:20241108T165354Z
UID:16039-1768640400-1768644000@www.unitedskates.com
SUMMARY:Learn to Skate Every Saturday Morning!
DESCRIPTION:Skateland Chandler Presents… Learn to Skate Every Saturday Morning!\n\n\n\n\n\n\n\n\n\n\n⏰ When: Every Saturday\n🕘 Time: 9:00am-10:00am (Doors open at 8:45am\, and will close at 9:00am sharp!)\n📍 Where: Skateland Chandler | 1101 W Ray Rd\, Chandler\, AZ 85224 \nReady to roll? 🛼 Whether you’re a beginner or just looking to brush up on your skills\, our Saturday morning skate classes are perfect for all ages! Kids (4 & up) and adults of all ages are welcome to join us for a fun and interactive lesson. Our family of skaters is here to support you every step of the way! \nOnly $20 per person!\nIncludes: \n\nSkate Lesson 🏆\nAdmission 🎟️\nSkate Rental 🛹\nFisher Price Skates Available for the little ones!\nFREE Wrist Guards for extra safety 💪\n\nStop by our lobby for more details or to gear up for your class! \nCome skate with us this Saturday — we can’t wait to meet you! \n📞 Call 480-917-9444 or visit SkatelandChandler.com for more info.
URL:https://www.unitedskates.com/skateland-chandler/event/learn-to-skate-every-saturday-morning-2025-05-24/2026-01-17/
LOCATION:Skateland Chandler\, 1101 W. Ray Rd.\, Chandler\, AZ\, 85224\, United States
CATEGORIES:Adult Events,Family Events,Lessons,Public Skates
ATTACH;FMTTYPE=image/png:https://unitedskates-assets.sfo3.digitaloceanspaces.com/wp-content/uploads/sites/19/2024/11/Screenshot-2024-11-08-094601.png
END:VEVENT
BEGIN:VEVENT
DTSTART;TZID=America/Phoenix:20260117T100000
DTEND;TZID=America/Phoenix:20260117T120000
DTSTAMP:20260421T091032
CREATED:20231229T202354Z
LAST-MODIFIED:20251227T204500Z
UID:15872-1768644000-1768651200@www.unitedskates.com
SUMMARY:💙🛼 SONIC LITTLE ROLLERS SKATE 🛼💙
DESCRIPTION:💙🛼 SONIC LITTLE ROLLERS SKATE 🛼💙Gotta roll fast… and have fun! \n📅 January 17⏰ 10:00 AM – 12:00 PM \nPerfect for our youngest skaters! Join us for a fun-filled Little Rollers session featuring Sonic vibes\, upbeat music\, and plenty of time to learn\, play\, and skate. \n⭐ Kid-friendly atmosphere🛼 Great for beginners and little legs \nBring your little speedsters and let them roll into a Sonic-sized adventure! \n🎟️ Admission: $11.00 Online/ $12.00 in Person🛼 Skate Rental: $5.00👨‍👩‍👧 Non-Skating Parents: $4.00 \n👶 Perfect for beginners! Skatemates are available for $6.00 to help little ones get rolling with confidence. \n🎵 Dance & Skate! Enjoy a playlist packed with Disney hits\, Kidz Bop\, and the best pop music all session long! \n✨ Bonus Fun! A special character guest makes an appearance each week to add to the excitement! \nDon’t miss out on this fun-filled Saturday tradition—bring your little skaters and make unforgettable memories! 🚀💖
URL:https://www.unitedskates.com/skateland-chandler/event/disney-hits-little-roller-skate-2025-05-24-2026-01-17/
LOCATION:Skateland Chandler\, 1101 W. Ray Rd.\, Chandler\, AZ\, 85224\, United States
CATEGORIES:Family Events,Public Skates,Special Events
ATTACH;FMTTYPE=image/png:https://unitedskates-assets.sfo3.digitaloceanspaces.com/wp-content/uploads/sites/19/2023/12/Sonic-Jan-17.png
END:VEVENT
BEGIN:VEVENT
DTSTART;TZID=America/Phoenix:20260117T123000
DTEND;TZID=America/Phoenix:20260117T150000
DTSTAMP:20260421T091032
CREATED:20241102T005555Z
LAST-MODIFIED:20251227T205335Z
UID:15934-1768653000-1768662000@www.unitedskates.com
SUMMARY:💙🛼 SONIC SKATE 🛼💙
DESCRIPTION:💙🛼 SONIC SKATE 🛼💙Gotta roll fast… and have fun! \n📅 January 17⏰ 12:30 – 3:00 PM \nSpeed into an action-packed skate session with Sonic vibes\, high-energy music\, and nonstop fun for all skaters. Whether you’re racing around the rink or just cruising\, this skate is all about fast fun and good times. \n⚡ Sonic-themed atmosphere🛼 Fun for all skill levels \nGrab your crew and roll like the fastest thing alive! \n\n\n\n\n\n\n\n\n💲 Admission: $11 Online/ $12 in Person\n🛼 Skate Rental: $5\n👨‍👩‍👧‍👦 Non-Skating Parents: $4 \n✨ Important Info: \n\nAll children ages 3-17 must pay admission and for skate rental (or bring their own skates).\nAll guests must sign a liability waiver.\n\n🎈 Birthday Parties Available! Make the day extra special by booking a party with us! 🎂🌟\n🌟 Group Rates Available! Contact Diane for more details. \n📍 Location: 1101 W Ray Blvd\, Chandler\, AZ 85224\n📞 Call us: 480.917.9444\n🌐 Visit: www.skatelandchandler.com \n✨ We can’t wait to celebrate with you! (*Tax not included) 🎉
URL:https://www.unitedskates.com/skateland-chandler/event/%f0%9f%8e%89-public-skate-at-skateland-chandler-%f0%9f%9b%bc-2025-05-24-2026-01-17/
LOCATION:Skateland Chandler\, 1101 W. Ray Rd.\, Chandler\, AZ\, 85224\, United States
CATEGORIES:Family Events,Public Skates,Special Events
ATTACH;FMTTYPE=image/png:https://unitedskates-assets.sfo3.digitaloceanspaces.com/wp-content/uploads/sites/19/2023/12/Sonic-Jan-17.png
END:VEVENT
BEGIN:VEVENT
DTSTART;TZID=America/Phoenix:20260117T153000
DTEND;TZID=America/Phoenix:20260117T180000
DTSTAMP:20260421T091032
CREATED:20241125T172303Z
LAST-MODIFIED:20251227T205514Z
UID:15981-1768663800-1768672800@www.unitedskates.com
SUMMARY:💙🛼 SONIC SKATE 🛼💙
DESCRIPTION:💙🛼 SONIC SKATE 🛼💙Gotta roll fast… and have fun! \n📅 January 17🕒 Time: 3:30 PM – 6:00 PM \nSpeed into an action-packed skate session with Sonic vibes\, high-energy music\, and nonstop fun for all skaters. Whether you’re racing around the rink or just cruising\, this skate is all about fast fun and good times. \n⚡ Sonic-themed atmosphere🛼 Fun for all skill levels \nGrab your crew and roll like the fastest thing alive! \n\n\n\n\n\n\n\n\n\n\n\n\n\n\n\n\n\n\n\n💰 Admission: $11 Online/ $12 in Person\n🛼 Skate Rental: $5 \n*all prices exclude tax \n✨ Celebrate your weekend with us! Enjoy the best Top 40 hits while skating your heart out. Perfect for family fun\, birthdays\, and more! \n🎂 Birthday Parties Available!\n📞 Contact Us: (480) 917-9444 for reservations and group rates. \nImportant Info: \n\nAll children (ages 3-17) must pay admission & skate rental (or bring their own skates).\nNon-skating adults: $4.00\nAll Guests are required to sign a liability waiver the day of skating.\nAll Guests are required to wear wrist guards.\n\n✨ Private parties available by reservation only! \n👉 Visit us online: www.skatelandchandler.com \nSee you on the rink! 🛼
URL:https://www.unitedskates.com/skateland-chandler/event/%f0%9f%8e%89-public-skate-every-saturday-at-skateland-chandler-%f0%9f%8e%89-2025-05-24-2026-01-17/
LOCATION:Skateland Chandler\, 1101 W. Ray Rd.\, Chandler\, AZ\, 85224\, United States
CATEGORIES:Family Events,Public Skates,Special Events
ATTACH;FMTTYPE=image/png:https://unitedskates-assets.sfo3.digitaloceanspaces.com/wp-content/uploads/sites/19/2023/12/Sonic-Jan-17.png
END:VEVENT
BEGIN:VEVENT
DTSTART;TZID=America/Phoenix:20260117T183000
DTEND;TZID=America/Phoenix:20260117T210000
DTSTAMP:20260421T091032
CREATED:20250521T001424Z
LAST-MODIFIED:20250521T001424Z
UID:15613-1768674600-1768683600@www.unitedskates.com
SUMMARY:🎉 Family Neon Glow Skate 🎉
DESCRIPTION:🎉 Glow Skate at Skateland Chandler 🎉 \nGet ready to light up the night with our Glow Skate every Saturday from 6:30pm – 9pm! ✨🛼 \n🎶 Event Details: \n\nAdmission: $13.00 Online/ $14.00 in Person\nSkate Rental: $5\nSkate Mates: $6\nNon-Skating Adults: $4\n\n✨ Birthday Parties Available! ✨\nCelebrate your special day with us — let us make it unforgettable! \nImportant Info: \n\nChildren (ages 3-17): Must pay for admission and skate rental (or bring their own skates).\nNon-Skating Adults (spectators): $4\nAll guests are required to sign a liability waiver the day of skating (available at skatelandchandler.com)\nAll prices exclude tax.\nAll guests must wear wrist guards.\n\nCome have fun\, skate\, and make memories at Skateland Chandler — it’s the place to be for Girls Night Out\, 80’s Glow\, and family fun! 🌟 \n📍 Location: 1101 West Ray Road\, Chandler\, AZ 85224\n📞 Phone: 480-917-9444\n🌐 Website: Skateland Chandler \nThe FUN Starts Here — Don’t miss out! 😎🕺💃\n#GlowSkate #SkatelandChandler #SaturdayFun
URL:https://www.unitedskates.com/skateland-chandler/event/%f0%9f%8e%89-family-neon-glow-skate-%f0%9f%8e%89/2026-01-17/
LOCATION:Skateland Chandler\, 1101 W. Ray Rd.\, Chandler\, AZ\, 85224\, United States
CATEGORIES:Family Events,Public Skates,Special Events
ATTACH;FMTTYPE=image/jpeg:https://unitedskates-assets.sfo3.digitaloceanspaces.com/wp-content/uploads/sites/19/2022/05/Glow-Skate-1200x900-1.jpg
END:VEVENT
BEGIN:VEVENT
DTSTART;TZID=America/Phoenix:20260117T213000
DTEND;TZID=America/Phoenix:20260118T000000
DTSTAMP:20260421T091032
CREATED:20260103T154618Z
LAST-MODIFIED:20260103T154618Z
UID:16429-1768685400-1768694400@www.unitedskates.com
SUMMARY:🛼✨ ROLLER RAVE: ADULT SKATE NIGHT ✨🛼
DESCRIPTION:🛼✨ ROLLER RAVE: ADULT SKATE NIGHT ✨🛼 \nRavers… but make it on wheels. 🔥Step into a neon-soaked roller rink where festival energy meets throwback vibes. Bass-heavy EDM\, lasers\, glow\, and nonstop movement—this is wubz on wheels. \n🎧 DJ Sablandz spinning EDM all night🕺 Adult-only skate session🌈 Rave fits encouraged💥 High-energy\, late-night vibes \n📅 Saturday\, Jan. 17th⏰ 9:30 PM – 12:00 AM💵 $14 admission | $5 skate rental📍 Skateland Chandler \nIf you love EDM festivals\, underground raves\, and dancing till midnight—this one’s for you.Tag your rave fam\, lace up\, and let’s roll. 🔊💜🛼
URL:https://www.unitedskates.com/skateland-chandler/event/%f0%9f%9b%bc%e2%9c%a8-roller-rave-adult-skate-night-%e2%9c%a8%f0%9f%9b%bc/
LOCATION:Skateland Chandler\, 1101 W. Ray Rd.\, Chandler\, AZ\, 85224\, United States
CATEGORIES:Adult Events,Public Skates,Special Events
ATTACH;FMTTYPE=image/png:https://unitedskates-assets.sfo3.digitaloceanspaces.com/wp-content/uploads/sites/19/2026/01/Roller-Rave-Adult-Skate.png
END:VEVENT
END:VCALENDAR