BEGIN:VCALENDAR
VERSION:2.0
PRODID:-//Rink 52 - Skateland Chandler - ECPv6.15.20//NONSGML v1.0//EN
CALSCALE:GREGORIAN
METHOD:PUBLISH
X-ORIGINAL-URL:https://www.unitedskates.com/skateland-chandler
X-WR-CALDESC:Events for Rink 52 - Skateland Chandler
REFRESH-INTERVAL;VALUE=DURATION:PT1H
X-Robots-Tag:noindex
X-PUBLISHED-TTL:PT1H
BEGIN:VTIMEZONE
TZID:America/Phoenix
BEGIN:STANDARD
TZOFFSETFROM:-0700
TZOFFSETTO:-0700
TZNAME:MST
DTSTART:20250101T000000
END:STANDARD
END:VTIMEZONE
BEGIN:VEVENT
DTSTART;TZID=America/Phoenix:20260115T173000
DTEND;TZID=America/Phoenix:20260115T200000
DTSTAMP:20260419T055304
CREATED:20260112T235912Z
LAST-MODIFIED:20260112T235912Z
UID:16795-1768498200-1768507200@www.unitedskates.com
SUMMARY:📼🛼 THROWBACK THURSDAY 🛼📼
DESCRIPTION:📼🛼 THROWBACK THURSDAY 🛼📼Old-school vibes\, classic hits\, timeless fun. \n📅 January 8⏰ 5:30 – 8:00 PM \nStep back in time and roll to your favorite throwback jams. From retro classics to nostalgic vibes\, this is the perfect night to skate it back. \n💸 Admission: $12🛼 Skate Rental: $5👀 Spectators: $4 \nDust off the retro fits\, bring the crew\, and let the good times roll. \n 
URL:https://www.unitedskates.com/skateland-chandler/event/%f0%9f%93%bc%f0%9f%9b%bc-throwback-thursday-%f0%9f%9b%bc%f0%9f%93%bc-2/
LOCATION:Skateland Chandler\, 1101 W. Ray Rd.\, Chandler\, AZ\, 85224\, United States
CATEGORIES:Family Events,Public Skates,Special Events
ATTACH;FMTTYPE=image/png:https://unitedskates-assets.sfo3.digitaloceanspaces.com/wp-content/uploads/sites/19/2026/01/Throwback-Thursday-1-15.png
END:VEVENT
END:VCALENDAR