BEGIN:VCALENDAR
VERSION:2.0
PRODID:-//Rink 52 - Skateland Chandler - ECPv6.15.20//NONSGML v1.0//EN
CALSCALE:GREGORIAN
METHOD:PUBLISH
X-ORIGINAL-URL:https://www.unitedskates.com/skateland-chandler
X-WR-CALDESC:Events for Rink 52 - Skateland Chandler
REFRESH-INTERVAL;VALUE=DURATION:PT1H
X-Robots-Tag:noindex
X-PUBLISHED-TTL:PT1H
BEGIN:VTIMEZONE
TZID:America/Phoenix
BEGIN:STANDARD
TZOFFSETFROM:-0700
TZOFFSETTO:-0700
TZNAME:MST
DTSTART:20250101T000000
END:STANDARD
END:VTIMEZONE
BEGIN:VEVENT
DTSTART;TZID=America/Phoenix:20260114T173000
DTEND;TZID=America/Phoenix:20260114T200000
DTSTAMP:20260421T073600
CREATED:20260106T002528Z
LAST-MODIFIED:20260106T002528Z
UID:16439-1768411800-1768420800@www.unitedskates.com
SUMMARY:🍕Free Dinner Skate🛼
DESCRIPTION:Join us for an unforgettable afternoon at Skateland Chandler for FREE DINNER NIGHT Public Skating!🥳\nEvent Details: \n💲 Admission: $15  includes skate rental\, slice of cheese pizza and a small drink\n👨‍👩‍👧‍👦 *no passes/ All Guests pay admission \n✨ Take a break from the ordinary and come skate to your favorite Top 40 hits! Whether you’re roller skating or just here to enjoy the vibes\, we’ve got something for everyone! 🎶 \nBirthday Parties Available – Make the day extra special by booking a party with us! 🎂🎈 \nImportant Info: \nAll children ages 3-17 must pay admission and for skate rental (or bring their own skates).\nAll guests must sign a liability waiver. \n✨ We can’t wait to celebrate with you! ✨
URL:https://www.unitedskates.com/skateland-chandler/event/%f0%9f%8d%95free-dinner-skate%f0%9f%9b%bc/
LOCATION:Skateland Chandler\, 1101 W. Ray Rd.\, Chandler\, AZ\, 85224\, United States
CATEGORIES:Family Events,Public Skates
ATTACH;FMTTYPE=image/png:https://unitedskates-assets.sfo3.digitaloceanspaces.com/wp-content/uploads/sites/19/2024/05/Free-Dinner-Night-2024-Rink-52.png
END:VEVENT
END:VCALENDAR