BEGIN:VCALENDAR
VERSION:2.0
PRODID:-//Rink 52 - Skateland Chandler - ECPv6.15.20//NONSGML v1.0//EN
CALSCALE:GREGORIAN
METHOD:PUBLISH
X-ORIGINAL-URL:https://www.unitedskates.com/skateland-chandler
X-WR-CALDESC:Events for Rink 52 - Skateland Chandler
REFRESH-INTERVAL;VALUE=DURATION:PT1H
X-Robots-Tag:noindex
X-PUBLISHED-TTL:PT1H
BEGIN:VTIMEZONE
TZID:America/Phoenix
BEGIN:STANDARD
TZOFFSETFROM:-0700
TZOFFSETTO:-0700
TZNAME:MST
DTSTART:20250101T000000
END:STANDARD
END:VTIMEZONE
BEGIN:VEVENT
DTSTART;TZID=America/Phoenix:20260111T123000
DTEND;TZID=America/Phoenix:20260111T150000
DTSTAMP:20260421T135105
CREATED:20250126T150331Z
LAST-MODIFIED:20251227T231843Z
UID:16099-1768134600-1768143600@www.unitedskates.com
SUMMARY:🧽✨ BIKINI BOTTOM GLOW BASH ✨🧽
DESCRIPTION:🧽✨ BIKINI BOTTOM GLOW BASH ✨🧽Who lives under the lights and loves to skate? \n📅 January 11⏰ 12:30 – 3:00 PM \nDive into a glowing good time at our Bikini Bottom Glow Bash! Enjoy neon lights\, ocean-side vibes\, and a special meet & greet with SpongeBob that’s perfect for fans of all ages. \n💛 Admission: $12🛼 Skate Rental: $5👀 Spectators: $4 \nWear white or neon\, bring your jellyfish-catching crew\, and get ready to glow in Bikini Bottom! \n📍 Location: 1101 West Ray Rd\, Chandler\, AZ 85224\n📞 Contact: 480-917-9444\n🎉 Admission: $11 Online/ $12.00 in Person\n🛼 Skate Rental: $5\nBring your own skates or rent ours! \n✨ Birthday Parties Available! ✨\nCelebrate your special day with us — let us make it unforgettable! \nImportant Info: \n\nChildren (ages 3-17) must pay admission and skate rental (or bring their own skates).\nNon-skating adults (spectators) are $4.\nAll Guests are required to sign a waiver\, available at skatelandchandler.com.\n\nAll prices exclude tax. \nCome have fun\, skate\, and make memories at Skateland Chandler!
URL:https://www.unitedskates.com/skateland-chandler/event/sunday-skate-party-at-skateland-chandler-%e2%9c%a8-2025-05-25-2026-01-18/
LOCATION:Skateland Chandler\, 1101 W. Ray Rd.\, Chandler\, AZ\, 85224\, United States
CATEGORIES:Family Events,Public Skates,Special Events
ATTACH;FMTTYPE=image/png:https://unitedskates-assets.sfo3.digitaloceanspaces.com/wp-content/uploads/sites/19/2024/12/Bikini-Bottom-Glow-with-SpongeBob.png
END:VEVENT
BEGIN:VEVENT
DTSTART;TZID=America/Phoenix:20260111T153000
DTEND;TZID=America/Phoenix:20260111T180000
DTSTAMP:20260421T135105
CREATED:20241211T223756Z
LAST-MODIFIED:20251227T231929Z
UID:16146-1768145400-1768154400@www.unitedskates.com
SUMMARY:🧽✨ BIKINI BOTTOM GLOW BASH ✨🧽
DESCRIPTION:🧽✨ BIKINI BOTTOM GLOW BASH ✨🧽Who lives under the lights and loves to skate? \n📅 January 11⏰ 3:30 – 6:00 PM \nDive into a glowing good time at our Bikini Bottom Glow Bash! Enjoy neon lights\, ocean-side vibes\, and a special meet & greet with SpongeBob that’s perfect for fans of all ages. \n💛 Admission: $12🛼 Skate Rental: $5👀 Spectators: $4 \nWear white or neon\, bring your jellyfish-catching crew\, and get ready to glow in Bikini Bottom! \n📍 Location: 1101 West Ray Blvd\, Chandler\, AZ 85224\n📞 Contact: 480-917-9444\n🎉 Admission: $11 Online/ $12.00 in Person\n🛼 Skate Rental: $5\nBring your own skates or rent ours! \n✨ Birthday Parties Available! ✨\nCelebrate your special day with us — let us make it unforgettable! \nImportant Info: \n\nChildren (ages 3-17) must pay admission and skate rental (or bring their own skates).\nNon-skating adults (spectators) are $4.\nAll guests are required to sign a waiver\, available at skatelandchandler.com.\n\nAll prices exclude tax. \nCome have fun\, skate\, and make memories at Skateland Chandler!
URL:https://www.unitedskates.com/skateland-chandler/event/%e2%9c%a8-sunday-fun-day-skate-party-at-skateland-chandler-%e2%9c%a8-2025-05-25-2026-01-18/
LOCATION:Skateland Chandler\, 1101 W. Ray Rd.\, Chandler\, AZ\, 85224\, United States
CATEGORIES:Family Events,Public Skates,Special Events
ATTACH;FMTTYPE=image/png:https://unitedskates-assets.sfo3.digitaloceanspaces.com/wp-content/uploads/sites/19/2024/12/Bikini-Bottom-Glow-with-SpongeBob.png
END:VEVENT
END:VCALENDAR