BEGIN:VCALENDAR
VERSION:2.0
PRODID:-//Rink 52 - Skateland Chandler - ECPv6.15.20//NONSGML v1.0//EN
CALSCALE:GREGORIAN
METHOD:PUBLISH
X-ORIGINAL-URL:https://www.unitedskates.com/skateland-chandler
X-WR-CALDESC:Events for Rink 52 - Skateland Chandler
REFRESH-INTERVAL;VALUE=DURATION:PT1H
X-Robots-Tag:noindex
X-PUBLISHED-TTL:PT1H
BEGIN:VTIMEZONE
TZID:America/Phoenix
BEGIN:STANDARD
TZOFFSETFROM:-0700
TZOFFSETTO:-0700
TZNAME:MST
DTSTART:20250101T000000
END:STANDARD
END:VTIMEZONE
BEGIN:VEVENT
DTSTART;TZID=America/Phoenix:20260109T180000
DTEND;TZID=America/Phoenix:20260109T210000
DTSTAMP:20260419T141014
CREATED:20241130T201056Z
LAST-MODIFIED:20251226T202649Z
UID:15735-1767981600-1767992400@www.unitedskates.com
SUMMARY:👽🌺 STITCH ALIEN INVASION SKATE 🌺👽
DESCRIPTION:👽🌺 STITCH ALIEN INVASION SKATE 🌺👽Uh-oh… looks like an alien has landed on the rink. \n📅 January 9⏰ 6:00 – 9:00 PM \nGet ready for an out-of-this-world skate session as Stitch takes over! Expect alien vibes\, fun music\, and galactic energy all night long. \nDress in blue\, rock your alien fits\, and join the invasion — ohana means everyone skates together. \n📍 Location: 1101 West Ray Blvd\, Chandler\, AZ 85224 \n🎉 Public Skate Friday Nights – 6pm-9pm\n💥 Admission: $13.00 Online/ $14.00 in Person\n💥 Skate Rental: $5\n💥 Non-Skating Parents: $4\n🎶 Groovin’ to Top 40 Hits! \n🎂 Birthday Parties Available!\nCelebrate your special day at Skateland and create memories to last a lifetime! 🎈 \nGroup rates available for 10 or more\, reservations required \n⚠️ Important Reminder: \nAll Guests Entering the Facility must have a signed\, liability waiver with the current date. \nAll Guests are required to wear wrist guards. \nBring the whole family\, lace up your skates\, and roll into a fantastic time this Friday Night! 🛼💥 \n#SkatelandChandler #PublicSkate #FridayNightFun #RollerSkating #FamilyFun #Top40Hits #ChandlerAZ #SkateRental #BirthdayParties #WeekendFun #ChandlerEvents #SkatingInChandler #RollIntoFun #SkateTime #FamilyEntertainment #RollerSkatingFun
URL:https://www.unitedskates.com/skateland-chandler/event/%f0%9f%9a%a8-public-skate-every-friday-night-6-9pm-at-skateland-chandler-%f0%9f%9a%a8-2025-05-23-2026-01-09/
LOCATION:Skateland Chandler\, 1101 W. Ray Rd.\, Chandler\, AZ\, 85224\, United States
CATEGORIES:Family Events,Public Skates,Special Events
ATTACH;FMTTYPE=image/png:https://unitedskates-assets.sfo3.digitaloceanspaces.com/wp-content/uploads/sites/19/2024/11/Stitch-Alien-Invasion.png
END:VEVENT
END:VCALENDAR