BEGIN:VCALENDAR
VERSION:2.0
PRODID:-//Rink 52 - Skateland Chandler - ECPv6.15.20//NONSGML v1.0//EN
CALSCALE:GREGORIAN
METHOD:PUBLISH
X-ORIGINAL-URL:https://www.unitedskates.com/skateland-chandler
X-WR-CALDESC:Events for Rink 52 - Skateland Chandler
REFRESH-INTERVAL;VALUE=DURATION:PT1H
X-Robots-Tag:noindex
X-PUBLISHED-TTL:PT1H
BEGIN:VTIMEZONE
TZID:America/Phoenix
BEGIN:STANDARD
TZOFFSETFROM:-0700
TZOFFSETTO:-0700
TZNAME:MST
DTSTART:20250101T000000
END:STANDARD
END:VTIMEZONE
BEGIN:VEVENT
DTSTART;TZID=America/Phoenix:20260107T173000
DTEND;TZID=America/Phoenix:20260107T200000
DTSTAMP:20260421T172851
CREATED:20251226T200944Z
LAST-MODIFIED:20251226T200944Z
UID:16288-1767807000-1767816000@www.unitedskates.com
SUMMARY:🍕🛼 FREE DINNER SKATE with the MINION 🛼🍕
DESCRIPTION:🍕🛼 FREE DINNER SKATE with the MINION 🛼🍕Because skating is better with snacks and a Minion. \n📅 January 7⏰ 5:30 – 8:00 PM \nRoll in for a fun-filled night that includes skating\, food\, and a special meet & greet with the Minion! Perfect for families\, friends\, and anyone who loves a little extra chaos on wheels. \n💛 $15 Admission INCLUDES:🛼 Skate Admission👟 Skate Rental🍕 1 slice of cheese pizza🥤 Small drink📸 Meet & Greet with the Minion \nSkate\, eat\, and say “BANANA!” all in one night — don’t miss it!
URL:https://www.unitedskates.com/skateland-chandler/event/%f0%9f%8d%95%f0%9f%9b%bc-free-dinner-skate-with-the-minion-%f0%9f%9b%bc%f0%9f%8d%95/
LOCATION:Skateland Chandler\, 1101 W. Ray Rd.\, Chandler\, AZ\, 85224\, United States
CATEGORIES:Family Events,Public Skates,Special Events
ATTACH;FMTTYPE=image/png:https://unitedskates-assets.sfo3.digitaloceanspaces.com/wp-content/uploads/sites/19/2025/12/FDN-with-the-minion.png
END:VEVENT
END:VCALENDAR