BEGIN:VCALENDAR
VERSION:2.0
PRODID:-//Rink 52 - Skateland Chandler - ECPv6.15.20//NONSGML v1.0//EN
CALSCALE:GREGORIAN
METHOD:PUBLISH
X-ORIGINAL-URL:https://www.unitedskates.com/skateland-chandler
X-WR-CALDESC:Events for Rink 52 - Skateland Chandler
REFRESH-INTERVAL;VALUE=DURATION:PT1H
X-Robots-Tag:noindex
X-PUBLISHED-TTL:PT1H
BEGIN:VTIMEZONE
TZID:America/Phoenix
BEGIN:STANDARD
TZOFFSETFROM:-0700
TZOFFSETTO:-0700
TZNAME:MST
DTSTART:20240101T000000
END:STANDARD
END:VTIMEZONE
BEGIN:VEVENT
DTSTART;VALUE=DATE:20251219
DTEND;VALUE=DATE:20260107
DTSTAMP:20260421T122702
CREATED:20251202T152612Z
LAST-MODIFIED:20251202T152612Z
UID:16232-1766120400-1767675599@www.unitedskates.com
SUMMARY:Winter Break Skate Schedule — School’s Out\, Time to Roll!
DESCRIPTION:School’s out and the fun begins! Join us every day of Winter Break for themed skate sessions\, great music\, family events\, and special holiday celebrations. \nFrom Christmas Eve Skate to New Year’s Eve Parties\, we’ve got something for everyone. \nGet your tickets early and roll into the holiday fun! \nGET TICKETS HERE
URL:https://www.unitedskates.com/skateland-chandler/event/winter-break-skate-schedule-schools-out-time-to-roll/
LOCATION:Skateland Chandler\, 1101 W. Ray Rd.\, Chandler\, AZ\, 85224\, United States
CATEGORIES:Family Events,Public Skates,Special Events
ATTACH;FMTTYPE=image/jpeg:https://unitedskates-assets.sfo3.digitaloceanspaces.com/wp-content/uploads/sites/19/2025/12/Rink-52-Winter-Break-2025.jpg
END:VEVENT
BEGIN:VEVENT
DTSTART;TZID=America/Phoenix:20260105T113000
DTEND;TZID=America/Phoenix:20260105T140000
DTSTAMP:20260421T122702
CREATED:20251125T210919Z
LAST-MODIFIED:20251125T210919Z
UID:16200-1767612600-1767621600@www.unitedskates.com
SUMMARY:✨ K-POP DAY Glow Skate ✨
DESCRIPTION:✨ K-POP DAY Glow Skate ✨\nMonday\, January 5th • 11:30am–2:00pm$14 Admission • $5 Skate Rental • $4 Spectators \nKick off K-POP Day with our high-energy Glow Skate! Roll under the blacklights to the hits of HUNTR/x\, Saja Boys\, BTS\, Blackpink\, EXO\, Stray Kids & more! Sparkling lights\, big beats\, and major K-POP vibes all session long. Come dressed as your favorite K-POP Demon Hunter character or K-POP artist for our K-POP Costume Contest! \n📍 Skateland Chandler • 1101 W Ray Road\, Chandler\, AZ📞 480-917-9444 • 🌐 SkatelandChandler.com⚠ Wristguards required • Waiver required within 24 hours • Ages 3–17 pay full admission
URL:https://www.unitedskates.com/skateland-chandler/event/%e2%9c%a8-k-pop-day-glow-skate-%e2%9c%a8/
LOCATION:Skateland Chandler\, 1101 W. Ray Rd.\, Chandler\, AZ\, 85224\, United States
CATEGORIES:Family Events,Public Skates,Special Events
ATTACH;FMTTYPE=image/png:https://unitedskates-assets.sfo3.digitaloceanspaces.com/wp-content/uploads/sites/19/2025/11/K-Pop-Day-Skate.png
END:VEVENT
BEGIN:VEVENT
DTSTART;TZID=America/Phoenix:20260105T143000
DTEND;TZID=America/Phoenix:20260105T170000
DTSTAMP:20260421T122702
CREATED:20251125T210815Z
LAST-MODIFIED:20251125T210815Z
UID:16201-1767623400-1767632400@www.unitedskates.com
SUMMARY:💜 K-POP DAY ½ Price Skate 💜
DESCRIPTION:💜 K-POP DAY ½ Price Skate 💜\nMonday\, January 5th • 2:30–5:00pm$6 Admission • $5 Skate Rental • $4 Spectators \nJoin us for an awesome ½ Price Skate packed with your favorite K-POP tracks! Dance-on-wheels to the sounds of top K-POP groups and enjoy an afternoon bursting with color\, music\, and fun. Don’t forget—show off your best look in our K-POP Costume Contest! \n📍 Skateland Chandler • 1101 W Ray Road\, Chandler\, AZ📞 480-917-9444 • 🌐 SkatelandChandler.com⚠ Wristguards required • Waiver required within 24 hours • Ages 3–17 pay full admission
URL:https://www.unitedskates.com/skateland-chandler/event/%f0%9f%92%9c-k-pop-day-%c2%bd-price-skate-%f0%9f%92%9c/
LOCATION:Skateland Chandler\, 1101 W. Ray Rd.\, Chandler\, AZ\, 85224\, United States
CATEGORIES:Family Events,Public Skates,Special Events
ATTACH;FMTTYPE=image/png:https://unitedskates-assets.sfo3.digitaloceanspaces.com/wp-content/uploads/sites/19/2025/11/K-Pop-Day-Skate.png
END:VEVENT
BEGIN:VEVENT
DTSTART;TZID=America/Phoenix:20260105T173000
DTEND;TZID=America/Phoenix:20260105T200000
DTSTAMP:20260421T122702
CREATED:20250712T232127Z
LAST-MODIFIED:20250712T232127Z
UID:16382-1767634200-1767643200@www.unitedskates.com
SUMMARY:Monday Affordable Family Fun Public Skating
DESCRIPTION:Join us for an unforgettable evening at Skateland Chandler for Affordable Family Fun Public Skating!🥳 \nEvent Details: \n💲 Admission: $7\n🛼 Skate Rental: $5\n👨‍👩‍👧‍👦 Non-Skating Parents: $4 \n✨ Take a break from the ordinary and come skate to your favorite R&B & Top 40 hits! Whether you’re roller skating or just here to enjoy the vibes\, we’ve got something for everyone! 🎶 \nImportant Info: \nAll children ages 3-17 must pay admission and for skate rental (or bring their own skates).\nAll Guests must sign a liability waiver the day of skating at skatelandchandler.com \n✨ We can’t wait to roll with you! ✨
URL:https://www.unitedskates.com/skateland-chandler/event/monday-affordable-family-fun-public-skating-2/2026-01-05/
LOCATION:Skateland Chandler\, 1101 W. Ray Rd.\, Chandler\, AZ\, 85224\, United States
CATEGORIES:Family Events,Public Skates
ATTACH;FMTTYPE=image/png:https://unitedskates-assets.sfo3.digitaloceanspaces.com/wp-content/uploads/sites/19/2025/03/Screenshot-2025-03-25-120242.png
END:VEVENT
BEGIN:VEVENT
DTSTART;TZID=America/Phoenix:20260105T173000
DTEND;TZID=America/Phoenix:20260105T200000
DTSTAMP:20260421T122702
CREATED:20251125T210851Z
LAST-MODIFIED:20251125T210851Z
UID:16202-1767634200-1767643200@www.unitedskates.com
SUMMARY:⭐ Affordable K-POP Skate ⭐
DESCRIPTION:⭐ Affordable K-POP Skate ⭐\nMonday\, January 5th • 5:30–8:00pm$7 Admission • $5 Skate Rental • $4 Spectators \nWrap up K-POP Day with our Affordable Skate session featuring nonstop K-POP favorites from HUNTR/x\, BTS\, Blackpink\, Stray Kids\, and more! Bring the whole crew\, dress as your favorite Demon Hunter character or K-POP idol\, and step into the spotlight during our K-POP Costume Contest. \n📍 Skateland Chandler • 1101 W Ray Road\, Chandler\, AZ📞 480-917-9444 • 🌐 SkatelandChandler.com⚠ Wristguards required • Waiver required within 24 hours • Ages 3–17 pay full admission
URL:https://www.unitedskates.com/skateland-chandler/event/%e2%ad%90-affordable-k-pop-skate-%e2%ad%90/
LOCATION:Skateland Chandler\, 1101 W. Ray Rd.\, Chandler\, AZ\, 85224\, United States
CATEGORIES:Family Events,Public Skates,Special Events
ATTACH;FMTTYPE=image/png:https://unitedskates-assets.sfo3.digitaloceanspaces.com/wp-content/uploads/sites/19/2025/11/K-Pop-Day-Skate.png
END:VEVENT
END:VCALENDAR