BEGIN:VCALENDAR
VERSION:2.0
PRODID:-//Rink 52 - Skateland Chandler - ECPv6.15.20//NONSGML v1.0//EN
CALSCALE:GREGORIAN
METHOD:PUBLISH
X-ORIGINAL-URL:https://www.unitedskates.com/skateland-chandler
X-WR-CALDESC:Events for Rink 52 - Skateland Chandler
REFRESH-INTERVAL;VALUE=DURATION:PT1H
X-Robots-Tag:noindex
X-PUBLISHED-TTL:PT1H
BEGIN:VTIMEZONE
TZID:America/Phoenix
BEGIN:STANDARD
TZOFFSETFROM:-0700
TZOFFSETTO:-0700
TZNAME:MST
DTSTART:20240101T000000
END:STANDARD
END:VTIMEZONE
BEGIN:VEVENT
DTSTART;VALUE=DATE:20251219
DTEND;VALUE=DATE:20260107
DTSTAMP:20260421T105251
CREATED:20251202T152612Z
LAST-MODIFIED:20251202T152612Z
UID:16232-1766120400-1767675599@www.unitedskates.com
SUMMARY:Winter Break Skate Schedule — School’s Out\, Time to Roll!
DESCRIPTION:School’s out and the fun begins! Join us every day of Winter Break for themed skate sessions\, great music\, family events\, and special holiday celebrations. \nFrom Christmas Eve Skate to New Year’s Eve Parties\, we’ve got something for everyone. \nGet your tickets early and roll into the holiday fun! \nGET TICKETS HERE
URL:https://www.unitedskates.com/skateland-chandler/event/winter-break-skate-schedule-schools-out-time-to-roll/
LOCATION:Skateland Chandler\, 1101 W. Ray Rd.\, Chandler\, AZ\, 85224\, United States
CATEGORIES:Family Events,Public Skates,Special Events
ATTACH;FMTTYPE=image/jpeg:https://unitedskates-assets.sfo3.digitaloceanspaces.com/wp-content/uploads/sites/19/2025/12/Rink-52-Winter-Break-2025.jpg
END:VEVENT
BEGIN:VEVENT
DTSTART;TZID=America/Phoenix:20260104T100000
DTEND;TZID=America/Phoenix:20260104T120000
DTSTAMP:20260421T105251
CREATED:20251125T210308Z
LAST-MODIFIED:20251125T210308Z
UID:16191-1767520800-1767528000@www.unitedskates.com
SUMMARY:🎄✨ Holiday Explosion Breakfast! ✨🎄
DESCRIPTION:🎄✨ Holiday Explosion Breakfast! ✨🎄Kick off the new year with a festive morning on wheels! Join us for our Holiday Explosion Breakfast Skate — a fun-filled celebration perfect for families looking to keep the holiday magic rolling. \n📅 Saturday\, January 4th⏰ 10am–12pm \n🎉 $15 Admission • $5 Skate Rental(All guests pay regular admission) \nYour admission includes:🥞 1 trip to our French Toast Bar🧃 A juice pouch🎨 Coloring station📸 Photo ops with our friendly characters…plus two hours of skating fun to start your year off right! \n📍 Skateland Chandler • 1101 W Ray Road\, Chandler\, AZ📞 480-917-9444 • 🌐 SkatelandChandler.com \n⚠ Wristguards required • Waiver required within 24 hours • Ages 3–17 pay full admission
URL:https://www.unitedskates.com/skateland-chandler/event/%f0%9f%8e%84%e2%9c%a8-holiday-explosion-breakfast-%e2%9c%a8%f0%9f%8e%84/
LOCATION:Skateland Chandler\, 1101 W. Ray Rd.\, Chandler\, AZ\, 85224\, United States
CATEGORIES:Family Events,Public Skates,Special Events
ATTACH;FMTTYPE=image/png:https://unitedskates-assets.sfo3.digitaloceanspaces.com/wp-content/uploads/sites/19/2025/11/Holiday-Explosion-Skate.png
END:VEVENT
BEGIN:VEVENT
DTSTART;TZID=America/Phoenix:20260104T123000
DTEND;TZID=America/Phoenix:20260104T150000
DTSTAMP:20260421T105251
CREATED:20250126T150331Z
LAST-MODIFIED:20251125T210441Z
UID:16097-1767529800-1767538800@www.unitedskates.com
SUMMARY:🎄✨ Holiday Explosion Family Skate! ✨🎄
DESCRIPTION:🎄✨ Holiday Explosion Family Skate! ✨🎄Bring the whole family out for a festive morning on the rink! Our Holiday Explosion Family Skating Session is the perfect way to keep the holiday cheer going with music\, skating\, and visits from our friendly characters. \n📅 Saturday\, January 4th⏰ 12:30–3:00pm \n🎉 $12 Admission • $5 Skate Rental • $4 Spectators \nEnjoy two hours of skating fun plus:📸 Photo ops & character visits🎨 Coloring station \n📍 Skateland Chandler • 1101 W Ray Road\, Chandler\, AZ📞 480-917-9444 • 🌐 SkatelandChandler.com \n⚠ Wristguards required • Waiver required within 24 hours • Ages 3–17 pay full admission
URL:https://www.unitedskates.com/skateland-chandler/event/sunday-skate-party-at-skateland-chandler-%e2%9c%a8-2025-05-25-2026-01-04/
LOCATION:Skateland Chandler\, 1101 W. Ray Rd.\, Chandler\, AZ\, 85224\, United States
CATEGORIES:Family Events,Public Skates,Special Events
ATTACH;FMTTYPE=image/png:https://unitedskates-assets.sfo3.digitaloceanspaces.com/wp-content/uploads/sites/19/2025/11/Holiday-Explosion-Skate.png
END:VEVENT
BEGIN:VEVENT
DTSTART;TZID=America/Phoenix:20260104T153000
DTEND;TZID=America/Phoenix:20260104T180000
DTSTAMP:20260421T105251
CREATED:20241211T223756Z
LAST-MODIFIED:20251125T210600Z
UID:16144-1767540600-1767549600@www.unitedskates.com
SUMMARY:🎄✨ Holiday Explosion Glow Skate! ✨🎄
DESCRIPTION:🎄✨ Holiday Explosion Glow Skate! ✨🎄Bring the whole family out for a festive afternoon on the rink! Our Holiday Explosion Family Glow Skate keeps the holiday magic shining with upbeat music\, glowing lights\, and visits from our friendly characters. \n📅 Saturday\, January 4th⏰ 3:30–6:00pm \n🎉 $12 Admission • $5 Skate Rental • $4 Spectators \nEnjoy a glowing good time plus:📸 Photo ops & character visits🎨 Coloring station \n📍 Skateland Chandler • 1101 W Ray Road\, Chandler\, AZ📞 480-917-9444 • 🌐 SkatelandChandler.com \n⚠ Wristguards required • Waiver required within 24 hours • Ages 3–17 pay full admission
URL:https://www.unitedskates.com/skateland-chandler/event/%e2%9c%a8-sunday-fun-day-skate-party-at-skateland-chandler-%e2%9c%a8-2025-05-25-2026-01-04/
LOCATION:Skateland Chandler\, 1101 W. Ray Rd.\, Chandler\, AZ\, 85224\, United States
CATEGORIES:Family Events,Public Skates,Special Events
ATTACH;FMTTYPE=image/png:https://unitedskates-assets.sfo3.digitaloceanspaces.com/wp-content/uploads/sites/19/2025/11/Holiday-Explosion-Skate.png
END:VEVENT
END:VCALENDAR