BEGIN:VCALENDAR
VERSION:2.0
PRODID:-//Rink 52 - Skateland Chandler - ECPv6.15.20//NONSGML v1.0//EN
CALSCALE:GREGORIAN
METHOD:PUBLISH
X-ORIGINAL-URL:https://www.unitedskates.com/skateland-chandler
X-WR-CALDESC:Events for Rink 52 - Skateland Chandler
REFRESH-INTERVAL;VALUE=DURATION:PT1H
X-Robots-Tag:noindex
X-PUBLISHED-TTL:PT1H
BEGIN:VTIMEZONE
TZID:America/Phoenix
BEGIN:STANDARD
TZOFFSETFROM:-0700
TZOFFSETTO:-0700
TZNAME:MST
DTSTART:20240101T000000
END:STANDARD
END:VTIMEZONE
BEGIN:VEVENT
DTSTART;VALUE=DATE:20251219
DTEND;VALUE=DATE:20260107
DTSTAMP:20260419T072233
CREATED:20251202T152612Z
LAST-MODIFIED:20251202T152612Z
UID:16232-1766120400-1767675599@www.unitedskates.com
SUMMARY:Winter Break Skate Schedule — School’s Out\, Time to Roll!
DESCRIPTION:School’s out and the fun begins! Join us every day of Winter Break for themed skate sessions\, great music\, family events\, and special holiday celebrations. \nFrom Christmas Eve Skate to New Year’s Eve Parties\, we’ve got something for everyone. \nGet your tickets early and roll into the holiday fun! \nGET TICKETS HERE
URL:https://www.unitedskates.com/skateland-chandler/event/winter-break-skate-schedule-schools-out-time-to-roll/
LOCATION:Skateland Chandler\, 1101 W. Ray Rd.\, Chandler\, AZ\, 85224\, United States
CATEGORIES:Family Events,Public Skates,Special Events
ATTACH;FMTTYPE=image/jpeg:https://unitedskates-assets.sfo3.digitaloceanspaces.com/wp-content/uploads/sites/19/2025/12/Rink-52-Winter-Break-2025.jpg
END:VEVENT
BEGIN:VEVENT
DTSTART;TZID=America/Phoenix:20251231T110000
DTEND;TZID=America/Phoenix:20251231T140000
DTSTAMP:20260419T072233
CREATED:20251125T201038Z
LAST-MODIFIED:20251125T201038Z
UID:15839-1767178800-1767189600@www.unitedskates.com
SUMMARY:❤️🍕 Mario’s New Year’s Eve Pizza Party🍕❤️
DESCRIPTION:❤️🍕 Mario’s New Year’s Eve Pizza Party at Skateland Chandler! 🍕❤️📅 Tuesday\, December 31st🕚 11:00am – 2:00pm \nKick off your New Year’s Eve celebration with Mario’s New Year’s Eve Pizza Party—a family event packed with fun\, food\, and festive surprises! Join Mario and Luigi for an action-filled afternoon of skating\, music\, and holiday excitement. Kids and families will enjoy party hats\, noisemakers\, a balloon drop\, and delicious pizza to fuel the fun! \nAdmission: $20Includes:❤️ Skate Rental❤️ Slice of Cheese Pizza❤️ Small Drink❤️ Party Hats & Noisemakers❤️ Balloon Drop❤️ Visits from Mario & Luigi \nAll guests pay full admission price. \nBring the whole family for the ultimate New Year’s Eve warm-up—perfect for creating memories before the countdown begins! \n📍 Skateland Chandler1101 W Ray Road\, Chandler\, AZ 85224📞 480-917-9444🌐 www.SkatelandChandler.com \n⚠ Important Event Info: \n\n\nAll guests must wear wristguards while skating\, regardless of ability. \n\n\nAll guests entering the building must have a completed liability waiver within 24 hours of the event. \n\n\nAll guests ages 3–17 pay full admission\, skating or non-skating. \n\n\n✨ Celebrate early with skating\, pizza\, and your favorite Mushroom Kingdom duo! 🍄
URL:https://www.unitedskates.com/skateland-chandler/event/%e2%9d%a4%ef%b8%8f%f0%9f%8d%95-marios-new-years-eve-pizza-party%f0%9f%8d%95%e2%9d%a4%ef%b8%8f/
LOCATION:Skateland Chandler\, 1101 W. Ray Rd.\, Chandler\, AZ\, 85224\, United States
CATEGORIES:Family Events,Public Skates,Special Events
ATTACH;FMTTYPE=image/png:https://unitedskates-assets.sfo3.digitaloceanspaces.com/wp-content/uploads/sites/19/2025/07/New-Years-Skate-2025.png
END:VEVENT
BEGIN:VEVENT
DTSTART;TZID=America/Phoenix:20251231T150000
DTEND;TZID=America/Phoenix:20251231T180000
DTSTAMP:20260419T072233
CREATED:20251125T201141Z
LAST-MODIFIED:20251125T201141Z
UID:15840-1767193200-1767204000@www.unitedskates.com
SUMMARY:❤️🍕 Mario’s New Year’s Eve Pizza Party🍕❤️
DESCRIPTION:❤️🍕 Mario’s New Year’s Eve Pizza Party at Skateland Chandler! 🍕❤️📅 Tuesday\, December 31st🕚 3:00pm – 6:00pm \nKick off your New Year’s Eve celebration with Mario’s New Year’s Eve Pizza Party—a family event packed with fun\, food\, and festive surprises! Join Mario and Luigi for an action-filled afternoon of skating\, music\, and holiday excitement. Kids and families will enjoy party hats\, noisemakers\, a balloon drop\, and delicious pizza to fuel the fun! \nAdmission: $20Includes:❤️ Skate Rental❤️ Slice of Cheese Pizza❤️ Small Drink❤️ Party Hats & Noisemakers❤️ Balloon Drop❤️ Visits from Mario & Luigi \nAll guests pay full admission price. \nBring the whole family for the ultimate New Year’s Eve warm-up—perfect for creating memories before the countdown begins! \n📍 Skateland Chandler1101 W Ray Road\, Chandler\, AZ 85224📞 480-917-9444🌐 www.SkatelandChandler.com \n⚠ Important Event Info: \n\n\nAll guests must wear wristguards while skating\, regardless of ability. \n\n\nAll guests entering the building must have a completed liability waiver within 24 hours of the event. \n\n\nAll guests ages 3–17 pay full admission\, skating or non-skating. \n\n\n✨ Celebrate early with skating\, pizza\, and your favorite Mushroom Kingdom duo! 🍄
URL:https://www.unitedskates.com/skateland-chandler/event/%e2%9d%a4%ef%b8%8f%f0%9f%8d%95-marios-new-years-eve-pizza-party%f0%9f%8d%95%e2%9d%a4%ef%b8%8f-2/
LOCATION:Skateland Chandler\, 1101 W. Ray Rd.\, Chandler\, AZ\, 85224\, United States
CATEGORIES:Family Events,Public Skates,Special Events
ATTACH;FMTTYPE=image/png:https://unitedskates-assets.sfo3.digitaloceanspaces.com/wp-content/uploads/sites/19/2025/07/New-Years-Skate-2025.png
END:VEVENT
BEGIN:VEVENT
DTSTART;TZID=America/Phoenix:20251231T183000
DTEND;TZID=America/Phoenix:20251231T213000
DTSTAMP:20260419T072233
CREATED:20250712T232517Z
LAST-MODIFIED:20251125T201224Z
UID:15055-1767205800-1767216600@www.unitedskates.com
SUMMARY:❤️🍕 Mario’s New Year’s Eve Pizza Party🍕❤️
DESCRIPTION:❤️🍕 Mario’s New Year’s Eve Pizza Party at Skateland Chandler! 🍕❤️📅 Tuesday\, December 31st🕚 6:30pm – 9:30pm \nKick off your New Year’s Eve celebration with Mario’s New Year’s Eve Pizza Party—a family event packed with fun\, food\, and festive surprises! Join Mario and Luigi for an action-filled afternoon of skating\, music\, and holiday excitement. Kids and families will enjoy party hats\, noisemakers\, a balloon drop\, and delicious pizza to fuel the fun! \nAdmission: $20Includes:❤️ Skate Rental❤️ Slice of Cheese Pizza❤️ Small Drink❤️ Party Hats & Noisemakers❤️ Balloon Drop❤️ Visits from Mario & Luigi \nAll guests pay full admission price. \nBring the whole family for the ultimate New Year’s Eve warm-up—perfect for creating memories before the countdown begins! \n📍 Skateland Chandler1101 W Ray Road\, Chandler\, AZ 85224📞 480-917-9444🌐 www.SkatelandChandler.com \n⚠ Important Event Info: \n\n\nAll guests must wear wristguards while skating\, regardless of ability. \n\n\nAll guests entering the building must have a completed liability waiver within 24 hours of the event. \n\n\nAll guests ages 3–17 pay full admission\, skating or non-skating. \n\n\n✨ Celebrate early with skating\, pizza\, and your favorite Mushroom Kingdom duo! 🍄
URL:https://www.unitedskates.com/skateland-chandler/event/free-dinner-night-skate-3-2025-12-31/
LOCATION:Skateland Chandler\, 1101 W. Ray Rd.\, Chandler\, AZ\, 85224\, United States
CATEGORIES:Family Events,Public Skates,Special Events
ATTACH;FMTTYPE=image/png:https://unitedskates-assets.sfo3.digitaloceanspaces.com/wp-content/uploads/sites/19/2025/07/New-Years-Skate-2025.png
END:VEVENT
END:VCALENDAR