BEGIN:VCALENDAR
VERSION:2.0
PRODID:-//Rink 52 - Skateland Chandler - ECPv6.15.20//NONSGML v1.0//EN
CALSCALE:GREGORIAN
METHOD:PUBLISH
X-ORIGINAL-URL:https://www.unitedskates.com/skateland-chandler
X-WR-CALDESC:Events for Rink 52 - Skateland Chandler
REFRESH-INTERVAL;VALUE=DURATION:PT1H
X-Robots-Tag:noindex
X-PUBLISHED-TTL:PT1H
BEGIN:VTIMEZONE
TZID:America/Phoenix
BEGIN:STANDARD
TZOFFSETFROM:-0700
TZOFFSETTO:-0700
TZNAME:MST
DTSTART:20240101T000000
END:STANDARD
END:VTIMEZONE
BEGIN:VEVENT
DTSTART;VALUE=DATE:20251219
DTEND;VALUE=DATE:20260107
DTSTAMP:20260419T072235
CREATED:20251202T152612Z
LAST-MODIFIED:20251202T152612Z
UID:16232-1766120400-1767675599@www.unitedskates.com
SUMMARY:Winter Break Skate Schedule — School’s Out\, Time to Roll!
DESCRIPTION:School’s out and the fun begins! Join us every day of Winter Break for themed skate sessions\, great music\, family events\, and special holiday celebrations. \nFrom Christmas Eve Skate to New Year’s Eve Parties\, we’ve got something for everyone. \nGet your tickets early and roll into the holiday fun! \nGET TICKETS HERE
URL:https://www.unitedskates.com/skateland-chandler/event/winter-break-skate-schedule-schools-out-time-to-roll/
LOCATION:Skateland Chandler\, 1101 W. Ray Rd.\, Chandler\, AZ\, 85224\, United States
CATEGORIES:Family Events,Public Skates,Special Events
ATTACH;FMTTYPE=image/jpeg:https://unitedskates-assets.sfo3.digitaloceanspaces.com/wp-content/uploads/sites/19/2025/12/Rink-52-Winter-Break-2025.jpg
END:VEVENT
BEGIN:VEVENT
DTSTART;TZID=America/Phoenix:20251228T100000
DTEND;TZID=America/Phoenix:20251228T120000
DTSTAMP:20260419T072235
CREATED:20251125T010856Z
LAST-MODIFIED:20251125T010856Z
UID:15813-1766916000-1766923200@www.unitedskates.com
SUMMARY:❄️☃️ Breakfast with Olaf 🧇☃️
DESCRIPTION:❄️☃️ Breakfast with Olaf Skate at Skateland Chandler! ☃️❄️📅 Sunday\, December 28th🕙 10:00am – 12:00pm \nStart your holiday morning with a frosty twist at Breakfast with Olaf Skate! Join everyone’s favorite snowman for a magical morning filled with skating\, tasty treats\, and festive fun. Guests will enjoy a delicious trip to the waffle bar with a juice pouch\, a creative coloring station\, and an up-close Meet & Greet with Olaf himself. \nAdmission: $15 (sorry\, no spectators\, all guests pay regular admission)Includes:☃️ Waffle bar & juice pouch☃️ Coloring station☃️ Meet & Greet with Olaf \nSkate Rental: $5 \nBring the whole family for a morning of skating\, laughter\, and wintertime magic that will create memories to last all season! \n📍 Skateland Chandler1101 W Ray Road\, Chandler\, AZ 85224📞 480-917-9444🌐 www.SkatelandChandler.com \n⚠ Important Event Info: \n\n\nAll guests must wear wristguards while skating\, regardless of ability. \n\n\nAll guests entering the building must have a completed liability waiver within 24 hours of the event. \n\n\nAll guests ages 3–17 pay full admission\, skating or non-skating. \n\n\n✨ Glide\, snack\, and celebrate with Olaf for a morning that’s cool\, cozy\, and full of holiday cheer!
URL:https://www.unitedskates.com/skateland-chandler/event/%e2%9d%84%ef%b8%8f%e2%98%83%ef%b8%8f-breakfast-with-olaf-%f0%9f%a7%87%e2%98%83%ef%b8%8f/
LOCATION:Skateland Chandler\, 1101 W. Ray Rd.\, Chandler\, AZ\, 85224\, United States
CATEGORIES:Family Events,Public Skates,Special Events
ATTACH;FMTTYPE=image/png:https://unitedskates-assets.sfo3.digitaloceanspaces.com/wp-content/uploads/sites/19/2025/11/Breakfast-w-Olaf.png
END:VEVENT
BEGIN:VEVENT
DTSTART;TZID=America/Phoenix:20251228T123000
DTEND;TZID=America/Phoenix:20251228T150000
DTSTAMP:20260419T072235
CREATED:20250126T150331Z
LAST-MODIFIED:20251125T011117Z
UID:14597-1766925000-1766934000@www.unitedskates.com
SUMMARY:❄️✨ Elsa & Olaf’s Frozen Adventure ✨❄️
DESCRIPTION:❄️✨ Elsa & Olaf’s Frozen Adventure at Skateland Chandler! ✨❄️📅 Sunday\, December 28th🕧 12:30pm – 3:00pm \nEmbark on a magical skating journey with Elsa\, Anna\, and Olaf during Elsa & Olaf’s Frozen Adventure! Glide across the rink surrounded by winter wonder\, festive music\, and your favorite Frozen characters. This is the perfect afternoon for families to enjoy a Meet & Greet with Elsa\, Anna\, and Olaf while creating unforgettable holiday memories. \nAdmission: $12Includes:❄️ Meet & Greet with Elsa\, Anna\, and Olaf \nSkate Rental: $5Spectators: $4 \nBring your family and friends for an enchanting Frozen adventure that will make your holiday season sparkle! \n📍 Skateland Chandler1101 W Ray Road\, Chandler\, AZ 85224📞 480-917-9444🌐 www.SkatelandChandler.com \n⚠ Important Event Info: \n\n\nAll guests must wear wristguards while skating\, regardless of ability. \n\n\nAll guests entering the building (skating or non-skating) must have a completed liability waiver within 24 hours of the event. \n\n\nAll guests ages 3–17 pay full admission\, skating or non-skating. \n\n\n✨ Skate\, meet your favorite Frozen friends\, and experience a winter wonderland right here at Skateland Chandler!
URL:https://www.unitedskates.com/skateland-chandler/event/sunday-skate-party-at-skateland-chandler-%e2%9c%a8-2025-05-25-2025-12-28/
LOCATION:Skateland Chandler\, 1101 W. Ray Rd.\, Chandler\, AZ\, 85224\, United States
CATEGORIES:Family Events,Public Skates,Special Events
ATTACH;FMTTYPE=image/png:https://unitedskates-assets.sfo3.digitaloceanspaces.com/wp-content/uploads/sites/19/2025/01/Olaf-Elsa-Frozen-Adventure.png
END:VEVENT
BEGIN:VEVENT
DTSTART;TZID=America/Phoenix:20251228T153000
DTEND;TZID=America/Phoenix:20251228T180000
DTSTAMP:20260419T072235
CREATED:20241211T223756Z
LAST-MODIFIED:20251125T011349Z
UID:14639-1766935800-1766944800@www.unitedskates.com
SUMMARY:❄️✨Elsa & Olaf’s Frozen Glow Adventure✨❄️
DESCRIPTION:❄️✨ Elsa & Olaf’s Frozen Glow Adventure at Skateland Chandler! ✨❄️📅 Sunday\, December 28th🕧 3:30pm – 6:00pm \nLight up the rink with Elsa\, Anna\, and Olaf during Elsa & Olaf’s Frozen Glow Adventure! Skate under dazzling lights to festive music while enjoying a magical winter wonderland. Families can meet their favorite Frozen characters up close in a glowing\, unforgettable experience. \nAdmission: $12Includes:❄️ Meet & Greet with Elsa\, Anna\, and Olaf \nSkate Rental: $5Spectators: $4 \nBring your family and friends for an enchanting glow-filled Frozen adventure that will make your holiday season sparkle! \n📍 Skateland Chandler1101 W Ray Road\, Chandler\, AZ 85224📞 480-917-9444🌐 www.SkatelandChandler.com \n⚠ Important Event Info: \n\n\nAll guests must wear wristguards while skating\, regardless of ability. \n\n\nAll guests entering the building (skating or non-skating) must have a completed liability waiver within 24 hours of the event. \n\n\nAll guests ages 3–17 pay full admission\, skating or non-skating. \n\n\n✨ Skate\, glow\, and meet your favorite Frozen friends for a magical holiday experience!
URL:https://www.unitedskates.com/skateland-chandler/event/%e2%9c%a8-sunday-fun-day-skate-party-at-skateland-chandler-%e2%9c%a8-2025-05-25-2025-12-28/
LOCATION:Skateland Chandler\, 1101 W. Ray Rd.\, Chandler\, AZ\, 85224\, United States
CATEGORIES:Family Events,Public Skates,Special Events
ATTACH;FMTTYPE=image/png:https://unitedskates-assets.sfo3.digitaloceanspaces.com/wp-content/uploads/sites/19/2025/01/Olaf-Elsa-Frozen-Adventure.png
END:VEVENT
END:VCALENDAR