BEGIN:VCALENDAR
VERSION:2.0
PRODID:-//Rink 52 - Skateland Chandler - ECPv6.15.20//NONSGML v1.0//EN
CALSCALE:GREGORIAN
METHOD:PUBLISH
X-WR-CALNAME:Rink 52 - Skateland Chandler
X-ORIGINAL-URL:https://www.unitedskates.com/skateland-chandler
X-WR-CALDESC:Events for Rink 52 - Skateland Chandler
REFRESH-INTERVAL;VALUE=DURATION:PT1H
X-Robots-Tag:noindex
X-PUBLISHED-TTL:PT1H
BEGIN:VTIMEZONE
TZID:America/Phoenix
BEGIN:STANDARD
TZOFFSETFROM:-0700
TZOFFSETTO:-0700
TZNAME:MST
DTSTART:20240101T000000
END:STANDARD
END:VTIMEZONE
BEGIN:VEVENT
DTSTART;VALUE=DATE:20251219
DTEND;VALUE=DATE:20260107
DTSTAMP:20260419T122329
CREATED:20251202T152612Z
LAST-MODIFIED:20251202T152612Z
UID:16232-1766120400-1767675599@www.unitedskates.com
SUMMARY:Winter Break Skate Schedule — School’s Out\, Time to Roll!
DESCRIPTION:School’s out and the fun begins! Join us every day of Winter Break for themed skate sessions\, great music\, family events\, and special holiday celebrations. \nFrom Christmas Eve Skate to New Year’s Eve Parties\, we’ve got something for everyone. \nGet your tickets early and roll into the holiday fun! \nGET TICKETS HERE
URL:https://www.unitedskates.com/skateland-chandler/event/winter-break-skate-schedule-schools-out-time-to-roll/
LOCATION:Skateland Chandler\, 1101 W. Ray Rd.\, Chandler\, AZ\, 85224\, United States
CATEGORIES:Family Events,Public Skates,Special Events
ATTACH;FMTTYPE=image/jpeg:https://unitedskates-assets.sfo3.digitaloceanspaces.com/wp-content/uploads/sites/19/2025/12/Rink-52-Winter-Break-2025.jpg
END:VEVENT
BEGIN:VEVENT
DTSTART;TZID=America/Phoenix:20251220T090000
DTEND;TZID=America/Phoenix:20251220T100000
DTSTAMP:20260419T122329
CREATED:20241108T165354Z
LAST-MODIFIED:20251125T203842Z
UID:12467-1766221200-1766224800@www.unitedskates.com
SUMMARY:Learn to Skate Every Saturday Morning!
DESCRIPTION:Skateland Chandler Presents… Learn to Skate Every Saturday Morning!\n\n\n\n\n\n\n\n\n\n\n⏰ When: Every Saturday\n🕘 Time: 9:00am-10:00am (Doors open at 8:45am\, and will close at 9:00am sharp!)\n📍 Where: Skateland Chandler | 1101 W Ray Rd\, Chandler\, AZ 85224 \nReady to roll? 🛼 Whether you’re a beginner or just looking to brush up on your skills\, our Saturday morning skate classes are perfect for all ages! Kids (4 & up) and adults of all ages are welcome to join us for a fun and interactive lesson. Our family of skaters is here to support you every step of the way! \nOnly $20 per person!\nIncludes: \n\nSkate Lesson 🏆\nAdmission 🎟️\nSkate Rental 🛹\nFisher Price Skates Available for the little ones!\nFREE Wrist Guards for extra safety 💪\n\nStop by our lobby for more details or to gear up for your class! \nCome skate with us this Saturday — we can’t wait to meet you! \n📞 Call 480-917-9444 or visit SkatelandChandler.com for more info.
URL:https://www.unitedskates.com/skateland-chandler/event/learn-to-skate-every-saturday-morning-2025-05-24/2025-12-20/
LOCATION:Skateland Chandler\, 1101 W. Ray Rd.\, Chandler\, AZ\, 85224\, United States
CATEGORIES:Adult Events,Family Events,Lessons,Public Skates
ATTACH;FMTTYPE=image/png:https://unitedskates-assets.sfo3.digitaloceanspaces.com/wp-content/uploads/sites/19/2024/11/Screenshot-2024-11-08-094601.png
END:VEVENT
BEGIN:VEVENT
DTSTART;TZID=America/Phoenix:20251220T100000
DTEND;TZID=America/Phoenix:20251220T120000
DTSTAMP:20260419T122329
CREATED:20231229T202354Z
LAST-MODIFIED:20251125T203437Z
UID:14015-1766224800-1766232000@www.unitedskates.com
SUMMARY:Disney Hits Little Roller Skate
DESCRIPTION:Get ready for Tiny Tot Little Rollers\, the ultimate roller skating experience for kids ages 10 & under! 🎉 \n🌟 When? Every Saturday Morning\, 10:00 AM – 12:00 PM🎟️ Admission: $11.00 Online/ $12.00 in Person🛼 Skate Rental: $5.00👨‍👩‍👧 Non-Skating Parents: $4.00 \n👶 Perfect for beginners! Skatemates are available for $6.00 to help little ones get rolling with confidence. \n🎵 Dance & Skate! Enjoy a playlist packed with Disney hits\, Kidz Bop\, and the best pop music all session long! \n✨ Bonus Fun! A special character guest makes an appearance each week to add to the excitement! \nDon’t miss out on this fun-filled Saturday tradition—bring your little skaters and make unforgettable memories! 🚀💖
URL:https://www.unitedskates.com/skateland-chandler/event/disney-hits-little-roller-skate-2025-05-24/2025-12-20/
LOCATION:Skateland Chandler\, 1101 W. Ray Rd.\, Chandler\, AZ\, 85224\, United States
CATEGORIES:Family Events,Public Skates
ATTACH;FMTTYPE=image/png:https://unitedskates-assets.sfo3.digitaloceanspaces.com/wp-content/uploads/sites/19/2023/12/Little-Roller.png
END:VEVENT
BEGIN:VEVENT
DTSTART;TZID=America/Phoenix:20251220T123000
DTEND;TZID=America/Phoenix:20251220T150000
DTSTAMP:20260419T122329
CREATED:20241102T005555Z
LAST-MODIFIED:20251124T223113Z
UID:14491-1766233800-1766242800@www.unitedskates.com
SUMMARY:❄️☃️ Frosty vs. Olaf Indoor Snowball Fight
DESCRIPTION:❄️☃️ Frosty vs. Olaf Indoor Snowball Fight at Skateland Chandler! ☃️❄️📅 Saturday\, December 20th🕧 12:30pm – 3:00pm \nGet ready for the coolest winter showdown of the season! Join us for a magical afternoon of skating\, winter fun\, and the ultimate Indoor Snowball Fight: Team Frosty vs. Team Olaf! The snowball battle erupts at the end of the session—choose your team\, grab your soft snowballs\, and let the frosty fun fly! \nAdmission: $12Skate Rental: $5Spectators: $4 \nThis family-friendly event brings winter to the rink with laughs\, teamwork\, and snowy excitement—without the cold! Whether you’re skating for Frosty or cheering loud for Team Olaf\, it’s guaranteed to be a festive winter win. \n📍 Skateland Chandler1101 W Ray Road\, Chandler\, AZ 85224📞 480-917-9444🌐 www.SkatelandChandler.com \n⚠ Important Event Info: \n\n\nAll guests must wear wristguards while skating\, regardless of ability. \n\n\nAll guests entering the building (skating or non-skating) must have a completed liability waiver within 24 hours of the event. \n\n\nAll guests ages 3–17 pay full admission\, skating or non-skating. \n\n\n✨ Pick your team. Ready your snowballs. Let the winter battle begin!
URL:https://www.unitedskates.com/skateland-chandler/event/%f0%9f%8e%89-public-skate-at-skateland-chandler-%f0%9f%9b%bc-2025-05-24-2025-12-20/
LOCATION:Skateland Chandler\, 1101 W. Ray Rd.\, Chandler\, AZ\, 85224\, United States
CATEGORIES:Family Events,Public Skates,Special Events
ATTACH;FMTTYPE=image/png:https://unitedskates-assets.sfo3.digitaloceanspaces.com/wp-content/uploads/sites/19/2024/11/Frosty-vs-Olaf-Indoor-Snowball-Fight.png
END:VEVENT
BEGIN:VEVENT
DTSTART;TZID=America/Phoenix:20251220T153000
DTEND;TZID=America/Phoenix:20251220T180000
DTSTAMP:20260419T122329
CREATED:20241125T172303Z
LAST-MODIFIED:20251124T223238Z
UID:14545-1766244600-1766253600@www.unitedskates.com
SUMMARY:❄️☃️ Frosty vs. Olaf Indoor Snowball Fight
DESCRIPTION:❄️☃️ Frosty vs. Olaf Indoor Snowball Fight at Skateland Chandler! ☃️❄️📅 Saturday\, December 20th🕧 3:30pm – 6:00pm \nGet ready for the coolest winter showdown of the season! Join us for a magical afternoon of skating\, winter fun\, and the ultimate Indoor Snowball Fight: Team Frosty vs. Team Olaf! The snowball battle erupts at the end of the session—choose your team\, grab your soft snowballs\, and let the frosty fun fly! \nAdmission: $12Skate Rental: $5Spectators: $4 \nThis family-friendly event brings winter to the rink with laughs\, teamwork\, and snowy excitement—without the cold! Whether you’re skating for Frosty or cheering loud for Team Olaf\, it’s guaranteed to be a festive winter win. \n📍 Skateland Chandler1101 W Ray Road\, Chandler\, AZ 85224📞 480-917-9444🌐 www.SkatelandChandler.com \n⚠ Important Event Info: \n\n\nAll guests must wear wristguards while skating\, regardless of ability. \n\n\nAll guests entering the building (skating or non-skating) must have a completed liability waiver within 24 hours of the event. \n\n\nAll guests ages 3–17 pay full admission\, skating or non-skating. \n\n\n✨ Pick your team. Ready your snowballs. Let the winter battle begin!
URL:https://www.unitedskates.com/skateland-chandler/event/%f0%9f%8e%89-public-skate-every-saturday-at-skateland-chandler-%f0%9f%8e%89-2025-05-24-2025-12-20/
LOCATION:Skateland Chandler\, 1101 W. Ray Rd.\, Chandler\, AZ\, 85224\, United States
CATEGORIES:Family Events,Public Skates,Special Events
ATTACH;FMTTYPE=image/png:https://unitedskates-assets.sfo3.digitaloceanspaces.com/wp-content/uploads/sites/19/2024/11/Frosty-vs-Olaf-Indoor-Snowball-Fight.png
END:VEVENT
BEGIN:VEVENT
DTSTART;TZID=America/Phoenix:20251220T183000
DTEND;TZID=America/Phoenix:20251220T210000
DTSTAMP:20260419T122329
CREATED:20250521T001424Z
LAST-MODIFIED:20251124T230122Z
UID:15609-1766255400-1766264400@www.unitedskates.com
SUMMARY:❄️✨☃️ Frosty vs. Olaf Glow Skate & Indoor Snowball Fight
DESCRIPTION:❄️✨☃️ Frosty vs. Olaf Glow Skate & Indoor Snowball Fight at Skateland Chandler! ☃️✨❄️📅 Saturday\, December 20th🕧 6:30pm – 9:00pm \nGet ready for the coolest and brightest winter showdown of the season! Join us for a glowing afternoon of skating\, holiday fun\, and the ultimate Indoor Snowball Fight: Team Frosty vs. Team Olaf! After the glow-filled skate session\, the battle begins—choose your team\, grab your soft snowballs\, and let the frosty fun fly! \nAdmission: $14Skate Rental: $5Spectators: $4 \nThis family-friendly Glow Skate brings winter magic to the rink with neon lights\, snowy excitement\, and tons of laughs. Whether you’re glowing for Frosty or lighting up the rink for Team Olaf\, it’s guaranteed to be a festive winter win. \n📍 Skateland Chandler1101 W Ray Road\, Chandler\, AZ 85224📞 480-917-9444🌐 www.SkatelandChandler.com \n⚠ Important Event Info: \n\n\nAll guests must wear wristguards while skating\, regardless of ability. \n\n\nAll guests entering the building (skating or non-skating) must have a completed liability waiver within 24 hours of the event. \n\n\nAll guests ages 3–17 pay full admission\, skating or non-skating. \n\n\n✨ Gear up. Glow bright. Let the snowball battle begin!
URL:https://www.unitedskates.com/skateland-chandler/event/%f0%9f%8e%89-family-neon-glow-skate-%f0%9f%8e%89-2025-12-20/
LOCATION:Skateland Chandler\, 1101 W. Ray Rd.\, Chandler\, AZ\, 85224\, United States
CATEGORIES:Family Events,Public Skates,Special Events
ATTACH;FMTTYPE=image/png:https://unitedskates-assets.sfo3.digitaloceanspaces.com/wp-content/uploads/sites/19/2024/11/Frosty-vs-Olaf-Indoor-Snowball-Fight.png
END:VEVENT
END:VCALENDAR