BEGIN:VCALENDAR
VERSION:2.0
PRODID:-//Rink 52 - Skateland Chandler - ECPv6.15.20//NONSGML v1.0//EN
CALSCALE:GREGORIAN
METHOD:PUBLISH
X-WR-CALNAME:Rink 52 - Skateland Chandler
X-ORIGINAL-URL:https://www.unitedskates.com/skateland-chandler
X-WR-CALDESC:Events for Rink 52 - Skateland Chandler
REFRESH-INTERVAL;VALUE=DURATION:PT1H
X-Robots-Tag:noindex
X-PUBLISHED-TTL:PT1H
BEGIN:VTIMEZONE
TZID:America/Phoenix
BEGIN:STANDARD
TZOFFSETFROM:-0700
TZOFFSETTO:-0700
TZNAME:MST
DTSTART:20240101T000000
END:STANDARD
END:VTIMEZONE
BEGIN:VEVENT
DTSTART;TZID=America/Phoenix:20251207T123000
DTEND;TZID=America/Phoenix:20251207T150000
DTSTAMP:20260419T122327
CREATED:20250126T150331Z
LAST-MODIFIED:20251125T204858Z
UID:14594-1765110600-1765119600@www.unitedskates.com
SUMMARY:Sunday Skate Party at Skateland Chandler! ✨
DESCRIPTION:Sunday Skate Party at Skateland Chandler! ✨ \nJoin us for a fun-filled Sunday afternoon at Skateland Chandler from   12:30 PM – 3:00 PM! Get your skates on and groove to the best Top 40 hits. Perfect for friends\, family\, and anyone looking to enjoy a great time on wheels! \n📍 Location: 1101 West Ray Blvd\, Chandler\, AZ 85224\n📞 Contact: 480-917-9444\n🎉 Admission: $11 Online/ $12.00 in Person\n🛼 Skate Rental: $5\nBring your own skates or rent ours! \n✨ Birthday Parties Available! ✨\nCelebrate your special day with us — let us make it unforgettable! \nImportant Info: \n\nChildren (ages 3-17) must pay admission and skate rental (or bring their own skates).\nNon-skating adults (spectators) are $4.\nAll Guests are required to sign a waiver\, available at skatelandchandler.com.\n\nAll prices exclude tax. \nCome have fun\, skate\, and make memories at Skateland Chandler!
URL:https://www.unitedskates.com/skateland-chandler/event/sunday-skate-party-at-skateland-chandler-%e2%9c%a8-2025-05-25/2025-12-07/
LOCATION:Skateland Chandler\, 1101 W. Ray Rd.\, Chandler\, AZ\, 85224\, United States
CATEGORIES:Family Events,Public Skates
ATTACH;FMTTYPE=image/jpeg:https://unitedskates-assets.sfo3.digitaloceanspaces.com/wp-content/uploads/sites/19/2022/11/Public-Skate-1200x900-v2.jpg
END:VEVENT
BEGIN:VEVENT
DTSTART;TZID=America/Phoenix:20251207T153000
DTEND;TZID=America/Phoenix:20251207T180000
DTSTAMP:20260419T122327
CREATED:20241211T223756Z
LAST-MODIFIED:20251120T000038Z
UID:14636-1765121400-1765130400@www.unitedskates.com
SUMMARY:🤣 67 SKATE🛼
DESCRIPTION:🛼🤣 67 SKATE is HERE and more chaotic than ever! 🤣🛼 \nGet ready for the wildest\, meme-filled skate session of the year! \n🗓 December 6 & 7 ⏰ 3:30–6:00pm\n💲 $6.70 Admission for the first 67 guests!\n🎟️Regular Admission $12\n🕒 Time: 3:30 PM – 6:00 PM\n💰 Admission: $11 Online/ $12 in Person\n🛼 Skate Rental: $5 \n*all prices exclude tax \nJoin us for Roblox vibes\, unhinged memes\, silly characters\, games\, café specials\, and all the chronically-online energy your heart desires.\nBring your friends… or your favorite meme. We won’t judge. 👀✨\nLet’s roll\, laugh\, and get weird! 🛼🔥 \n🎂 Birthday Parties Available!\n📞 Contact Us: (480) 917-9444 for reservations and group rates. \nImportant Info: \n\nAll children (ages 3-17) must pay admission & skate rental (or bring their own skates).\nNon-skating adults: $4.00\nAll Guests are required to sign a liability waiver the day of skating.\nAll Guests are required to wear wrist guards.\n\n✨ Private parties available by reservation only! \n👉 Visit us online: www.skatelandchandler.com \nSee you on the rink! 🛼
URL:https://www.unitedskates.com/skateland-chandler/event/%e2%9c%a8-sunday-fun-day-skate-party-at-skateland-chandler-%e2%9c%a8-2025-05-25-2025-12-07/
LOCATION:Skateland Chandler\, 1101 W. Ray Rd.\, Chandler\, AZ\, 85224\, United States
CATEGORIES:Family Events,Public Skates,Special Events
ATTACH;FMTTYPE=image/jpeg:https://unitedskates-assets.sfo3.digitaloceanspaces.com/wp-content/uploads/sites/19/2022/11/Public-Skate-1200x900-v2.jpg
END:VEVENT
END:VCALENDAR