BEGIN:VCALENDAR
VERSION:2.0
PRODID:-//Rink 52 - Skateland Chandler - ECPv6.15.20//NONSGML v1.0//EN
CALSCALE:GREGORIAN
METHOD:PUBLISH
X-ORIGINAL-URL:https://www.unitedskates.com/skateland-chandler
X-WR-CALDESC:Events for Rink 52 - Skateland Chandler
REFRESH-INTERVAL;VALUE=DURATION:PT1H
X-Robots-Tag:noindex
X-PUBLISHED-TTL:PT1H
BEGIN:VTIMEZONE
TZID:America/Phoenix
BEGIN:STANDARD
TZOFFSETFROM:-0700
TZOFFSETTO:-0700
TZNAME:MST
DTSTART:20240101T000000
END:STANDARD
END:VTIMEZONE
BEGIN:VEVENT
DTSTART;TZID=America/Phoenix:20251126T080000
DTEND;TZID=America/Phoenix:20251130T210000
DTSTAMP:20260419T141038
CREATED:20251015T141322Z
LAST-MODIFIED:20251015T141322Z
UID:15467-1764144000-1764536400@www.unitedskates.com
SUMMARY:🦃 Thanksgiving Break Skating Fun at Skateland Chandler! 🍂
DESCRIPTION:School’s out — let the Thanksgiving fun begin at Skateland Chandler! From Wednesday\, November 26th through Sunday\, November 30th\, we’re rolling into the holidays with themed skate sessions for everyone. \nEnjoy family favorites like K-Pop Demon Hunters Glow Skate\, Stitch Free Dinner Night\, Grinch Little Rollers\, Pop Diva Glow Skate\, and even Black Friday Skate Specials! \n✨ Don’t miss your chance to skate\, play\, and make memories with friends and family this Thanksgiving break.🍕 Plus\, grab our Meal Deal — a whole pizza and pitcher of soda for just $28! \n🛼 Address: 1101 W. Ray Rd\, Chandler\, AZ 85224📞 Call: 480-917-9444
URL:https://www.unitedskates.com/skateland-chandler/event/%f0%9f%a6%83-thanksgiving-break-skating-fun-at-skateland-chandler-%f0%9f%8d%82/
LOCATION:Skateland Chandler\, 1101 W. Ray Rd.\, Chandler\, AZ\, 85224\, United States
CATEGORIES:Family Events,Public Skates,Special Events
ATTACH;FMTTYPE=image/jpeg:https://unitedskates-assets.sfo3.digitaloceanspaces.com/wp-content/uploads/sites/19/2025/10/52-Thanksgiving-Break-Roller-Skate-2025-8.5-x-11-in.jpg
END:VEVENT
BEGIN:VEVENT
DTSTART;TZID=America/Phoenix:20251129T090000
DTEND;TZID=America/Phoenix:20251129T100000
DTSTAMP:20260419T141038
CREATED:20241108T165354Z
LAST-MODIFIED:20251125T203841Z
UID:12137-1764406800-1764410400@www.unitedskates.com
SUMMARY:Learn to Skate Every Saturday Morning!
DESCRIPTION:Skateland Chandler Presents… Learn to Skate Every Saturday Morning!\n\n\n\n\n\n\n\n\n\n\n⏰ When: Every Saturday\n🕘 Time: 9:00am-10:00am (Doors open at 8:45am\, and will close at 9:00am sharp!)\n📍 Where: Skateland Chandler | 1101 W Ray Rd\, Chandler\, AZ 85224 \nReady to roll? 🛼 Whether you’re a beginner or just looking to brush up on your skills\, our Saturday morning skate classes are perfect for all ages! Kids (4 & up) and adults of all ages are welcome to join us for a fun and interactive lesson. Our family of skaters is here to support you every step of the way! \nOnly $20 per person!\nIncludes: \n\nSkate Lesson 🏆\nAdmission 🎟️\nSkate Rental 🛹\nFisher Price Skates Available for the little ones!\nFREE Wrist Guards for extra safety 💪\n\nStop by our lobby for more details or to gear up for your class! \nCome skate with us this Saturday — we can’t wait to meet you! \n📞 Call 480-917-9444 or visit SkatelandChandler.com for more info.
URL:https://www.unitedskates.com/skateland-chandler/event/learn-to-skate-every-saturday-morning-2025-05-24/2025-11-29/
LOCATION:Skateland Chandler\, 1101 W. Ray Rd.\, Chandler\, AZ\, 85224\, United States
CATEGORIES:Adult Events,Family Events,Lessons,Public Skates
ATTACH;FMTTYPE=image/png:https://unitedskates-assets.sfo3.digitaloceanspaces.com/wp-content/uploads/sites/19/2024/11/Screenshot-2024-11-08-094601.png
END:VEVENT
BEGIN:VEVENT
DTSTART;TZID=America/Phoenix:20251129T100000
DTEND;TZID=America/Phoenix:20251129T120000
DTSTAMP:20260419T141038
CREATED:20231229T202354Z
LAST-MODIFIED:20251009T010057Z
UID:14012-1764410400-1764417600@www.unitedskates.com
SUMMARY:💚🎄 Grinch Glow Saturday at Skateland Chandler! 🎄💚
DESCRIPTION:💚🎄 Grinch Glow Saturday at Skateland Chandler! 🎄💚📅 Saturday\, November 29th\, 2025 \nKick off your Thanksgiving Break with a Mega Glow Saturday full of lights\, laughter\, and holiday mischief — starring The Grinch himself! Skate to great music\, join in the glow-filled fun\, and light up the rink all day long. Don’t forget to add a Glow Bag for just $5 to complete your glowing look! \n⏰ Session Times & Admission: \n\n\n10:00am – 12:00pm – $11 online / $12 in person \n\n\n12:30pm – 3:00pm – $11 online / $12 in person \n\n\n3:30pm – 6:00pm – $11 online / $12 in person \n\n\n6:30pm – 9:00pm – $13 online / $14 in person \n\n\nAdditional Pricing: \n\n\nSkate Rental: $5.00 \n\n\nNon-Skating Parents: $4.00 \n\n\nSkate Mates: $6.00 \n\n\n📍 Skateland Chandler1101 W Ray Road\, Chandler\, AZ 85224📞 480-917-9444🌐 www.skatelandchandler.com \n⚠ Important Event Info: \n\n\nAll guests must wear wristguards while skating\, regardless of ability. \n\n\nAll guests entering the building (skating or non-skating) must have a completed liability waiver within 24 hours of the event. \n\n\nAll guests ages 3–17 pay full admission\, skating or non-skating. \n\n\n✨ Don’t miss this glow-tastic holiday celebration — join The Grinch for a day of festive fun\, glowing lights\, and holiday cheer that even he can’t resist!
URL:https://www.unitedskates.com/skateland-chandler/event/disney-hits-little-roller-skate-2025-11-29/
LOCATION:Skateland Chandler\, 1101 W. Ray Rd.\, Chandler\, AZ\, 85224\, United States
CATEGORIES:Family Events,Public Skates,Special Events
ATTACH;FMTTYPE=image/png:https://unitedskates-assets.sfo3.digitaloceanspaces.com/wp-content/uploads/sites/19/2023/12/Screenshot-2025-10-08-164728.png
END:VEVENT
BEGIN:VEVENT
DTSTART;TZID=America/Phoenix:20251129T100000
DTEND;TZID=America/Phoenix:20251129T120000
DTSTAMP:20260419T141038
CREATED:20231229T202354Z
LAST-MODIFIED:20231229T202354Z
UID:15868-1764410400-1764417600@www.unitedskates.com
SUMMARY:Disney Hits Little Roller Skate
DESCRIPTION:Get ready for Tiny Tot Little Rollers\, the ultimate roller skating experience for kids ages 10 & under! 🎉 \n🌟 When? Every Saturday Morning\, 10:00 AM – 12:00 PM🎟️ Admission: $11.00 Online/ $12.00 in Person🛼 Skate Rental: $5.00👨‍👩‍👧 Non-Skating Parents: $4.00 \n👶 Perfect for beginners! Skatemates are available for $6.00 to help little ones get rolling with confidence. \n🎵 Dance & Skate! Enjoy a playlist packed with Disney hits\, Kidz Bop\, and the best pop music all session long! \n✨ Bonus Fun! A special character guest makes an appearance each week to add to the excitement! \nDon’t miss out on this fun-filled Saturday tradition—bring your little skaters and make unforgettable memories! 🚀💖
URL:https://www.unitedskates.com/skateland-chandler/event/disney-hits-little-roller-skate-2025-05-24/2025-11-29/
LOCATION:Skateland Chandler\, 1101 W. Ray Rd.\, Chandler\, AZ\, 85224\, United States
CATEGORIES:Family Events,Public Skates
ATTACH;FMTTYPE=image/png:https://unitedskates-assets.sfo3.digitaloceanspaces.com/wp-content/uploads/sites/19/2023/12/Little-Roller.png
END:VEVENT
BEGIN:VEVENT
DTSTART;TZID=America/Phoenix:20251129T123000
DTEND;TZID=America/Phoenix:20251129T150000
DTSTAMP:20260419T141038
CREATED:20241102T005555Z
LAST-MODIFIED:20251009T010346Z
UID:14488-1764419400-1764428400@www.unitedskates.com
SUMMARY:💚🎄 Grinch Glow Saturday at Skateland Chandler! 🎄💚
DESCRIPTION:💚🎄 Grinch Glow Saturday at Skateland Chandler! 🎄💚📅 Saturday\, November 29th\, 2025 \nKick off your Thanksgiving Break with a Mega Glow Saturday full of lights\, laughter\, and holiday mischief — starring The Grinch himself! Skate to great music\, join in the glow-filled fun\, and light up the rink all day long. Don’t forget to add a Glow Bag for just $5 to complete your glowing look! \n⏰ Session Times & Admission: \n\n\n10:00am – 12:00pm – $11 online / $12 in person \n\n\n12:30pm – 3:00pm – $11 online / $12 in person \n\n\n3:30pm – 6:00pm – $11 online / $12 in person \n\n\n6:30pm – 9:00pm – $13 online / $14 in person \n\n\nAdditional Pricing: \n\n\nSkate Rental: $5.00 \n\n\nNon-Skating Parents: $4.00 \n\n\nSkate Mates: $6.00 \n\n\n📍 Skateland Chandler1101 W Ray Road\, Chandler\, AZ 85224📞 480-917-9444🌐 www.skatelandchandler.com \n⚠ Important Event Info: \n\n\nAll guests must wear wristguards while skating\, regardless of ability. \n\n\nAll guests entering the building (skating or non-skating) must have a completed liability waiver within 24 hours of the event. \n\n\nAll guests ages 3–17 pay full admission\, skating or non-skating. \n\n\n✨ Don’t miss this glow-tastic holiday celebration — join The Grinch for a day of festive fun\, glowing lights\, and holiday cheer that even he can’t resist!
URL:https://www.unitedskates.com/skateland-chandler/event/%f0%9f%8e%89-public-skate-at-skateland-chandler-%f0%9f%9b%bc-2025-05-24-2025-11-29/
LOCATION:Skateland Chandler\, 1101 W. Ray Rd.\, Chandler\, AZ\, 85224\, United States
CATEGORIES:Family Events,Public Skates,Special Events
ATTACH;FMTTYPE=image/png:https://unitedskates-assets.sfo3.digitaloceanspaces.com/wp-content/uploads/sites/19/2023/12/Screenshot-2025-10-08-164728.png
END:VEVENT
BEGIN:VEVENT
DTSTART;TZID=America/Phoenix:20251129T153000
DTEND;TZID=America/Phoenix:20251129T180000
DTSTAMP:20260419T141038
CREATED:20241125T172303Z
LAST-MODIFIED:20251009T010503Z
UID:14542-1764430200-1764439200@www.unitedskates.com
SUMMARY:💚🎄 Grinch Glow Saturday at Skateland Chandler! 🎄💚
DESCRIPTION:💚🎄 Grinch Glow Saturday at Skateland Chandler! 🎄💚📅 Saturday\, November 29th\, 2025 \nKick off your Thanksgiving Break with a Mega Glow Saturday full of lights\, laughter\, and holiday mischief — starring The Grinch himself! Skate to great music\, join in the glow-filled fun\, and light up the rink all day long. Don’t forget to add a Glow Bag for just $5 to complete your glowing look! \n⏰ Session Times & Admission: \n\n\n10:00am – 12:00pm – $11 online / $12 in person \n\n\n12:30pm – 3:00pm – $11 online / $12 in person \n\n\n3:30pm – 6:00pm – $11 online / $12 in person \n\n\n6:30pm – 9:00pm – $13 online / $14 in person \n\n\nAdditional Pricing: \n\n\nSkate Rental: $5.00 \n\n\nNon-Skating Parents: $4.00 \n\n\nSkate Mates: $6.00 \n\n\n📍 Skateland Chandler1101 W Ray Road\, Chandler\, AZ 85224📞 480-917-9444🌐 www.skatelandchandler.com \n⚠ Important Event Info: \n\n\nAll guests must wear wristguards while skating\, regardless of ability. \n\n\nAll guests entering the building (skating or non-skating) must have a completed liability waiver within 24 hours of the event. \n\n\nAll guests ages 3–17 pay full admission\, skating or non-skating. \n\n\n✨ Don’t miss this glow-tastic holiday celebration — join The Grinch for a day of festive fun\, glowing lights\, and holiday cheer that even he can’t resist!
URL:https://www.unitedskates.com/skateland-chandler/event/%f0%9f%8e%89-public-skate-every-saturday-at-skateland-chandler-%f0%9f%8e%89-2025-05-24-2025-11-29/
LOCATION:Skateland Chandler\, 1101 W. Ray Rd.\, Chandler\, AZ\, 85224\, United States
CATEGORIES:Family Events,Public Skates,Special Events
ATTACH;FMTTYPE=image/png:https://unitedskates-assets.sfo3.digitaloceanspaces.com/wp-content/uploads/sites/19/2023/12/Screenshot-2025-10-08-164728.png
END:VEVENT
BEGIN:VEVENT
DTSTART;TZID=America/Phoenix:20251129T183000
DTEND;TZID=America/Phoenix:20251129T210000
DTSTAMP:20260419T141038
CREATED:20250521T001424Z
LAST-MODIFIED:20251009T010628Z
UID:14398-1764441000-1764450000@www.unitedskates.com
SUMMARY:💚🎄 Grinch Glow Saturday at Skateland Chandler! 🎄💚
DESCRIPTION:💚🎄 Grinch Glow Saturday at Skateland Chandler! 🎄💚📅 Saturday\, November 29th\, 2025 \nKick off your Thanksgiving Break with a Mega Glow Saturday full of lights\, laughter\, and holiday mischief — starring The Grinch himself! Skate to great music\, join in the glow-filled fun\, and light up the rink all day long. Don’t forget to add a Glow Bag for just $5 to complete your glowing look! \n⏰ Session Times & Admission: \n\n\n10:00am – 12:00pm – $11 online / $12 in person \n\n\n12:30pm – 3:00pm – $11 online / $12 in person \n\n\n3:30pm – 6:00pm – $11 online / $12 in person \n\n\n6:30pm – 9:00pm – $13 online / $14 in person \n\n\nAdditional Pricing: \n\n\nSkate Rental: $5.00 \n\n\nNon-Skating Parents: $4.00 \n\n\nSkate Mates: $6.00 \n\n\n📍 Skateland Chandler1101 W Ray Road\, Chandler\, AZ 85224📞 480-917-9444🌐 www.skatelandchandler.com \n⚠ Important Event Info: \n\n\nAll guests must wear wristguards while skating\, regardless of ability. \n\n\nAll guests entering the building (skating or non-skating) must have a completed liability waiver within 24 hours of the event. \n\n\nAll guests ages 3–17 pay full admission\, skating or non-skating. \n\n\n✨ Don’t miss this glow-tastic holiday celebration — join The Grinch for a day of festive fun\, glowing lights\, and holiday cheer that even he can’t resist!
URL:https://www.unitedskates.com/skateland-chandler/event/%f0%9f%8e%89-family-neon-glow-skate-%f0%9f%8e%89-2025-11-29/
LOCATION:Skateland Chandler\, 1101 W. Ray Rd.\, Chandler\, AZ\, 85224\, United States
CATEGORIES:Family Events,Public Skates,Special Events
ATTACH;FMTTYPE=image/png:https://unitedskates-assets.sfo3.digitaloceanspaces.com/wp-content/uploads/sites/19/2023/12/Screenshot-2025-10-08-164728.png
END:VEVENT
END:VCALENDAR