BEGIN:VCALENDAR
VERSION:2.0
PRODID:-//Rink 52 - Skateland Chandler - ECPv6.15.20//NONSGML v1.0//EN
CALSCALE:GREGORIAN
METHOD:PUBLISH
X-ORIGINAL-URL:https://www.unitedskates.com/skateland-chandler
X-WR-CALDESC:Events for Rink 52 - Skateland Chandler
REFRESH-INTERVAL;VALUE=DURATION:PT1H
X-Robots-Tag:noindex
X-PUBLISHED-TTL:PT1H
BEGIN:VTIMEZONE
TZID:America/Phoenix
BEGIN:STANDARD
TZOFFSETFROM:-0700
TZOFFSETTO:-0700
TZNAME:MST
DTSTART:20240101T000000
END:STANDARD
END:VTIMEZONE
BEGIN:VEVENT
DTSTART;TZID=America/Phoenix:20251113T173000
DTEND;TZID=America/Phoenix:20251113T200000
DTSTAMP:20260420T001355
CREATED:20251020T213558Z
LAST-MODIFIED:20251020T213558Z
UID:15474-1763055000-1763064000@www.unitedskates.com
SUMMARY:The Grinch’s Indoor Snowball Fight
DESCRIPTION:Get ready for a holly-jolly showdown — The Grinch’s Indoor Snowball Fight is taking over Skateland Chandler! \n🎄 Thursday\, November 13th🕔 5:30pm – 8:00pm💵 Admission: $12.00👀 Spectator Fee: $5.00🛼 Skate Rental: $5.00 \nYour favorite holiday troublemaker is crashing the rink — and you’re invited to join the fun! Cap off the night with an epic Indoor Snowball Fight from 7:30pm–8:00pm\, where the Grinch may just steal the show (and the snowballs)! \nPerfect for families\, kids\, and anyone ready to kick off the holiday season with laughter\, skating\, and a little holiday mischief. \n🎉 Birthday Parties Available — Book Now! \n📍 1101 W Ray Rd\, Chandler\, AZ 85224📞 480-917-9444 • www.SkatelandChandler.com \n\nAdditional Information (Please Read Before Attending)\n✅ All guests must wear wristguards\, regardless of skating ability.✅ All guests entering the building — skating OR non-skating — must have a completed liability waiver within 24 hours of the event.✅ All guests ages 3–17\, skating or non-skating\, pay full admission. \n\nIt’s festive\, it’s frosty\, and it’s wildly fun — don’t let the Grinch steal your spot! ❄️💚
URL:https://www.unitedskates.com/skateland-chandler/event/the-grinchs-indoor-snowball-fight/
LOCATION:Skateland Chandler\, 1101 W. Ray Rd.\, Chandler\, AZ\, 85224\, United States
CATEGORIES:Family Events,Public Skates
ATTACH;FMTTYPE=image/png:https://unitedskates-assets.sfo3.digitaloceanspaces.com/wp-content/uploads/sites/19/2025/10/Screenshot-2025-10-20-143301.png
END:VEVENT
END:VCALENDAR