BEGIN:VCALENDAR
VERSION:2.0
PRODID:-//Rink 52 - Skateland Chandler - ECPv6.15.20//NONSGML v1.0//EN
CALSCALE:GREGORIAN
METHOD:PUBLISH
X-WR-CALNAME:Rink 52 - Skateland Chandler
X-ORIGINAL-URL:https://www.unitedskates.com/skateland-chandler
X-WR-CALDESC:Events for Rink 52 - Skateland Chandler
REFRESH-INTERVAL;VALUE=DURATION:PT1H
X-Robots-Tag:noindex
X-PUBLISHED-TTL:PT1H
BEGIN:VTIMEZONE
TZID:America/Phoenix
BEGIN:STANDARD
TZOFFSETFROM:-0700
TZOFFSETTO:-0700
TZNAME:MST
DTSTART:20240101T000000
END:STANDARD
END:VTIMEZONE
BEGIN:VEVENT
DTSTART;TZID=America/Phoenix:20251111T113000
DTEND;TZID=America/Phoenix:20251111T153000
DTSTAMP:20260420T033517
CREATED:20250930T230642Z
LAST-MODIFIED:20250930T230642Z
UID:15368-1762860600-1762875000@www.unitedskates.com
SUMMARY:🦸‍♂️Superhero Veterans Day Weekend🦸‍♀️
DESCRIPTION:🦸‍♂️ Superhero Veterans Day Weekend 🦸‍♀️\nSkateland Chandler • Friday\, Nov 7 – Tuesday\, Nov 11 \n✨ Grab your capes and masks — it’s time to skate\, play\, and celebrate Veterans Day Weekend with SUPERHERO fun for the whole family! \n💲 Extras: Skate Rental $5 | Adult Spectators $4 | Skate Mates $6 \n\nFRIDAY\, Nov 7\n🌟 Superhero Glow Skate6:00–9:00pm • $14 in person / $13 online \n\nSATURDAY\, Nov 8\n🛼 Skate School — 9:00–10:00am • $20🦸 Superhero Kids Fun Skate — 10:00am–12:00pm • $12 in person / $11 online🦸 Superhero Saturday — 12:30–3:00pm • $12 in person / $11 online🦸 Superhero Saturday — 3:30–6:00pm • $12 in person / $11 online🌟 Superhero Glow Skate — 6:30–9:00pm • $14 in person / $13 online \n\nSUNDAY\, Nov 9\n🦸 Superhero Sunday — 12:30–3:00pm • $12 in person / $11 online🌟 Superhero Sunday Glow Skate — 3:30–6:00pm • $12 in person / $11 online \n\nMONDAY\, Nov 10\n🎶 K-Pop Demon Hunters Affordable Family Night5:30–8:00pm • $7 \n\nTUESDAY\, Nov 11 — VETERANS DAY\n🎉 School’s Out Skate — 11:30am–3:30pm • $12🌟 School’s Out ½-Priced Glow Skate — 4:00–7:00pm • $6🎧 Adult Night — 8:00–11:00pm • $14 \nSpecial Veterans Day Offer:Service members show military ID for FREE Admission (Tuesday only). \n\n🍕 Meal Deal Special — $28Includes a Large 1-Topping Pizza + Pitcher of Soda — perfect for your superhero squad! \n\n⚡ Important Info\n✅ Wristguards are required for all skaters\, regardless of ability.✅ All guests (skating or non-skating) must have a completed liability waiver within 24 hours of the event. \n📍 Skateland Chandler – 1101 W Ray Rd\, Chandler\, AZ 85224📞 480-917-9444 • 🌐 www.skatelandchandler.com
URL:https://www.unitedskates.com/skateland-chandler/event/%f0%9f%a6%b8%e2%99%82%ef%b8%8fsuperhero-veterans-day-weekend%f0%9f%a6%b8%e2%99%80%ef%b8%8f/
LOCATION:Skateland Chandler\, 1101 W. Ray Rd.\, Chandler\, AZ\, 85224\, United States
CATEGORIES:Family Events,Public Skates
ATTACH;FMTTYPE=image/png:https://unitedskates-assets.sfo3.digitaloceanspaces.com/wp-content/uploads/sites/19/2025/09/Screenshot-2025-09-30-154653.png
END:VEVENT
BEGIN:VEVENT
DTSTART;TZID=America/Phoenix:20251111T160000
DTEND;TZID=America/Phoenix:20251111T190000
DTSTAMP:20260420T033517
CREATED:20250930T230642Z
LAST-MODIFIED:20250930T230642Z
UID:15370-1762876800-1762887600@www.unitedskates.com
SUMMARY:🦸‍♂️Superhero Veterans Day Weekend🦸‍♀️
DESCRIPTION:🦸‍♂️ Superhero Veterans Day Weekend 🦸‍♀️\nSkateland Chandler • Friday\, Nov 7 – Tuesday\, Nov 11 \n✨ Grab your capes and masks — it’s time to skate\, play\, and celebrate Veterans Day Weekend with SUPERHERO fun for the whole family! \n💲 Extras: Skate Rental $5 | Adult Spectators $4 | Skate Mates $6 \n\nFRIDAY\, Nov 7\n🌟 Superhero Glow Skate6:00–9:00pm • $14 in person / $13 online \n\nSATURDAY\, Nov 8\n🛼 Skate School — 9:00–10:00am • $20🦸 Superhero Kids Fun Skate — 10:00am–12:00pm • $12 in person / $11 online🦸 Superhero Saturday — 12:30–3:00pm • $12 in person / $11 online🦸 Superhero Saturday — 3:30–6:00pm • $12 in person / $11 online🌟 Superhero Glow Skate — 6:30–9:00pm • $14 in person / $13 online \n\nSUNDAY\, Nov 9\n🦸 Superhero Sunday — 12:30–3:00pm • $12 in person / $11 online🌟 Superhero Sunday Glow Skate — 3:30–6:00pm • $12 in person / $11 online \n\nMONDAY\, Nov 10\n🎶 K-Pop Demon Hunters Affordable Family Night5:30–8:00pm • $7 \n\nTUESDAY\, Nov 11 — VETERANS DAY\n🎉 School’s Out Skate — 11:30am–3:30pm • $12🌟 School’s Out ½-Priced Glow Skate — 4:00–7:00pm • $6🎧 Adult Night — 8:00–11:00pm • $14 \nSpecial Veterans Day Offer:Service members show military ID for FREE Admission (Tuesday only). \n\n🍕 Meal Deal Special — $28Includes a Large 1-Topping Pizza + Pitcher of Soda — perfect for your superhero squad! \n\n⚡ Important Info\n✅ Wristguards are required for all skaters\, regardless of ability.✅ All guests (skating or non-skating) must have a completed liability waiver within 24 hours of the event. \n📍 Skateland Chandler – 1101 W Ray Rd\, Chandler\, AZ 85224📞 480-917-9444 • 🌐 www.skatelandchandler.com
URL:https://www.unitedskates.com/skateland-chandler/event/%f0%9f%a6%b8%e2%99%82%ef%b8%8fsuperhero-veterans-day-weekend%f0%9f%a6%b8%e2%99%80%ef%b8%8f/2025-11-11/2/
LOCATION:Skateland Chandler\, 1101 W. Ray Rd.\, Chandler\, AZ\, 85224\, United States
CATEGORIES:Family Events,Public Skates
ATTACH;FMTTYPE=image/png:https://unitedskates-assets.sfo3.digitaloceanspaces.com/wp-content/uploads/sites/19/2025/09/Screenshot-2025-09-30-154653.png
END:VEVENT
END:VCALENDAR