BEGIN:VCALENDAR
VERSION:2.0
PRODID:-//Rink 52 - Skateland Chandler - ECPv6.15.20//NONSGML v1.0//EN
CALSCALE:GREGORIAN
METHOD:PUBLISH
X-ORIGINAL-URL:https://www.unitedskates.com/skateland-chandler
X-WR-CALDESC:Events for Rink 52 - Skateland Chandler
REFRESH-INTERVAL;VALUE=DURATION:PT1H
X-Robots-Tag:noindex
X-PUBLISHED-TTL:PT1H
BEGIN:VTIMEZONE
TZID:America/Phoenix
BEGIN:STANDARD
TZOFFSETFROM:-0700
TZOFFSETTO:-0700
TZNAME:MST
DTSTART:20240101T000000
END:STANDARD
END:VTIMEZONE
BEGIN:VEVENT
DTSTART;TZID=America/Phoenix:20251110T173000
DTEND;TZID=America/Phoenix:20251110T200000
DTSTAMP:20260420T001358
CREATED:20250712T232127Z
LAST-MODIFIED:20251021T004954Z
UID:15011-1762795800-1762804800@www.unitedskates.com
SUMMARY:K-Pop Affordable Family Night
DESCRIPTION:Get ready for a night of glowing fun\, fierce style\, and family excitement at USA’s Skateland Chandler! Join us on Monday\, November 10 for our K-Pop Affordable Family Night — where the music\, lights\, and energy are just as electric as your favorite K-Pop stars! \n🕠 Time: 5:30pm – 8:00pm\n💲 Admission: $7\n👀 Spectator Fee: $4.00\n🛼 Skate Rental: $5.00 \nBring the whole family out for an evening full of skating\, music\, and vibrant K-Pop vibes! Show off your fandom and Dress to Play and Slay in your best K-Pop or Anime Cosplay — we’ll be holding a Cosplay Contest where creativity and flair take center stage! \nWith dazzling lights\, chart-topping K-Pop hits\, and a fun\, affordable price\, it’s the perfect way to roll into the week and make unforgettable memories with your family and friends. \n📍 Location:\nUSA’s Skateland Chandler\n1101 W Ray Rd\, Chandler\, AZ 85224\n📞 480-917-9444\n🌐 www.skatelandchandler.com \n\nAdditional Information:\n✅ All guests must wear wristguards\, regardless of skating ability.\n✅ All guests entering the building\, skating or non-skating\, must have a completed liability waiver within 24 hours of the event.\n✅ All guests ages 3–17\, skating or non-skating\, pay full admission. \n💫 Don’t miss your chance to skate\, shine\, and slay at our K-Pop Demon Hunters Affordable Family Night — only at Skateland Chandler!
URL:https://www.unitedskates.com/skateland-chandler/event/monday-affordable-family-fun-public-skating-2-2025-11-10/
LOCATION:Skateland Chandler\, 1101 W. Ray Rd.\, Chandler\, AZ\, 85224\, United States
CATEGORIES:Family Events,Public Skates,Special Events
ATTACH;FMTTYPE=image/png:https://unitedskates-assets.sfo3.digitaloceanspaces.com/wp-content/uploads/sites/19/2025/07/Screenshot-2025-10-20-174748.png
END:VEVENT
END:VCALENDAR