BEGIN:VCALENDAR
VERSION:2.0
PRODID:-//Rink 52 - Skateland Chandler - ECPv6.15.20//NONSGML v1.0//EN
CALSCALE:GREGORIAN
METHOD:PUBLISH
X-ORIGINAL-URL:https://www.unitedskates.com/skateland-chandler
X-WR-CALDESC:Events for Rink 52 - Skateland Chandler
REFRESH-INTERVAL;VALUE=DURATION:PT1H
X-Robots-Tag:noindex
X-PUBLISHED-TTL:PT1H
BEGIN:VTIMEZONE
TZID:America/Phoenix
BEGIN:STANDARD
TZOFFSETFROM:-0700
TZOFFSETTO:-0700
TZNAME:MST
DTSTART:20240101T000000
END:STANDARD
END:VTIMEZONE
BEGIN:VEVENT
DTSTART;TZID=America/Phoenix:20251108T090000
DTEND;TZID=America/Phoenix:20251108T100000
DTSTAMP:20260420T001321
CREATED:20241108T165354Z
LAST-MODIFIED:20251125T203840Z
UID:11715-1762592400-1762596000@www.unitedskates.com
SUMMARY:Learn to Skate Every Saturday Morning!
DESCRIPTION:Skateland Chandler Presents… Learn to Skate Every Saturday Morning!\n\n\n\n\n\n\n\n\n\n\n⏰ When: Every Saturday\n🕘 Time: 9:00am-10:00am (Doors open at 8:45am\, and will close at 9:00am sharp!)\n📍 Where: Skateland Chandler | 1101 W Ray Rd\, Chandler\, AZ 85224 \nReady to roll? 🛼 Whether you’re a beginner or just looking to brush up on your skills\, our Saturday morning skate classes are perfect for all ages! Kids (4 & up) and adults of all ages are welcome to join us for a fun and interactive lesson. Our family of skaters is here to support you every step of the way! \nOnly $20 per person!\nIncludes: \n\nSkate Lesson 🏆\nAdmission 🎟️\nSkate Rental 🛹\nFisher Price Skates Available for the little ones!\nFREE Wrist Guards for extra safety 💪\n\nStop by our lobby for more details or to gear up for your class! \nCome skate with us this Saturday — we can’t wait to meet you! \n📞 Call 480-917-9444 or visit SkatelandChandler.com for more info.
URL:https://www.unitedskates.com/skateland-chandler/event/learn-to-skate-every-saturday-morning-2025-05-24/2025-11-08/
LOCATION:Skateland Chandler\, 1101 W. Ray Rd.\, Chandler\, AZ\, 85224\, United States
CATEGORIES:Adult Events,Family Events,Lessons,Public Skates
ATTACH;FMTTYPE=image/png:https://unitedskates-assets.sfo3.digitaloceanspaces.com/wp-content/uploads/sites/19/2024/11/Screenshot-2024-11-08-094601.png
END:VEVENT
BEGIN:VEVENT
DTSTART;TZID=America/Phoenix:20251108T100000
DTEND;TZID=America/Phoenix:20251108T120000
DTSTAMP:20260420T001321
CREATED:20231229T202354Z
LAST-MODIFIED:20250930T231415Z
UID:14009-1762596000-1762603200@www.unitedskates.com
SUMMARY:🦸‍♂️Superhero Kids Fun Skate🦸‍♀️
DESCRIPTION:🦸‍♂️ Superhero Veterans Day Weekend 🦸‍♀️\nSkateland Chandler • Friday\, Nov 7 – Tuesday\, Nov 11 \n✨ Grab your capes and masks — it’s time to skate\, play\, and celebrate Veterans Day Weekend with SUPERHERO fun for the whole family! \n💲 Extras: Skate Rental $5 | Adult Spectators $4 | Skate Mates $6 \n\nFRIDAY\, Nov 7\n🌟 Superhero Glow Skate6:00–9:00pm • $14 in person / $13 online \n\nSATURDAY\, Nov 8\n🛼 Skate School — 9:00–10:00am • $20🦸 Superhero Kids Fun Skate — 10:00am–12:00pm • $12 in person / $11 online🦸 Superhero Saturday — 12:30–3:00pm • $12 in person / $11 online🦸 Superhero Saturday — 3:30–6:00pm • $12 in person / $11 online🌟 Superhero Glow Skate — 6:30–9:00pm • $14 in person / $13 online \n\nSUNDAY\, Nov 9\n🦸 Superhero Sunday — 12:30–3:00pm • $12 in person / $11 online🌟 Superhero Sunday Glow Skate — 3:30–6:00pm • $12 in person / $11 online \n\nMONDAY\, Nov 10\n🎶 K-Pop Demon Hunters Affordable Family Night5:30–8:00pm • $7 \n\nTUESDAY\, Nov 11 — VETERANS DAY\n🎉 School’s Out Skate — 11:30am–3:30pm • $12🌟 School’s Out ½-Priced Glow Skate — 4:00–7:00pm • $6🎧 Adult Night — 8:00–11:00pm • $14 \nSpecial Veterans Day Offer:Service members show military ID for FREE Admission (Tuesday only). \n\n🍕 Meal Deal Special — $28Includes a Large 1-Topping Pizza + Pitcher of Soda — perfect for your superhero squad! \n\n⚡ Important Info\n✅ Wristguards are required for all skaters\, regardless of ability.✅ All guests (skating or non-skating) must have a completed liability waiver within 24 hours of the event. \n📍 Skateland Chandler – 1101 W Ray Rd\, Chandler\, AZ 85224📞 480-917-9444 • 🌐 www.skatelandchandler.com \n💖
URL:https://www.unitedskates.com/skateland-chandler/event/disney-hits-little-roller-skate-2025-11-08/
LOCATION:Skateland Chandler\, 1101 W. Ray Rd.\, Chandler\, AZ\, 85224\, United States
CATEGORIES:Family Events,Public Skates
ATTACH;FMTTYPE=image/png:https://unitedskates-assets.sfo3.digitaloceanspaces.com/wp-content/uploads/sites/19/2025/09/Screenshot-2025-09-30-154653.png
END:VEVENT
BEGIN:VEVENT
DTSTART;TZID=America/Phoenix:20251108T100000
DTEND;TZID=America/Phoenix:20251108T120000
DTSTAMP:20260420T001321
CREATED:20231229T202354Z
LAST-MODIFIED:20231229T202354Z
UID:15867-1762596000-1762603200@www.unitedskates.com
SUMMARY:Disney Hits Little Roller Skate
DESCRIPTION:Get ready for Tiny Tot Little Rollers\, the ultimate roller skating experience for kids ages 10 & under! 🎉 \n🌟 When? Every Saturday Morning\, 10:00 AM – 12:00 PM🎟️ Admission: $11.00 Online/ $12.00 in Person🛼 Skate Rental: $5.00👨‍👩‍👧 Non-Skating Parents: $4.00 \n👶 Perfect for beginners! Skatemates are available for $6.00 to help little ones get rolling with confidence. \n🎵 Dance & Skate! Enjoy a playlist packed with Disney hits\, Kidz Bop\, and the best pop music all session long! \n✨ Bonus Fun! A special character guest makes an appearance each week to add to the excitement! \nDon’t miss out on this fun-filled Saturday tradition—bring your little skaters and make unforgettable memories! 🚀💖
URL:https://www.unitedskates.com/skateland-chandler/event/disney-hits-little-roller-skate-2025-05-24/2025-11-08/
LOCATION:Skateland Chandler\, 1101 W. Ray Rd.\, Chandler\, AZ\, 85224\, United States
CATEGORIES:Family Events,Public Skates
ATTACH;FMTTYPE=image/png:https://unitedskates-assets.sfo3.digitaloceanspaces.com/wp-content/uploads/sites/19/2023/12/Little-Roller.png
END:VEVENT
BEGIN:VEVENT
DTSTART;TZID=America/Phoenix:20251108T123000
DTEND;TZID=America/Phoenix:20251108T150000
DTSTAMP:20260420T001321
CREATED:20241102T005555Z
LAST-MODIFIED:20250930T231841Z
UID:14485-1762605000-1762614000@www.unitedskates.com
SUMMARY:🦸‍♂️Superhero Saturday🦸‍♀️
DESCRIPTION:🦸‍♂️ Superhero Veterans Day Weekend 🦸‍♀️\nSkateland Chandler • Friday\, Nov 7 – Tuesday\, Nov 11 \n✨ Grab your capes and masks — it’s time to skate\, play\, and celebrate Veterans Day Weekend with SUPERHERO fun for the whole family! \n💲 Extras: Skate Rental $5 | Adult Spectators $4 | Skate Mates $6 \n\nFRIDAY\, Nov 7\n🌟 Superhero Glow Skate6:00–9:00pm • $14 in person / $13 online \n\nSATURDAY\, Nov 8\n🛼 Skate School — 9:00–10:00am • $20🦸 Superhero Kids Fun Skate — 10:00am–12:00pm • $12 in person / $11 online🦸 Superhero Saturday — 12:30–3:00pm • $12 in person / $11 online🦸 Superhero Saturday — 3:30–6:00pm • $12 in person / $11 online🌟 Superhero Glow Skate — 6:30–9:00pm • $14 in person / $13 online \n\nSUNDAY\, Nov 9\n🦸 Superhero Sunday — 12:30–3:00pm • $12 in person / $11 online🌟 Superhero Sunday Glow Skate — 3:30–6:00pm • $12 in person / $11 online \n\nMONDAY\, Nov 10\n🎶 K-Pop Demon Hunters Affordable Family Night5:30–8:00pm • $7 \n\nTUESDAY\, Nov 11 — VETERANS DAY\n🎉 School’s Out Skate — 11:30am–3:30pm • $12🌟 School’s Out ½-Priced Glow Skate — 4:00–7:00pm • $6🎧 Adult Night — 8:00–11:00pm • $14 \nSpecial Veterans Day Offer:Service members show military ID for FREE Admission (Tuesday only). \n\n🍕 Meal Deal Special — $28Includes a Large 1-Topping Pizza + Pitcher of Soda — perfect for your superhero squad! \n\n⚡ Important Info\n✅ Wristguards are required for all skaters\, regardless of ability.✅ All guests (skating or non-skating) must have a completed liability waiver within 24 hours of the event. \n📍 Skateland Chandler – 1101 W Ray Rd\, Chandler\, AZ 85224📞 480-917-9444 • 🌐 www.skatelandchandler.com \n🎉
URL:https://www.unitedskates.com/skateland-chandler/event/%f0%9f%8e%89-public-skate-at-skateland-chandler-%f0%9f%9b%bc-2025-05-24-2025-11-08/
LOCATION:Skateland Chandler\, 1101 W. Ray Rd.\, Chandler\, AZ\, 85224\, United States
CATEGORIES:Family Events,Public Skates
ATTACH;FMTTYPE=image/png:https://unitedskates-assets.sfo3.digitaloceanspaces.com/wp-content/uploads/sites/19/2025/09/Screenshot-2025-09-30-154653.png
END:VEVENT
BEGIN:VEVENT
DTSTART;TZID=America/Phoenix:20251108T153000
DTEND;TZID=America/Phoenix:20251108T180000
DTSTAMP:20260420T001321
CREATED:20241125T172303Z
LAST-MODIFIED:20250930T231802Z
UID:14539-1762615800-1762624800@www.unitedskates.com
SUMMARY:🦸‍♂️Superhero Saturday🦸‍♀️
DESCRIPTION:🦸‍♂️ Superhero Veterans Day Weekend 🦸‍♀️\nSkateland Chandler • Friday\, Nov 7 – Tuesday\, Nov 11 \n✨ Grab your capes and masks — it’s time to skate\, play\, and celebrate Veterans Day Weekend with SUPERHERO fun for the whole family! \n💲 Extras: Skate Rental $5 | Adult Spectators $4 | Skate Mates $6 \n\nFRIDAY\, Nov 7\n🌟 Superhero Glow Skate6:00–9:00pm • $14 in person / $13 online \n\nSATURDAY\, Nov 8\n🛼 Skate School — 9:00–10:00am • $20🦸 Superhero Kids Fun Skate — 10:00am–12:00pm • $12 in person / $11 online🦸 Superhero Saturday — 12:30–3:00pm • $12 in person / $11 online🦸 Superhero Saturday — 3:30–6:00pm • $12 in person / $11 online🌟 Superhero Glow Skate — 6:30–9:00pm • $14 in person / $13 online \n\nSUNDAY\, Nov 9\n🦸 Superhero Sunday — 12:30–3:00pm • $12 in person / $11 online🌟 Superhero Sunday Glow Skate — 3:30–6:00pm • $12 in person / $11 online \n\nMONDAY\, Nov 10\n🎶 K-Pop Demon Hunters Affordable Family Night5:30–8:00pm • $7 \n\nTUESDAY\, Nov 11 — VETERANS DAY\n🎉 School’s Out Skate — 11:30am–3:30pm • $12🌟 School’s Out ½-Priced Glow Skate — 4:00–7:00pm • $6🎧 Adult Night — 8:00–11:00pm • $14 \nSpecial Veterans Day Offer:Service members show military ID for FREE Admission (Tuesday only). \n\n🍕 Meal Deal Special — $28Includes a Large 1-Topping Pizza + Pitcher of Soda — perfect for your superhero squad! \n\n⚡ Important Info\n✅ Wristguards are required for all skaters\, regardless of ability.✅ All guests (skating or non-skating) must have a completed liability waiver within 24 hours of the event. \n📍 Skateland Chandler – 1101 W Ray Rd\, Chandler\, AZ 85224📞 480-917-9444 • 🌐 www.skatelandchandler.com
URL:https://www.unitedskates.com/skateland-chandler/event/%f0%9f%8e%89-public-skate-every-saturday-at-skateland-chandler-%f0%9f%8e%89-2025-05-24-2025-11-08/
LOCATION:Skateland Chandler\, 1101 W. Ray Rd.\, Chandler\, AZ\, 85224\, United States
CATEGORIES:Family Events,Public Skates
ATTACH;FMTTYPE=image/png:https://unitedskates-assets.sfo3.digitaloceanspaces.com/wp-content/uploads/sites/19/2025/09/Screenshot-2025-09-30-154653.png
END:VEVENT
BEGIN:VEVENT
DTSTART;TZID=America/Phoenix:20251108T183000
DTEND;TZID=America/Phoenix:20251108T210000
DTSTAMP:20260420T001321
CREATED:20250521T001424Z
LAST-MODIFIED:20250930T232005Z
UID:14395-1762626600-1762635600@www.unitedskates.com
SUMMARY:🦸‍♂️Superhero Saturday Glow Skate🦸‍♀️
DESCRIPTION:🦸‍♂️ Superhero Veterans Day Weekend 🦸‍♀️\nSkateland Chandler • Friday\, Nov 7 – Tuesday\, Nov 11 \n✨ Grab your capes and masks — it’s time to skate\, play\, and celebrate Veterans Day Weekend with SUPERHERO fun for the whole family! \n💲 Extras: Skate Rental $5 | Adult Spectators $4 | Skate Mates $6 \n\nFRIDAY\, Nov 7\n🌟 Superhero Glow Skate6:00–9:00pm • $14 in person / $13 online \n\nSATURDAY\, Nov 8\n🛼 Skate School — 9:00–10:00am • $20🦸 Superhero Kids Fun Skate — 10:00am–12:00pm • $12 in person / $11 online🦸 Superhero Saturday — 12:30–3:00pm • $12 in person / $11 online🦸 Superhero Saturday — 3:30–6:00pm • $12 in person / $11 online🌟 Superhero Glow Skate — 6:30–9:00pm • $14 in person / $13 online \n\nSUNDAY\, Nov 9\n🦸 Superhero Sunday — 12:30–3:00pm • $12 in person / $11 online🌟 Superhero Sunday Glow Skate — 3:30–6:00pm • $12 in person / $11 online \n\nMONDAY\, Nov 10\n🎶 K-Pop Demon Hunters Affordable Family Night5:30–8:00pm • $7 \n\nTUESDAY\, Nov 11 — VETERANS DAY\n🎉 School’s Out Skate — 11:30am–3:30pm • $12🌟 School’s Out ½-Priced Glow Skate — 4:00–7:00pm • $6🎧 Adult Night — 8:00–11:00pm • $14 \nSpecial Veterans Day Offer:Service members show military ID for FREE Admission (Tuesday only). \n\n🍕 Meal Deal Special — $28Includes a Large 1-Topping Pizza + Pitcher of Soda — perfect for your superhero squad! \n\n⚡ Important Info\n✅ Wristguards are required for all skaters\, regardless of ability.✅ All guests (skating or non-skating) must have a completed liability waiver within 24 hours of the event. \n📍 Skateland Chandler – 1101 W Ray Rd\, Chandler\, AZ 85224📞 480-917-9444 • 🌐 www.skatelandchandler.com
URL:https://www.unitedskates.com/skateland-chandler/event/%f0%9f%8e%89-family-neon-glow-skate-%f0%9f%8e%89-2025-11-08/
LOCATION:Skateland Chandler\, 1101 W. Ray Rd.\, Chandler\, AZ\, 85224\, United States
CATEGORIES:Family Events,Public Skates
ATTACH;FMTTYPE=image/png:https://unitedskates-assets.sfo3.digitaloceanspaces.com/wp-content/uploads/sites/19/2025/09/Screenshot-2025-09-30-154653.png
END:VEVENT
BEGIN:VEVENT
DTSTART;TZID=America/Phoenix:20251108T183000
DTEND;TZID=America/Phoenix:20251108T210000
DTSTAMP:20260420T001321
CREATED:20250521T001424Z
LAST-MODIFIED:20250521T001424Z
UID:15603-1762626600-1762635600@www.unitedskates.com
SUMMARY:🎉 Family Neon Glow Skate 🎉
DESCRIPTION:🎉 Glow Skate at Skateland Chandler 🎉 \nGet ready to light up the night with our Glow Skate every Saturday from 6:30pm – 9pm! ✨🛼 \n🎶 Event Details: \n\nAdmission: $13.00 Online/ $14.00 in Person\nSkate Rental: $5\nSkate Mates: $6\nNon-Skating Adults: $4\n\n✨ Birthday Parties Available! ✨\nCelebrate your special day with us — let us make it unforgettable! \nImportant Info: \n\nChildren (ages 3-17): Must pay for admission and skate rental (or bring their own skates).\nNon-Skating Adults (spectators): $4\nAll guests are required to sign a liability waiver the day of skating (available at skatelandchandler.com)\nAll prices exclude tax.\nAll guests must wear wrist guards.\n\nCome have fun\, skate\, and make memories at Skateland Chandler — it’s the place to be for Girls Night Out\, 80’s Glow\, and family fun! 🌟 \n📍 Location: 1101 West Ray Road\, Chandler\, AZ 85224\n📞 Phone: 480-917-9444\n🌐 Website: Skateland Chandler \nThe FUN Starts Here — Don’t miss out! 😎🕺💃\n#GlowSkate #SkatelandChandler #SaturdayFun
URL:https://www.unitedskates.com/skateland-chandler/event/%f0%9f%8e%89-family-neon-glow-skate-%f0%9f%8e%89/2025-11-08/
LOCATION:Skateland Chandler\, 1101 W. Ray Rd.\, Chandler\, AZ\, 85224\, United States
CATEGORIES:Family Events,Public Skates,Special Events
ATTACH;FMTTYPE=image/jpeg:https://unitedskates-assets.sfo3.digitaloceanspaces.com/wp-content/uploads/sites/19/2022/05/Glow-Skate-1200x900-1.jpg
END:VEVENT
END:VCALENDAR