BEGIN:VCALENDAR
VERSION:2.0
PRODID:-//Rink 52 - Skateland Chandler - ECPv6.15.20//NONSGML v1.0//EN
CALSCALE:GREGORIAN
METHOD:PUBLISH
X-ORIGINAL-URL:https://www.unitedskates.com/skateland-chandler
X-WR-CALDESC:Events for Rink 52 - Skateland Chandler
REFRESH-INTERVAL;VALUE=DURATION:PT1H
X-Robots-Tag:noindex
X-PUBLISHED-TTL:PT1H
BEGIN:VTIMEZONE
TZID:America/Phoenix
BEGIN:STANDARD
TZOFFSETFROM:-0700
TZOFFSETTO:-0700
TZNAME:MST
DTSTART:20240101T000000
END:STANDARD
END:VTIMEZONE
BEGIN:VEVENT
DTSTART;TZID=America/Phoenix:20251031T180000
DTEND;TZID=America/Phoenix:20251031T210000
DTSTAMP:20260420T001359
CREATED:20241130T201056Z
LAST-MODIFIED:20251021T001352Z
UID:14675-1761933600-1761944400@www.unitedskates.com
SUMMARY:👻✨ K-Pop Halloween Glow Skate ✨👻
DESCRIPTION:👻✨ K-Pop Halloween Glow Skate ✨👻\nSkateland Chandler • Friday\, October 31 • 6:00pm–9:00pm \nThe Halloween fun doesn’t end after trick-or-treating — keep the night glowing with the ultimate Halloween roller skating party! Join us for a high-energy K-Pop Glow Skate featuring the hottest K-Pop hits\, anime vibes\, and a glowing rink full of spooky excitement. \n🎟 Admission: $14 in person / $13 online🛼 Skate Rental: $5👀 Spectator Fee: $4 \nClick Here to Purchase Your Tickets to Guarantee Admission  \n\n🌟 Event Highlights\n✨ Glow-Style Roller Skating all night long✨ K-Pop & Halloween Costume Contest — Dress to Play & Slay!✨ Great Glow Swords ⚔️✨ Soda Pop Bar 🥤✨ Derpy Churro Bites 🍩 \n\n⚡ Important Info\n✅ Wristguards are required for all skaters\, regardless of ability.✅ All guests (skating or non-skating) must have a completed liability waiver within 24 hours of the event. \n📍 Skateland Chandler – 1101 W Ray Rd\, Chandler\, AZ 85224📞 480-917-9444 • 🌐 www.skatelandchandler.com \n#SkatelandChandler #PublicSkate #FridayNightFun #RollerSkating #FamilyFun #Top40Hits #ChandlerAZ #SkateRental #BirthdayParties #WeekendFun #ChandlerEvents #SkatingInChandler #RollIntoFun #SkateTime #FamilyEntertainment #RollerSkatingFun
URL:https://www.unitedskates.com/skateland-chandler/event/%f0%9f%9a%a8-public-skate-every-friday-night-6-9pm-at-skateland-chandler-%f0%9f%9a%a8-2025-05-23-2025-10-31/
LOCATION:Skateland Chandler\, 1101 W. Ray Rd.\, Chandler\, AZ\, 85224\, United States
CATEGORIES:Family Events,Public Skates,Special Events
ATTACH;FMTTYPE=image/png:https://unitedskates-assets.sfo3.digitaloceanspaces.com/wp-content/uploads/sites/19/2024/11/Screenshot-2025-10-20-171153.png
END:VEVENT
END:VCALENDAR