BEGIN:VCALENDAR
VERSION:2.0
PRODID:-//Rink 52 - Skateland Chandler - ECPv6.15.20//NONSGML v1.0//EN
CALSCALE:GREGORIAN
METHOD:PUBLISH
X-ORIGINAL-URL:https://www.unitedskates.com/skateland-chandler
X-WR-CALDESC:Events for Rink 52 - Skateland Chandler
REFRESH-INTERVAL;VALUE=DURATION:PT1H
X-Robots-Tag:noindex
X-PUBLISHED-TTL:PT1H
BEGIN:VTIMEZONE
TZID:America/Phoenix
BEGIN:STANDARD
TZOFFSETFROM:-0700
TZOFFSETTO:-0700
TZNAME:MST
DTSTART:20240101T000000
END:STANDARD
END:VTIMEZONE
BEGIN:VEVENT
DTSTART;TZID=America/Phoenix:20251030T173000
DTEND;TZID=America/Phoenix:20251030T200000
DTSTAMP:20260420T001323
CREATED:20251020T211157Z
LAST-MODIFIED:20251020T211157Z
UID:15471-1761845400-1761854400@www.unitedskates.com
SUMMARY:👻Monster Skate Night💀
DESCRIPTION:Get ready for a spine-tingling night of thrills on wheels — Monster Skate Night is coming to Skateland Chandler! \n👻 Thursday\, October 30th🕔 5:30pm – 8:00pm💀 Admission: $22.00 per person(Includes skate rental\, slice of cheese pizza\, and Dracula Punch) \nThis is the ultimate Halloween skating celebration — packed with trick-or-treating fun right inside the rink and a costume contest where the most creatively creepy outfits will take center stage! Grab your squad\, rock your best costume\, and roll into a screaming-good time. \n📍 1101 W Ray Road\, Chandler\, AZ 85224📞 480-917-9444 • www.SkatelandChandler.com \n\nAdditional Information (Please Read Before Attending)\n✅ All guests must wear wristguards\, regardless of skating ability.✅ All guests entering the building — skating OR non-skating — must have a completed liability waiver within 24 hours of the event.✅ All guests ages 3–17\, skating or non-skating\, pay full admission. \n\nDon’t miss this frightfully fun night — costumes\, candy\, skating\, and spooky surprises await. Mark your calendar and roll into the Monster Madness! 🎃🛼
URL:https://www.unitedskates.com/skateland-chandler/event/%f0%9f%91%bbmonster-skate-night%f0%9f%92%80/
LOCATION:Skateland Chandler\, 1101 W. Ray Rd.\, Chandler\, AZ\, 85224\, United States
CATEGORIES:Family Events,Public Skates,Special Events
ATTACH;FMTTYPE=image/png:https://unitedskates-assets.sfo3.digitaloceanspaces.com/wp-content/uploads/sites/19/2025/10/Screenshot-2025-10-20-140759.png
END:VEVENT
END:VCALENDAR